{"text_format":"1","workbook":"xlsx","n_sheets":5,"sheets":["PRC Correction_PDMS_PAHs","PRC Correction_PDMS_PCBs","PRC Model","logKow for PAH","logKow for PCB"],"not_rendered":{"charts":7,"images":2,"macros":1,"external_links":0,"defined_names":1,"comments":2,"pivot_tables":0},"unopened":[],"bounds":{"document_bytes":16777216,"sheet_cells":100000,"rows_first":2000,"rows_last":500,"rows_between":2000,"halvings":0,"cell_chars":16384,"cell_head_chars":4096},"cells_cut":0,"cells_raw":0,"read":"whole","date_system":"1900"}

{"sheet":"PRC Correction_PDMS_PAHs","index":0,"n_rows":150,"n_cols":9,"rows_kept":150,"cut":false,"hidden":false,"merged":[[53,2,53,5],[30,5,30,8],[63,2,63,5],[37,5,37,8]]}
[]
[null,"Note: This Excel file can be used to calculate the PRC correction for PDMS."]
[null,"Please input parameters in all the highlighted cells "]
[null,"In this file, PAH16 are the target compounds and 4 dPAH are the PRCs as an example. "]
[]
[]
[null,"1. Select PRCs",null,null,null,"PRC parameters"]
[null,null,null,null,null,"PRC","logKow (SPARC Estimates)","logKf (Ghosh et al., 2014)"]
[null,"PRCs","logKow","logKf",null,"d10-fluoranthene",5.29,{"$f":"0.725*G9+0.479","v":4.3142499999999995}]
[null,"d10-fluoranthene",{"$f":"Findvalue(B10)","v":5.29},{"$f":"0.725*C10+0.479","v":4.3142499999999995},null,"d12-chrysene",5.9,{"$f":"0.725*G10+0.479","v":4.7565}]
[null,"d12-chrysene",{"$f":"Findvalue(B11)","v":5.9},{"$f":"0.725*C11+0.479","v":4.7565},null,"d12-benzo[b]fluoranthene",6.58,{"$f":"0.725*G11+0.479","v":5.2495000000000003}]
[null,"d12-benzo[b]fluoranthene",{"$f":"Findvalue(B12)","v":6.58},5.2495000000000003,null,"d14-dibenz[a]anthracene",7.39,5.8367499999999994]
[null,"d14-dibenz[a]anthracene",{"$f":"Findvalue(B13)","v":7.39},5.8367499999999994,null,"PCB C13 28*",5.67,4.5897499999999996]
[null,null,null,null,null,"PCB C13 52*",5.84,4.7130000000000001]
[null,null,null,null,null,"PCB C13 101*",6.38,5.1044999999999998]
[null,null,null,null,null,"PCB C13 138*",6.83,5.4307499999999997]
[null,null,null,null,null,"PCB C13 153*",6.92,5.4959999999999996]
[null,null,null,null,null,"PCB C13 180*",7.36,5.8150000000000004]
[null,null,null,null,null,"PCB C13 209*",8.18,6.4094999999999995]
[null,null,null,null,null,null,"* Kow values from Hawker and Connell, 1988"]
[]
[null,"2. Input parameters","Enter fiber dimensions, time of deployment ",null,"In addition, enter segment length and solvent volume for analysis and the measured concentrations in extract for PRCs both initially and after deployemnt"]
[]
[null,"PDMS fibers parameters"]
[null,"Outer diameter of the SPME fiber (um)",null,558.79999999999995]
[null,"Outer diameter of the SPME fiber (um)",null,486]
[null,"Time of deployment (days)",null,20]
[]
[null,"PRC C0 Samples parameters"]
[null,null,null,null,null,{"$f":"B10","v":"d10-fluoranthene"},{"$f":"B11","v":"d12-chrysene"},{"$f":"B12","v":"d12-benzo[b]fluoranthene"},{"$f":"B13","v":"d14-dibenz[a]anthracene"}]
[null,null,"PDMS Segment Length (cm)","Solvent Volume (L)","Dilution Factor","Extracted Concentrations"]
[null,"PRC Co Sample 1",2,{"$f":"0.00025","v":2.5000000000000001E-4},{"$f":"D32/(PI()*(($D$25/10^6)^2-($D$26/10^6)^2)/4*C32/100*1000)","v":209.24524054750421},43.86552602738049,90.095628863375964,75.662309788544206,36.993322407818269]
[null,"PRC Co Sample 2"]
[null,"PRC Co Sample 3"]
[]
[null,"Samples parameters"]
[null,null,null,null,null,{"$f":"B10","v":"d10-fluoranthene"},{"$f":"B11","v":"d12-chrysene"},{"$f":"B12","v":"d12-benzo[b]fluoranthene"},{"$f":"B13","v":"d14-dibenz[a]anthracene"}]
[null,null,"PDMS Segment Length (cm)","Solvent Volume (L)","Dilution Factor","Extracted Concentrations"]
[null,"Sample 1",4,{"$f":"0.00016","v":1.6000000000000001E-4},{"$f":"D39/(PI()*(($D$25/10^6)^2-($D$26/10^6)^2)/4*C39/100*1000)","v":66.95847697520135},14.108794921087293,55.844398055811546,79.7587632765579,48.730580508882397]
[null,"Sample 2"]
[null,"Sample 3"]
[null,"Sample 4"]
[null,"Sample 5"]
[]
[]
[]
[]
[]
[]
[]
[null,"3. Calculations"]
[]
[null,"Initial PRC concentrations"]
[null,null,"Concentrations (µg/L)"]
[null,null,{"$f":"B10","v":"d10-fluoranthene"},{"$f":"B11","v":"d12-chrysene"},{"$f":"B12","v":"d12-benzo[b]fluoranthene"},{"$f":"B13","v":"d14-dibenz[a]anthracene"}]
[null,"PRC Co Sample 1",{"$f":"F32*$E32/10^D$10","v":0.44517311670588683},{"$f":"G32*$E32/10^D$11","v":0.33026253445693782},{"$f":"H32*$E32/10^D$12","v":8.9132314402258925E-2},{"$f":"I32*$E32/10^D$13","v":1.1272725349069068E-2}]
[null,"PRC Co Sample 2"]
[null,"PRC Co Sample 3"]
[]
[null,"Avg PRC Co",{"$f":"AVERAGE(C56:C58)","v":0.44517311670588683},{"$f":"AVERAGE(D56:D58)","v":0.33026253445693782},{"$f":"AVERAGE(E56:E58)","v":8.9132314402258925E-2},{"$f":"AVERAGE(F56:F58)","v":1.1272725349069068E-2}]
[]
[]
[null," PRC concentrations in samples after equlibriation"]
[null,null,"Concentrations (µg/L)"]
[null,null,{"$f":"B10","v":"d10-fluoranthene"},{"$f":"B11","v":"d12-chrysene"},{"$f":"B12","v":"d12-benzo[b]fluoranthene"},{"$f":"B13","v":"d14-dibenz[a]anthracene"}]
[null,"Sample 1",{"$f":"IF(F39=\"\",\"\",F39*$E39/10^D$10)","v":4.5818987450430455E-2},{"$f":"IF(G39=\"\",\"\",G39*$E39/10^D$11)","v":6.5506618404681874E-2},{"$f":"IF(H39=\"\",\"\",H39*$E39/10^D$12)","v":3.0066576331891429E-2},{"$f":"IF(I39=\"\",\"\",I39*$E39/10^D$13)","v":4.751789042327129E-3}]
[null,"Sample 2",{"$f":"IF(F40=\"\",\"\",F40*$E40/10^D$10)","v":""},{"$f":"IF(G40=\"\",\"\",G40*$E40/10^D$11)","v":""},{"$f":"IF(H40=\"\",\"\",H40*$E40/10^D$12)","v":""},{"$f":"IF(I40=\"\",\"\",I40*$E40/10^D$13)","v":""}]
[null,"Sample 3",{"$f":"IF(F41=\"\",\"\",F41*$E41/10^D$10)","v":""},{"$f":"IF(G41=\"\",\"\",G41*$E41/10^D$11)","v":""},{"$f":"IF(H41=\"\",\"\",H41*$E41/10^D$12)","v":""},{"$f":"IF(I41=\"\",\"\",I41*$E41/10^D$13)","v":""}]
[]
[null,"Avg Sample PRC Conc.",{"$f":"AVERAGE(C66:C68)","v":4.5818987450430455E-2},{"$f":"AVERAGE(D66:D68)","v":6.5506618404681874E-2},{"$f":"AVERAGE(E66:E68)","v":3.0066576331891429E-2},{"$f":"AVERAGE(F66:F68)","v":4.751789042327129E-3}]
[]
[]
[null,"C/Co caculation for PRCs"]
[null,"C/Co",{"$f":"B10","v":"d10-fluoranthene"},{"$f":"B11","v":"d12-chrysene"},{"$f":"B12","v":"d12-benzo[b]fluoranthene"},{"$f":"B13","v":"d14-dibenz[a]anthracene"}]
[null,"Sample 1",{"$f":"C66/C$56","v":0.10292397660818713},{"$f":"D66/D$56","v":0.19834710743801651},0.33732520616708495,0.42152974504249274]
[null,"Sample 2"]
[null,"Sample 3"]
[]
[null,"Avg",{"$f":"AVERAGE(C75:C77)","v":0.10292397660818713},{"$f":"AVERAGE(D75:D77)","v":0.19834710743801651},{"$f":"AVERAGE(E75:E77)","v":0.33732520616708495},{"$f":"AVERAGE(F75:F77)","v":0.42152974504249274}]
[]
[]
[null,"fss caculation for PRCs","fss=1-C/Co"]
[null,"fss",{"$f":"B10","v":"d10-fluoranthene"},{"$f":"B11","v":"d12-chrysene"},{"$f":"B12","v":"d12-benzo[b]fluoranthene"},{"$f":"B13","v":"d14-dibenz[a]anthracene"}]
[null,"Sample 1",{"$f":"1-C75","v":0.89707602339181292},{"$f":"1-D75","v":0.80165289256198347},0.66267479383291505,0.57847025495750726]
[null,"Sample 2"]
[null,"Sample 3"]
[]
[null,"Avg",{"$f":"AVERAGE(C84:C86)","v":0.89707602339181292},{"$f":"AVERAGE(D84:D86)","v":0.80165289256198347},{"$f":"AVERAGE(E84:E86)","v":0.66267479383291505},{"$f":"AVERAGE(F84:F86)","v":0.57847025495750726}]
[]
[]
[null,"RD caculation for PRCs"]
[null,"logkow",{"$f":"C10","v":5.29},{"$f":"C11","v":5.9},{"$f":"C12","v":6.58},{"$f":"C13","v":7.39}]
[null,"RD (m2/d)",{"$f":"B10","v":"d10-fluoranthene"},{"$f":"B11","v":"d12-chrysene"},{"$f":"B12","v":"d12-benzo[b]fluoranthene"},{"$f":"B13","v":"d14-dibenz[a]anthracene"}]
[null,"Sample 1",{"$f":"VLOOKUP(C75,'PRC Model'!$D$4:$E$687,2,TRUE)*'PRC Model'!$H$3^2/'PRC Model'!$H$4*(10^'PRC Correction_PDMS_PAHs'!$D$10)^2","v":0.7383929950660939},{"$f":"VLOOKUP(D75,'PRC Model'!$D$4:$E$687,2,TRUE)*'PRC Model'!$H$3^2/'PRC Model'!$H$4*(10^'PRC Correction_PDMS_PAHs'!D$11)^2","v":1.3583097238189021},{"$f":"VLOOKUP(E75,'PRC Model'!$D$4:$E$687,2,TRUE)*'PRC Model'!$H$3^2/'PRC Model'!$H$4*(10^'PRC Correction_PDMS_PAHs'!D$12)^2","v":3.6533922986616085},{"$f":"VLOOKUP(F75,'PRC Model'!$D$4:$E$687,2,TRUE)*'PRC Model'!$H$3^2/'PRC Model'!$H$4*(10^'PRC Correction_PDMS_PAHs'!D$13)^2","v":28.938244290903143}]
[null,"Sample 2"]
[null,"Sample 3"]
[]
[null,"Avg",{"$f":"AVERAGE(C94:C96)","v":0.7383929950660939},{"$f":"AVERAGE(D94:D96)","v":1.3583097238189021},{"$f":"AVERAGE(E94:E96)","v":3.6533922986616085},{"$f":"AVERAGE(F94:F96)","v":28.938244290903143}]
[]
[]
[null,"LogRD caculation for PRCs"]
[]
[null,"logRD (m2/d)",{"$f":"B10","v":"d10-fluoranthene"},{"$f":"B11","v":"d12-chrysene"},{"$f":"B12","v":"d12-benzo[b]fluoranthene"},{"$f":"B13","v":"d14-dibenz[a]anthracene"}]
[null,"Sample 1",{"$f":"LOG(C94)","v":-0.13171243199646146},0.13299880971514424,0.56269630894785805,1.461472178548646]
[null,"Sample 2"]
[null,"Sample 3"]
[]
[null,"Avg",{"$f":"AVERAGE(C104:C106)","v":-0.13171243199646146},{"$f":"AVERAGE(D104:D106)","v":0.13299880971514424},{"$f":"AVERAGE(E104:E106)","v":0.56269630894785805},{"$f":"AVERAGE(F104:F106)","v":1.461472178548646}]
[]
[]
[]
[null,"4. Results"]
[null,null,null,"Note: plot logKow vs. logRD for sample 1, get a trend line, of which the parameters are usd in calculating fss of target compounds"]
[null,null,null,"Note: can calculated the fss for bothe averaged sample data and individual sample data."]
[]
[]
[]
[]
[]
[]
[]
[]
[]
[]
[]
[]
[]
[]
[]
[]
[]
[null,null,null,"alpha",0.75649999999999995,"Enter slope and intercept of best fit line here"]
[null,null,null,"beta",-4.2519999999999998,"Currently using average"]
[null,"fss caculation for target compounds"]
[null,null,null,null,"RD (m2/d)","fss"]
[null,"Target compounds","logKow","logKf","Sample 1","Sample 1"]
[null,"Naphthalene",3.41,{"$f":"0.725*C137+0.479","v":2.9512499999999999},{"$f":"10^E$133*(10^$C137)^E$132","v":2.1264981048307506E-2},{"$f":"1-EXP(E137*'PRC Model'!$H$4/(10^'PRC Correction_PDMS_PAHs'!$D137)^2/'PRC Model'!$H$3^2)*ERFC(SQRT(E137*'PRC Model'!$H$4/(10^'PRC Correction_PDMS_PAHs'!$D137)^2/'PRC Model'!$H$3^2))","v":0.97371520121420752}]
[null,"Fluorene",4.2,{"$f":"0.725*C138+0.479","v":3.524},8.4197655760917603E-2,{"$f":"1-EXP(E138*'PRC Model'!$H$4/(10^'PRC Correction_PDMS_PAHs'!$D138)^2/'PRC Model'!$H$3^2)*ERFC(SQRT(E138*'PRC Model'!$H$4/(10^'PRC Correction_PDMS_PAHs'!$D138)^2/'PRC Model'!$H$3^2))","v":0.95074433068640052}]
[null,"Acenaphthene",4.0599999999999996,3.4224999999999999,6.5976610466308053E-2,{"$f":"1-EXP(E139*'PRC Model'!$H$4/(10^'PRC Correction_PDMS_PAHs'!$D139)^2/'PRC Model'!$H$3^2)*ERFC(SQRT(E139*'PRC Model'!$H$4/(10^'PRC Correction_PDMS_PAHs'!$D139)^2/'PRC Model'!$H$3^2))","v":0.95592019231500813}]
[null,"Phenanthrene",4.74,3.9155000000000002,0.21568006214960128,{"$f":"1-EXP(E140*'PRC Model'!$H$4/(10^'PRC Correction_PDMS_PAHs'!$D140)^2/'PRC Model'!$H$3^2)*ERFC(SQRT(E140*'PRC Model'!$H$4/(10^'PRC Correction_PDMS_PAHs'!$D140)^2/'PRC Model'!$H$3^2))","v":0.9245795481598742}]
[null,"Anthracene",4.6900000000000004,3.8792500000000003,0.1976901359178698,{"$f":"1-EXP(E141*'PRC Model'!$H$4/(10^'PRC Correction_PDMS_PAHs'!$D141)^2/'PRC Model'!$H$3^2)*ERFC(SQRT(E141*'PRC Model'!$H$4/(10^'PRC Correction_PDMS_PAHs'!$D141)^2/'PRC Model'!$H$3^2))","v":0.92748258893731439}]
[null,"Fluoranthene",5.29,4.3142499999999995,0.56219243844707767,{"$f":"1-EXP(E142*'PRC Model'!$H$4/(10^'PRC Correction_PDMS_PAHs'!$D142)^2/'PRC Model'!$H$3^2)*ERFC(SQRT(E142*'PRC Model'!$H$4/(10^'PRC Correction_PDMS_PAHs'!$D142)^2/'PRC Model'!$H$3^2))","v":0.88438069953735254}]
[null,"Pyrene",5.25,4.2852499999999996,0.52435450064829692,{"$f":"1-EXP(E143*'PRC Model'!$H$4/(10^'PRC Correction_PDMS_PAHs'!$D143)^2/'PRC Model'!$H$3^2)*ERFC(SQRT(E143*'PRC Model'!$H$4/(10^'PRC Correction_PDMS_PAHs'!$D143)^2/'PRC Model'!$H$3^2))","v":0.88787708284479505}]
[null,"Chrysene",5.9,4.7565,1.6268593212915969,{"$f":"1-EXP(E144*'PRC Model'!$H$4/(10^'PRC Correction_PDMS_PAHs'!$D144)^2/'PRC Model'!$H$3^2)*ERFC(SQRT(E144*'PRC Model'!$H$4/(10^'PRC Correction_PDMS_PAHs'!$D144)^2/'PRC Model'!$H$3^2))","v":0.81748551143801684}]
[null,"Benz[a]anthracene",5.85,4.7202500000000001,1.491162591200986,{"$f":"1-EXP(E145*'PRC Model'!$H$4/(10^'PRC Correction_PDMS_PAHs'!$D145)^2/'PRC Model'!$H$3^2)*ERFC(SQRT(E145*'PRC Model'!$H$4/(10^'PRC Correction_PDMS_PAHs'!$D145)^2/'PRC Model'!$H$3^2))","v":0.82400428386023761}]
[null,"Benzo[b]fluoranthene",6.58,5.2495000000000003,5.3182653222843514,{"$f":"1-EXP(E146*'PRC Model'!$H$4/(10^'PRC Correction_PDMS_PAHs'!$D146)^2/'PRC Model'!$H$3^2)*ERFC(SQRT(E146*'PRC Model'!$H$4/(10^'PRC Correction_PDMS_PAHs'!$D146)^2/'PRC Model'!$H$3^2))","v":0.70919382367913131}]
[null,"Benzo[k]fluoranthene",6.5,5.1914999999999996,4.6264726593503491,{"$f":"1-EXP(E147*'PRC Model'!$H$4/(10^'PRC Correction_PDMS_PAHs'!$D147)^2/'PRC Model'!$H$3^2)*ERFC(SQRT(E147*'PRC Model'!$H$4/(10^'PRC Correction_PDMS_PAHs'!$D147)^2/'PRC Model'!$H$3^2))","v":0.7237856202448878}]
[null,"Benzo[a]pyrene",6.54,5.2205000000000004,4.9603234883140059,{"$f":"1-EXP(E148*'PRC Model'!$H$4/(10^'PRC Correction_PDMS_PAHs'!$D148)^2/'PRC Model'!$H$3^2)*ERFC(SQRT(E148*'PRC Model'!$H$4/(10^'PRC Correction_PDMS_PAHs'!$D148)^2/'PRC Model'!$H$3^2))","v":0.7165472716599115}]
[null,"Dibenz[a,h]anthracene",7.39,5.8367499999999994,21.803941091095314,{"$f":"1-EXP(E149*'PRC Model'!$H$4/(10^'PRC Correction_PDMS_PAHs'!$D149)^2/'PRC Model'!$H$3^2)*ERFC(SQRT(E149*'PRC Model'!$H$4/(10^'PRC Correction_PDMS_PAHs'!$D149)^2/'PRC Model'!$H$3^2))","v":0.54152472457087197}]
[null,"Benzo[ghi]perylene+Indeno[1,2,3-cd]pyrene",7.04,5.5830000000000002,11.851136491679897,{"$f":"1-EXP(E150*'PRC Model'!$H$4/(10^'PRC Correction_PDMS_PAHs'!$D150)^2/'PRC Model'!$H$3^2)*ERFC(SQRT(E150*'PRC Model'!$H$4/(10^'PRC Correction_PDMS_PAHs'!$D150)^2/'PRC Model'!$H$3^2))","v":0.61742402267690899}]

{"sheet":"PRC Correction_PDMS_PCBs","index":1,"n_rows":164,"n_cols":11,"rows_kept":164,"cut":false,"hidden":false,"merged":[[53,2,53,5],[63,2,63,5]]}
[]
[null,"Note: This Excel file can be used to calculate the PRC correction for PDMS."]
[null,"Please input parameters in all the highlighted cells "]
[null,"In this file, PCBs are the target compounds and 4 PCB C13 are the PRCs as an example. "]
[]
[]
[null,"1. Select PRCs",null,null,null,"PRC parameters"]
[null,null,null,null,null,"PRC","logKow (SPARC Estimates)","logKf (Ghosh et al., 2014)"]
[null,"PRCs","logKow","logKf",null,"d10-fluoranthene",5.29,{"$f":"0.947*G9-0.017","v":4.9926299999999992}]
[null,"PCB C13 28*",{"$f":"Findvalue(B10)","v":5.67},{"$f":"0.947*C10-0.017","v":5.3524899999999995},null,"d12-chrysene",5.9,{"$f":"0.947*G10-0.017","v":5.5702999999999996}]
[null,"PCB C13 52*",5.84,{"$f":"0.947*C11-0.017","v":5.5134799999999995},null,"d12-benzo[b]fluoranthene",6.58,6.2142599999999995]
[null,"PCB C13 101*",6.38,6.0248599999999994,null,"d14-dibenz[a]anthracene",7.39,6.9813299999999989]
[null,"PCB C13 138*",6.83,6.4510099999999992,null,"PCB C13 28*",5.67,5.3524899999999995]
[null,"PCB C13 153*",6.92,6.5362399999999994,null,"PCB C13 52*",5.84,5.5134799999999995]
[null,"PCB C13 180*",7.36,6.9529199999999998,null,"PCB C13 101*",6.38,6.0248599999999994]
[null,null,null,null,null,"PCB C13 138*",6.83,6.4510099999999992]
[null,null,null,null,null,"PCB C13 153*",6.92,6.5362399999999994]
[null,null,null,null,null,"PCB C13 180*",7.36,6.9529199999999998]
[null,null,null,null,null,"PCB C13 209*",8.18,7.7294599999999987]
[null,null,null,null,null,null,"* Kow values from Hawker and Connell, 1988"]
[]
[null,"2. Input parameters","Enter fiber dimensions, time of deployment on PAH sheet",null,"In addition, enter segment length and solvent volume for analysis and the measured concentrations in extract for PRCs both initially and after deployemnt"]
[]
[null,"PDMS fibers parameters"]
[null,"Outer diameter of the SPME fiber (um)",null,{"$f":"'PRC Correction_PDMS_PAHs'!D25","v":558.79999999999995}]
[null,"Outer diameter of the SPME fiber (um)",null,{"$f":"'PRC Correction_PDMS_PAHs'!D26","v":486}]
[null,"Time of deployment (days)",null,{"$f":"'PRC Correction_PDMS_PAHs'!D27","v":20}]
[]
[null,"PRC C0 Samples parameters"]
[null,null,null,null,null,{"$f":"B10","v":"PCB C13 28*"},{"$f":"B11","v":"PCB C13 52*"},{"$f":"B12","v":"PCB C13 101*"},{"$f":"B13","v":"PCB C13 138*"},{"$f":"B14","v":"PCB C13 153*"},{"$f":"B15","v":"PCB C13 180*"}]
[null,null,"PDMS Segment Length (cm)","Solvent Volume (L)","Dilution Factor","Extracted Concentrations"]
[null,"PRC Co Sample 1",5,{"$f":"0.0001","v":1E-4},{"$f":"D32/(PI()*(($D$25/10^6)^2-($D$26/10^6)^2)/4*C32/100*1000)","v":33.479238487600675},51.455243233707748,49.364013588721129,53.550671011066697,49.309485224172661,49.246109426729817,48.23586428603916]
[null,"PRC Co Sample 2",5,1E-4,{"$f":"D33/(PI()*(($D$25/10^6)^2-($D$26/10^6)^2)/4*C33/100*1000)","v":33.479238487600675},50,50,50,50,50,50]
[null,"PRC Co Sample 3",5,1E-4,33.479238487600675,50,50,50,50,50,50]
[]
[null,"Samples parameters"]
[null,null,null,null,null,{"$f":"B10","v":"PCB C13 28*"},{"$f":"B11","v":"PCB C13 52*"},{"$f":"B12","v":"PCB C13 101*"},{"$f":"B13","v":"PCB C13 138*"},{"$f":"B14","v":"PCB C13 153*"},{"$f":"B15","v":"PCB C13 180*"}]
[null,null,"PDMS Segment Length (cm)","Solvent Volume (L)","Dilution Factor","Extracted Concentrations"]
[null,"Sample 1",5,{"$f":"0.0001","v":1E-4},{"$f":"D39/(PI()*(($D$25/10^6)^2-($D$26/10^6)^2)/4*C39/100*1000)","v":33.479238487600675},18.282074262873731,24.059836156907068,31.359099185700263,32.629214546606001,30.786870729687333,37.152296416169733]
[null,"Sample 2",5,1E-4,{"$f":"D40/(PI()*(($D$25/10^6)^2-($D$26/10^6)^2)/4*C40/100*1000)","v":33.479238487600675},18,25,32,33,33,35]
[null,"Sample 3",5,1E-4,33.479238487600675,18,24,33,33,32,36]
[null,"Sample 4"]
[null,"Sample 5"]
[]
[]
[]
[]
[]
[]
[]
[null,"3. Calculations"]
[]
[null,"Initial PRC concentrations"]
[null,null,"Concentrations (µg/L)"]
[null,null,{"$f":"B10","v":"PCB C13 28*"},{"$f":"B11","v":"PCB C13 52*"},{"$f":"B12","v":"PCB C13 101*"},{"$f":"B13","v":"PCB C13 138*"},{"$f":"B14","v":"PCB C13 153*"},{"$f":"B15","v":"PCB C13 180*"}]
[null,"PRC Co Sample 1",{"$f":"F32*$E32/10^D$10","v":7.6509472296635867E-3},{"$f":"G32*$E32/10^D$11","v":5.066476519318755E-3},{"$f":"H32*$E32/10^D$12","v":1.6930917290426128E-3},{"$f":"I32*$E32/10^D$13","v":5.8438093601466162E-4},{"$f":"J32*$E32/10^D$14","v":4.7963127800705575E-4},{"$f":"K32*$E32/10^D$15","v":1.799805752790319E-4}]
[null,"PRC Co Sample 2",{"$f":"F33*$E33/10^D$10","v":7.4345652151650279E-3},{"$f":"G33*$E33/10^D$11","v":5.1317509973260785E-3},{"$f":"H33*$E33/10^D$12","v":1.5808314789302277E-3},{"$f":"I33*$E33/10^D$13","v":5.925644258482183E-4},{"$f":"J33*$E33/10^D$14","v":4.8697377680227601E-4},{"$f":"K33*$E33/10^D$15","v":1.8656302519194564E-4}]
[null,"PRC Co Sample 3",7.4345652151650279E-3,5.1317509973260785E-3,1.5808314789302277E-3,5.925644258482183E-4,4.8697377680227601E-4,1.8656302519194564E-4]
[]
[null,"Avg PRC Co",{"$f":"AVERAGE(C56:C58)","v":7.5066925533312139E-3},{"$f":"AVERAGE(D56:D58)","v":5.1099928379903037E-3},{"$f":"AVERAGE(E56:E58)","v":1.6182515623010228E-3},{"$f":"AVERAGE(F56:F58)","v":5.8983659590369937E-4},{"$f":"AVERAGE(G56:G58)","v":4.8452627720386928E-4},1.8436887522097441E-4]
[]
[]
[null," PRC concentrations in samples after equlibriation"]
[null,null,"Concentrations (µg/L)"]
[null,null,{"$f":"B10","v":"PCB C13 28*"},{"$f":"B11","v":"PCB C13 52*"},{"$f":"B12","v":"PCB C13 101*"},{"$f":"B13","v":"PCB C13 138*"},{"$f":"B14","v":"PCB C13 153*"},{"$f":"B15","v":"PCB C13 180*"}]
[null,"Sample 1",{"$f":"IF(F39=\"\",\"\",F39*$E39/10^D$10)","v":2.7183854675164975E-3},{"$f":"IF(G39=\"\",\"\",G39*$E39/10^D$11)","v":2.4693817638741979E-3},{"$f":"IF(H39=\"\",\"\",H39*$E39/10^D$12)","v":9.9146902287300517E-4},{"$f":"IF(I39=\"\",\"\",I39*$E39/10^D$13)","v":3.8669823567375833E-4},{"$f":"IF(J39=\"\",\"\",J39*$E39/10^D$14)","v":2.9984797430318566E-4},{"$f":"IF(K39=\"\",\"\",K39*$E39/10^D$15)","v":1.3862489624457013E-4}]
[null,"Sample 2",{"$f":"IF(F40=\"\",\"\",F40*$E40/10^D$10)","v":2.6764434774594107E-3},{"$f":"IF(G40=\"\",\"\",G40*$E40/10^D$11)","v":2.5658754986630393E-3},{"$f":"IF(H40=\"\",\"\",H40*$E40/10^D$12)","v":1.0117321465153459E-3},{"$f":"IF(I40=\"\",\"\",I40*$E40/10^D$13)","v":3.9109252105982414E-4},{"$f":"IF(J40=\"\",\"\",J40*$E40/10^D$14)","v":3.214026926895022E-4},{"$f":"IF(K40=\"\",\"\",K40*$E40/10^D$15)","v":1.3059411763436196E-4}]
[null,"Sample 3",{"$f":"IF(F41=\"\",\"\",F41*$E41/10^D$10)","v":2.6764434774594107E-3},{"$f":"IF(G41=\"\",\"\",G41*$E41/10^D$11)","v":2.463240478716518E-3},{"$f":"IF(H41=\"\",\"\",H41*$E41/10^D$12)","v":1.0433487760939503E-3},{"$f":"IF(I41=\"\",\"\",I41*$E41/10^D$13)","v":3.9109252105982414E-4},3.1166321715345668E-4,1.3432537813820087E-4]
[]
[null,"Avg Sample PRC Conc.",{"$f":"AVERAGE(C66:C68)","v":2.6904241408117727E-3},{"$f":"AVERAGE(D66:D68)","v":2.4994992470845851E-3},{"$f":"AVERAGE(E66:E68)","v":1.0155166484941004E-3},{"$f":"AVERAGE(F66:F68)","v":3.8962775926446887E-4},{"$f":"AVERAGE(G66:G68)","v":3.1097129471538155E-4},1.3451479733904434E-4]
[]
[]
[null,"C/Co caculation for PRCs"]
[null,"C/Co",{"$f":"B10","v":"PCB C13 28*"},{"$f":"B11","v":"PCB C13 52*"},{"$f":"B12","v":"PCB C13 101*"},{"$f":"B13","v":"PCB C13 138*"},{"$f":"B14","v":"PCB C13 153*"},{"$f":"B15","v":"PCB C13 180*"}]
[null,"Sample 1",{"$f":"C66/C$60","v":0.3621282539818646},0.48324564087752714,0.61267916927774591,0.65560231148643966,0.61884770426397662,0.75188882113871958]
[null,"Sample 2",0.35654097439646659,0.50212898139249962,0.62520078465226048,0.66305231614295512,0.66333387436543267,0.70833060882884391]
[null,"Sample 3",0.35654097439646659,0.48204382213679964,0.64473830917264352,0.66305231614295512,0.6432328478695104,0.7285686262239538]
[]
[null,"Avg",{"$f":"AVERAGE(C75:C77)","v":0.35840340092493256},{"$f":"AVERAGE(D75:D77)","v":0.48913948146894209},{"$f":"AVERAGE(E75:E77)","v":0.62753942103421667},{"$f":"AVERAGE(F75:F77)","v":0.66056898125744989},{"$f":"AVERAGE(G75:G77)","v":0.64180480883297319},0.72959601873050584]
[]
[]
[null,"fss caculation for PRCs","fss=1-C/Co"]
[null,"fss",{"$f":"B10","v":"PCB C13 28*"},{"$f":"B11","v":"PCB C13 52*"},{"$f":"B12","v":"PCB C13 101*"},{"$f":"B13","v":"PCB C13 138*"},{"$f":"B14","v":"PCB C13 153*"},{"$f":"B15","v":"PCB C13 180*"}]
[null,"Sample 1",{"$f":"1-C75","v":0.63787174601813534},{"$f":"1-D75","v":0.51675435912247281},0.38732083072225409,0.34439768851356034,0.38115229573602338,0.24811117886128042]
[null,"Sample 2",{"$f":"1-C76","v":0.64345902560353341},0.49787101860750038,0.37479921534773952,0.33694768385704488,0.33666612563456733,{"$f":"1-H76","v":0.29166939117115609}]
[null,"Sample 3",0.64345902560353341,0.51795617786320036,0.35526169082735648,0.33694768385704488,0.3567671521304896,{"$f":"1-H77","v":0.2714313737760462}]
[]
[null,"Avg",{"$f":"AVERAGE(C84:C86)","v":0.6415965990750675},{"$f":"AVERAGE(D84:D86)","v":0.51086051853105785},{"$f":"AVERAGE(E84:E86)","v":0.37246057896578338},{"$f":"AVERAGE(F84:F86)","v":0.33943101874254999},{"$f":"AVERAGE(G84:G86)","v":0.35819519116702675},{"$f":"AVERAGE(H84:H86)","v":0.27040398126949422}]
[]
[]
[null,"RD caculation for PRCs"]
[null,"logkow",{"$f":"C10","v":5.67},{"$f":"C11","v":5.84},{"$f":"C12","v":6.38},{"$f":"C13","v":6.83},{"$f":"C14","v":6.92},{"$f":"C15","v":7.36}]
[null,"RD (m2/d)",{"$f":"B10","v":"PCB C13 28*"},{"$f":"B11","v":"PCB C13 52*"},{"$f":"B12","v":"PCB C13 101*"},{"$f":"B13","v":"PCB C13 138*"},{"$f":"B14","v":"PCB C13 153*"},{"$f":"B15","v":"PCB C13 180*"}]
[null,"Sample 1",{"$f":"VLOOKUP(C75,'PRC Model'!$D$4:$E$687,2,TRUE)*'PRC Model'!$H$3^2/'PRC Model'!$H$4*(10^D$10)^2","v":4.8138234846217864},{"$f":"VLOOKUP(D75,'PRC Model'!$D$4:$E$687,2,TRUE)*'PRC Model'!$H$3^2/'PRC Model'!$H$4*(10^D$11)^2","v":4.1276333806419077},{"$f":"VLOOKUP(E75,'PRC Model'!$D$4:$E$687,2,TRUE)*'PRC Model'!$H$3^2/'PRC Model'!$H$4*(10^D$12)^2","v":16.619818573480522},{"$f":"VLOOKUP(F75,'PRC Model'!$D$4:$E$687,2,TRUE)*'PRC Model'!$H$3^2/'PRC Model'!$H$4*(10^D$13)^2","v":84.092584690722958},{"$f":"VLOOKUP(G75,'PRC Model'!$D$4:$E$687,2,TRUE)*'PRC Model'!$H$3^2/'PRC Model'!$H$4*(10^D$14)^2","v":166.93067120488635},{"$f":"VLOOKUP(H75,'PRC Model'!$D$4:$E$687,2,TRUE)*'PRC Model'!$H$3^2/'PRC Model'!$H$4*(10^D$15)^2","v":354.25819505051464}]
[null,"Sample 2",{"$f":"VLOOKUP(C76,'PRC Model'!$D$4:$E$687,2,TRUE)*'PRC Model'!$H$3^2/'PRC Model'!$H$4*(10^D$10)^2","v":5.0486441424082162},{"$f":"VLOOKUP(D76,'PRC Model'!$D$4:$E$687,2,TRUE)*'PRC Model'!$H$3^2/'PRC Model'!$H$4*(10^D$11)^2","v":3.6039783995156958},{"$f":"VLOOKUP(E76,'PRC Model'!$D$4:$E$687,2,TRUE)*'PRC Model'!$H$3^2/'PRC Model'!$H$4*(10^D$12)^2","v":15.191552914822044},{"$f":"VLOOKUP(F76,'PRC Model'!$D$4:$E$687,2,TRUE)*'PRC Model'!$H$3^2/'PRC Model'!$H$4*(10^D$13)^2","v":79.472113004419484},{"$f":"VLOOKUP(G76,'PRC Model'!$D$4:$E$687,2,TRUE)*'PRC Model'!$H$3^2/'PRC Model'!$H$4*(10^D$14)^2","v":117.6724403575428},{"$f":"VLOOKUP(H76,'PRC Model'!$D$4:$E$687,2,TRUE)*'PRC Model'!$H$3^2/'PRC Model'!$H$4*(10^D$15)^2","v":540.70987665604878}]
[null,"Sample 3",{"$f":"VLOOKUP(C77,'PRC Model'!$D$4:$E$687,2,TRUE)*'PRC Model'!$H$3^2/'PRC Model'!$H$4*(10^D$10)^2","v":5.0486441424082162},{"$f":"VLOOKUP(D77,'PRC Model'!$D$4:$E$687,2,TRUE)*'PRC Model'!$H$3^2/'PRC Model'!$H$4*(10^D$11)^2","v":4.1584366148258027},{"$f":"VLOOKUP(E77,'PRC Model'!$D$4:$E$687,2,TRUE)*'PRC Model'!$H$3^2/'PRC Model'!$H$4*(10^D$12)^2","v":12.984233260531662},{"$f":"VLOOKUP(F77,'PRC Model'!$D$4:$E$687,2,TRUE)*'PRC Model'!$H$3^2/'PRC Model'!$H$4*(10^D$13)^2","v":79.472113004419484},{"$f":"VLOOKUP(G77,'PRC Model'!$D$4:$E$687,2,TRUE)*'PRC Model'!$H$3^2/'PRC Model'!$H$4*(10^D$14)^2","v":138.19670321060261},{"$f":"VLOOKUP(H77,'PRC Model'!$D$4:$E$687,2,TRUE)*'PRC Model'!$H$3^2/'PRC Model'!$H$4*(10^D$15)^2","v":447.48403585328174}]
[]
[null,"Avg",{"$f":"AVERAGE(C94:C96)","v":4.9703705898127399},{"$f":"AVERAGE(D94:D96)","v":3.9633494649944687},{"$f":"AVERAGE(E94:E96)","v":14.93186824961141},{"$f":"AVERAGE(F94:F96)","v":81.012270233187323},{"$f":"AVERAGE(G94:G96)","v":140.93327159101059},447.48403585328174]
[]
[]
[null,"LogRD caculation for PRCs"]
[]
[null,"logRD (m2/d)",{"$f":"B10","v":"PCB C13 28*"},{"$f":"B11","v":"PCB C13 52*"},{"$f":"B12","v":"PCB C13 101*"},{"$f":"B13","v":"PCB C13 138*"},{"$f":"B14","v":"PCB C13 153*"},{"$f":"B15","v":"PCB C13 180*"}]
[null,"Sample 1",{"$f":"LOG(C94)","v":0.68249016133157314},{"$f":"LOG(D94)","v":0.61570111598470234},1.2206262785957251,1.9247577012689514,2.2225361396226062,2.5493199055646674]
[null,"Sample 2",{"$f":"LOG(C95)","v":0.70317476019142422},0.55678217936605634,1.1816021706940185,1.9002147601914254,2.0706747601914257,2.7329643025107946]
[null,"Sample 3",{"$f":"LOG(C96)","v":0.70317476019142422},0.61893008611490086,1.113416308947857,1.9002147601914254,2.1404976827305005,2.6507775463234444]
[]
[null,"Avg",{"$f":"AVERAGE(C104:C106)","v":0.69627989390480716},{"$f":"AVERAGE(D104:D106)","v":0.59713779382188648},{"$f":"AVERAGE(E104:E106)","v":1.1718815860792002},{"$f":"AVERAGE(F104:F106)","v":1.9083957405506009},{"$f":"AVERAGE(G104:G106)","v":2.144569527514844},2.6443539181329689]
[]
[]
[]
[null,"4. Results"]
[null,null,null,"Note: plot logKow vs. logRD for sample 1, get a trend line, of which the parameters are usd in calculating fss of target compounds"]
[null,null,null,"Note: can calculated the fss for bothe averaged sample data and individual sample data.",null,null,"Delete outlier or unrepresentative data if needed"]
[]
[]
[]
[]
[]
[]
[]
[]
[]
[]
[]
[]
[]
[]
[]
[]
[]
[null,null,null,"alpha",1.2441,"Enter slope and intercept of best fit line here"]
[null,null,null,"beta",-6.5595999999999997,"Currently using average"]
[]
[null,"fss caculation for target compounds"]
[null,null,null,null,"RD (m2/d)","fss"]
[null,"Target compounds","logKow","logKf","Sample 1","Sample 1"]
[null,7,5.07,{"$f":"0.947*C138-0.017","v":4.7842899999999995},{"$f":"10^E$133*(10^C138)^E$132","v":0.55974084618226982},{"$f":"1-EXP(E138*'PRC Model'!$H$4/(10^'PRC Correction_PDMS_PCBs'!$D138)^2/'PRC Model'!$H$3^2)*ERFC(SQRT(E138*'PRC Model'!$H$4/(10^'PRC Correction_PDMS_PCBs'!$D138)^2/'PRC Model'!$H$3^2))","v":0.69638033796799126}]
[null,9,5.0599999999999996,{"$f":"0.947*C139-0.017","v":4.7748199999999992},0.54393374154071195,{"$f":"1-EXP(E139*'PRC Model'!$H$4/(10^'PRC Correction_PDMS_PCBs'!$D139)^2/'PRC Model'!$H$3^2)*ERFC(SQRT(E139*'PRC Model'!$H$4/(10^'PRC Correction_PDMS_PCBs'!$D139)^2/'PRC Model'!$H$3^2))","v":0.69815743051661872}]
[null,10,4.84,4.5664799999999994,0.28963030392926309,{"$f":"1-EXP(E140*'PRC Model'!$H$4/(10^'PRC Correction_PDMS_PCBs'!$D140)^2/'PRC Model'!$H$3^2)*ERFC(SQRT(E140*'PRC Model'!$H$4/(10^'PRC Correction_PDMS_PCBs'!$D140)^2/'PRC Model'!$H$3^2))","v":0.73568812818721385}]
[null,17,5.25,4.9547499999999998,0.93740010968304766,{"$f":"1-EXP(E141*'PRC Model'!$H$4/(10^'PRC Correction_PDMS_PCBs'!$D141)^2/'PRC Model'!$H$3^2)*ERFC(SQRT(E141*'PRC Model'!$H$4/(10^'PRC Correction_PDMS_PCBs'!$D141)^2/'PRC Model'!$H$3^2))","v":0.6634285940150777}]
[null,27,5.44,5.1346799999999995,1.6154889805967603,{"$f":"1-EXP(E142*'PRC Model'!$H$4/(10^'PRC Correction_PDMS_PCBs'!$D142)^2/'PRC Model'!$H$3^2)*ERFC(SQRT(E142*'PRC Model'!$H$4/(10^'PRC Correction_PDMS_PCBs'!$D142)^2/'PRC Model'!$H$3^2))","v":0.62689066083889733}]
[null,32,5.44,5.1346799999999995,1.6154889805967603,{"$f":"1-EXP(E143*'PRC Model'!$H$4/(10^'PRC Correction_PDMS_PCBs'!$D143)^2/'PRC Model'!$H$3^2)*ERFC(SQRT(E143*'PRC Model'!$H$4/(10^'PRC Correction_PDMS_PCBs'!$D143)^2/'PRC Model'!$H$3^2))","v":0.62689066083889733}]
[null,24,5.35,5.0494499999999993,1.248346074677936,{"$f":"1-EXP(E144*'PRC Model'!$H$4/(10^'PRC Correction_PDMS_PCBs'!$D144)^2/'PRC Model'!$H$3^2)*ERFC(SQRT(E144*'PRC Model'!$H$4/(10^'PRC Correction_PDMS_PCBs'!$D144)^2/'PRC Model'!$H$3^2))","v":0.64439951409588958}]
[null,47,5.85,5.5229499999999989,5.2285949607435063,{"$f":"1-EXP(E145*'PRC Model'!$H$4/(10^'PRC Correction_PDMS_PCBs'!$D145)^2/'PRC Model'!$H$3^2)*ERFC(SQRT(E145*'PRC Model'!$H$4/(10^'PRC Correction_PDMS_PCBs'!$D145)^2/'PRC Model'!$H$3^2))","v":0.54389204953179893}]
[null,48,5.78,5.4566599999999994,4.2785636780781271,{"$f":"1-EXP(E146*'PRC Model'!$H$4/(10^'PRC Correction_PDMS_PCBs'!$D146)^2/'PRC Model'!$H$3^2)*ERFC(SQRT(E146*'PRC Model'!$H$4/(10^'PRC Correction_PDMS_PCBs'!$D146)^2/'PRC Model'!$H$3^2))","v":0.55831687404620622}]
[null,66,6.2,5.8543999999999992,14.250168511289509,{"$f":"1-EXP(E147*'PRC Model'!$H$4/(10^'PRC Correction_PDMS_PCBs'!$D147)^2/'PRC Model'!$H$3^2)*ERFC(SQRT(E147*'PRC Model'!$H$4/(10^'PRC Correction_PDMS_PCBs'!$D147)^2/'PRC Model'!$H$3^2))","v":0.47159281298719624}]
[null,70,6.2,5.8543999999999992,14.250168511289509,{"$f":"1-EXP(E148*'PRC Model'!$H$4/(10^'PRC Correction_PDMS_PCBs'!$D148)^2/'PRC Model'!$H$3^2)*ERFC(SQRT(E148*'PRC Model'!$H$4/(10^'PRC Correction_PDMS_PCBs'!$D148)^2/'PRC Model'!$H$3^2))","v":0.47159281298719624}]
[null,71,5.98,5.6460599999999994,7.5878371238330082,{"$f":"1-EXP(E149*'PRC Model'!$H$4/(10^'PRC Correction_PDMS_PCBs'!$D149)^2/'PRC Model'!$H$3^2)*ERFC(SQRT(E149*'PRC Model'!$H$4/(10^'PRC Correction_PDMS_PCBs'!$D149)^2/'PRC Model'!$H$3^2))","v":0.51700025763842161}]
[null,93,6.04,5.7028799999999995,9.0108134785058702,{"$f":"1-EXP(E150*'PRC Model'!$H$4/(10^'PRC Correction_PDMS_PCBs'!$D150)^2/'PRC Model'!$H$3^2)*ERFC(SQRT(E150*'PRC Model'!$H$4/(10^'PRC Correction_PDMS_PCBs'!$D150)^2/'PRC Model'!$H$3^2))","v":0.5045810243896296}]
[null,95,6.13,5.7881099999999996,11.660924943825824,{"$f":"1-EXP(E151*'PRC Model'!$H$4/(10^'PRC Correction_PDMS_PCBs'!$D151)^2/'PRC Model'!$H$3^2)*ERFC(SQRT(E151*'PRC Model'!$H$4/(10^'PRC Correction_PDMS_PCBs'!$D151)^2/'PRC Model'!$H$3^2))","v":0.48599037831741554}]
[null,119,6.58,6.2142599999999995,42.323151596419372,{"$f":"1-EXP(E152*'PRC Model'!$H$4/(10^'PRC Correction_PDMS_PCBs'!$D152)^2/'PRC Model'!$H$3^2)*ERFC(SQRT(E152*'PRC Model'!$H$4/(10^'PRC Correction_PDMS_PCBs'!$D152)^2/'PRC Model'!$H$3^2))","v":0.39543236527936898}]
[null,128,6.74,6.3657799999999991,66.932030456126,{"$f":"1-EXP(E153*'PRC Model'!$H$4/(10^'PRC Correction_PDMS_PCBs'!$D153)^2/'PRC Model'!$H$3^2)*ERFC(SQRT(E153*'PRC Model'!$H$4/(10^'PRC Correction_PDMS_PCBs'!$D153)^2/'PRC Model'!$H$3^2))","v":0.36490749914703779}]
[null,135,6.64,6.2710799999999987,50.260175414152179,{"$f":"1-EXP(E154*'PRC Model'!$H$4/(10^'PRC Correction_PDMS_PCBs'!$D154)^2/'PRC Model'!$H$3^2)*ERFC(SQRT(E154*'PRC Model'!$H$4/(10^'PRC Correction_PDMS_PCBs'!$D154)^2/'PRC Model'!$H$3^2))","v":0.38385459530262367}]
[null,141,6.82,6.4415399999999998,84.170905638309833,{"$f":"1-EXP(E155*'PRC Model'!$H$4/(10^'PRC Correction_PDMS_PCBs'!$D155)^2/'PRC Model'!$H$3^2)*ERFC(SQRT(E155*'PRC Model'!$H$4/(10^'PRC Correction_PDMS_PCBs'!$D155)^2/'PRC Model'!$H$3^2))","v":0.35009013845486481}]
[null,146,6.89,6.5078299999999993,102.8605873780912,{"$f":"1-EXP(E156*'PRC Model'!$H$4/(10^'PRC Correction_PDMS_PCBs'!$D156)^2/'PRC Model'!$H$3^2)*ERFC(SQRT(E156*'PRC Model'!$H$4/(10^'PRC Correction_PDMS_PCBs'!$D156)^2/'PRC Model'!$H$3^2))","v":0.33739082497480022}]
[null,149,6.67,6.2994899999999996,54.770537125116775,{"$f":"1-EXP(E157*'PRC Model'!$H$4/(10^'PRC Correction_PDMS_PCBs'!$D157)^2/'PRC Model'!$H$3^2)*ERFC(SQRT(E157*'PRC Model'!$H$4/(10^'PRC Correction_PDMS_PCBs'!$D157)^2/'PRC Model'!$H$3^2))","v":0.37812314019225757}]
[null,151,6.64,6.2710799999999987,50.260175414152179,{"$f":"1-EXP(E158*'PRC Model'!$H$4/(10^'PRC Correction_PDMS_PCBs'!$D158)^2/'PRC Model'!$H$3^2)*ERFC(SQRT(E158*'PRC Model'!$H$4/(10^'PRC Correction_PDMS_PCBs'!$D158)^2/'PRC Model'!$H$3^2))","v":0.38385459530262367}]
[null,163,6.99,6.6025299999999998,136.98057976110519,{"$f":"1-EXP(E159*'PRC Model'!$H$4/(10^'PRC Correction_PDMS_PCBs'!$D159)^2/'PRC Model'!$H$3^2)*ERFC(SQRT(E159*'PRC Model'!$H$4/(10^'PRC Correction_PDMS_PCBs'!$D159)^2/'PRC Model'!$H$3^2))","v":0.31970433999774162}]
[null,167,7.27,6.8676899999999987,305.49703531230517,{"$f":"1-EXP(E160*'PRC Model'!$H$4/(10^'PRC Correction_PDMS_PCBs'!$D160)^2/'PRC Model'!$H$3^2)*ERFC(SQRT(E160*'PRC Model'!$H$4/(10^'PRC Correction_PDMS_PCBs'!$D160)^2/'PRC Model'!$H$3^2))","v":0.27324975644596761}]
[null,175,7.17,6.7729899999999992,229.40189440935424,{"$f":"1-EXP(E161*'PRC Model'!$H$4/(10^'PRC Correction_PDMS_PCBs'!$D161)^2/'PRC Model'!$H$3^2)*ERFC(SQRT(E161*'PRC Model'!$H$4/(10^'PRC Correction_PDMS_PCBs'!$D161)^2/'PRC Model'!$H$3^2))","v":0.28930314919129096}]
[null,178,7.14,6.7445799999999991,210.51061498656748,{"$f":"1-EXP(E162*'PRC Model'!$H$4/(10^'PRC Correction_PDMS_PCBs'!$D162)^2/'PRC Model'!$H$3^2)*ERFC(SQRT(E162*'PRC Model'!$H$4/(10^'PRC Correction_PDMS_PCBs'!$D162)^2/'PRC Model'!$H$3^2))","v":0.29423744084389125}]
[null,190,7.46,7.0476199999999993,526.48499723226951,{"$f":"1-EXP(E163*'PRC Model'!$H$4/(10^'PRC Correction_PDMS_PCBs'!$D163)^2/'PRC Model'!$H$3^2)*ERFC(SQRT(E163*'PRC Model'!$H$4/(10^'PRC Correction_PDMS_PCBs'!$D163)^2/'PRC Model'!$H$3^2))","v":0.24445535062478319}]
[null,194,7.8,7.3695999999999993,1394.3763239901166,{"$f":"1-EXP(E164*'PRC Model'!$H$4/(10^'PRC Correction_PDMS_PCBs'!$D164)^2/'PRC Model'!$H$3^2)*ERFC(SQRT(E164*'PRC Model'!$H$4/(10^'PRC Correction_PDMS_PCBs'!$D164)^2/'PRC Model'!$H$3^2))","v":0.19859554533410262}]

{"sheet":"PRC Model","index":2,"n_rows":687,"n_cols":11,"rows_kept":687,"cut":false,"hidden":false,"merged":[]}
[]
[]
["x","exp(x)*erfc(sqrt(x))",null,"C(t)/C(0)","x",null,"L = ",{"$f":"K11","v":3.4028919112383634E-5},"m"]
[9.9999999999999995E-7,{"$f":"EXP(A4)*ERFC(SQRT(A4))","v":0.9988726200811513},null,{"$f":"VLOOKUP(E4,$A$4:$B$687,2,TRUE)","v":5.6416137688917421E-3},10000,null,"t = ",{"$f":"'PRC Correction_PDMS_PAHs'!D27","v":20},"days"]
[1.9999999999999999E-6,0.99840622875270046,null,{"$f":"VLOOKUP(E5,$A$4:$B$687,2,TRUE)","v":6.307437114866068E-3},8000]
[3.9999999999999998E-6,0.99774723565577705,null,{"$f":"VLOOKUP(E6,$A$4:$B$687,2,TRUE)","v":6.7428737140081433E-3},7000,null,"PDMS fibers parameters"]
[7.9999999999999996E-6,0.99681644476719689,null,{"$f":"VLOOKUP(E7,$A$4:$B$687,2,TRUE)","v":7.2830493337376848E-3},6000,null,"Outer diameter of the PDMS fiber (um)",null,null,null,{"$f":"'PRC Correction_PDMS_PAHs'!D25","v":558.79999999999995}]
[1.0000000000000001E-5,0.99644172802927777,null,7.9780478830048795E-3,5000,null,"Outer diameter of the PDMS fiber (um)",null,null,null,{"$f":"'PRC Correction_PDMS_PAHs'!D26","v":486}]
[2.0000000000000002E-5,{"$f":"EXP(A9)*ERFC(SQRT(A9))","v":0.99497366787188879},null,8.9195057818735688E-3,4000,null,"Area",null,null,null,{"$f":"K7/1000000*PI()","v":1.7555219748259761E-3}]
[3.0000000000000004E-5,0.99384948960840547,null,1.2612510270421193E-2,2000,null,"Volume",null,null,null,{"$f":"PI()*((K7/10^6)^2-(K8/10^6)^2)/4","v":5.9738515281365119E-8}]
[4.0000000000000003E-5,0.99290331402578236,null,1.7832329450432342E-2,1000,null,"L = volume/area (m)",null,null,null,{"$f":"K10/K9","v":3.4028919112383634E-5}]
[5.0000000000000002E-5,0.99207088967515267,null,2.3013781102381854E-2,600]
[6.0000000000000002E-5,0.99131926473141074,null,2.8174305208515903E-2,400]
[7.0000000000000007E-5,0.99062886443301423,null,3.251939183891709E-2,300]
[8.0000000000000007E-5,0.98998693482650846,null,3.9794988052811647E-2,200]
[9.0000000000000006E-5,0.98938461704540015,null,5.6139649735445919E-2,100]
[1E-4,0.98881546104634255,null,5.9144031347696427E-2,90]
[1.2E-4,0.98775824382612176,null,6.2688925909970522E-2,80]
[1.4000000000000001E-4,0.98678760126593679,null,6.6958645404044059E-2,70]
[1.6000000000000001E-4,0.98588549732143993,null,7.2239500922161234E-2,60]
[1.8000000000000001E-4,0.98503940428262926,null,7.9006141113892481E-2,50]
[2.0000000000000001E-4,0.98424020092288889,null,8.811816341018365E-2,40]
[2.5000000000000001E-4,0.98240581625350776,null,0.10136909344029225,30]
[3.0000000000000003E-4,0.98075203523918975,null,0.10763724873061344,26.5]
[3.5000000000000005E-4,0.97923509366297246,null,0.10863117574849826,26]
[4.0000000000000007E-4,0.97782647768353947,null,0.10965318883545988,25.5]
[4.500000000000001E-4,0.97650638218731678,null,0.11070463773306857,25]
[5.0000000000000012E-4,0.97526038767656553,null,0.11178696488108109,24.5]
[5.5000000000000014E-4,0.97407760896043716,null,0.1129017137760734,24]
[6.0000000000000016E-4,0.97294958961166544,null,0.11405053827114731,23.5]
[6.5000000000000019E-4,0.97186960490252605,null,0.11523521294468719,23]
[7.0000000000000021E-4,0.9708322026318339,null,0.11645764468664853,22.5]
[7.5000000000000023E-4,0.96983288955410574,null,0.11771988567526816,22]
[8.0000000000000026E-4,0.96886791066780154,null,0.11902414794599049,21.5]
[8.5000000000000028E-4,0.96793408981367612,null,0.12037281978908924,21]
[9.000000000000003E-4,0.96702871196987661,null,0.12176848425393871,20.5]
[9.5000000000000032E-4,0.96614943464060088,null,0.12321394008789174,20]
[1.0000000000000002E-3,0.9652942200040564,null,0.12410636659334452,19.7]
[1.0500000000000002E-3,0.96446128216811811,null,0.12501850791998734,19.399999999999999]
[1.1000000000000001E-3,0.96364904561515619,null,0.12595110216740132,19.099999999999998]
[1.15E-3,0.96285611206484112,null,0.1269049267802706,18.799999999999997]
[1.1999999999999999E-3,0.96208123376007426,null,0.12788080129132384,18.499999999999996]
[1.2499999999999998E-3,0.96132329171691255,null,0.12887959030204105,18.199999999999996]
[1.2999999999999997E-3,0.96058127785561387,null,0.12990220672594308,17.899999999999995]
[1.3499999999999996E-3,0.95985428019850472,null,0.13094961532227437,17.600000000000001]
[1.3999999999999996E-3,0.95914147051489396,null,{"$f":"VLOOKUP(E46,$A$4:$B$687,2,TRUE)","v":0.13202283655137501},17.299999999999994]
[1.4499999999999995E-3,0.95844209393605029,null,0.133122950786979,16.999999999999993]
[1.4999999999999994E-3,0.95775546016940061,null,0.13425110292525358,16.699999999999992]
[1.5999999999999994E-3,0.95641793899495886,null,0.13540850743556554,16.399999999999991]
[1.6999999999999995E-3,0.95512441753000787,null,0.13659645390399514,16.099999999999991]
[1.7999999999999995E-3,0.9538710582522717,null,0.13781631312756265,15.799999999999992]
[1.8999999999999996E-3,0.95265455029271318,null,0.13906954382510442,15.499999999999991]
[1.9999999999999996E-3,0.95147201350207755,null,0.14035770004010639,15.19999999999999]
[2.0999999999999994E-3,0.95032092387871869,null,0.14168243932158148,14.89999999999999]
[2.1999999999999993E-3,0.94919905481698563,null,0.14304553178172447,14.599999999999989]
[2.2999999999999991E-3,0.94810443025780089,null,0.14444887014385419,14.299999999999988]
[]
[]
[]
[2.6999999999999984E-3,{"$f":"EXP(A60)*ERFC(SQRT(A60))","v":0.94396569464261915},null,{"$f":"VLOOKUP(E60,$A$4:$B$687,2,TRUE)","v":0.14892137067462874},13.39999999999999]
[2.7999999999999982E-3,0.94298413018557992,null,0.14997314536238043,13.19999999999999]
[2.8999999999999981E-3,0.94202151573110704,null,0.1510476113239427,12.999999999999991]
[2.9999999999999979E-3,0.94107687597850165,null,0.15214559933571392,12.799999999999992]
[3.199999999999998E-3,0.93923801384308325,null,0.15326798353361296,12.599999999999993]
[3.3999999999999981E-3,0.93746120121755505,null,0.15441568437584155,12.399999999999993]
[3.5999999999999982E-3,0.93574101693564848,null,0.15558967185762956,12.199999999999994]
[3.7999999999999983E-3,0.93407278412819128,null,0.1567909690037424,11.999999999999995]
[3.9999999999999983E-3,0.93245243462002692,null,0.15802065566766402,11.799999999999995]
[4.199999999999998E-3,0.93087640352437651,null,0.1592798726698777,11.599999999999996]
[4.3999999999999977E-3,0.92934154620149112,null,0.16056982631171487,11.399999999999997]
[4.5999999999999973E-3,0.92784507204212552,null,0.16189179330584816,11.199999999999998]
[4.799999999999997E-3,0.92638449108834275,null,0.16324712616980125,10.999999999999998]
[4.9999999999999966E-3,0.92495757057507111,null,0.16428638169817719,10.849999999999998]
[5.1999999999999963E-3,0.92356229922799482,null,0.16534584777909211,10.699999999999998]
[5.3999999999999959E-3,0.92219685769021187,null,0.16642619127638147,10.549999999999997]
[5.5999999999999956E-3,0.92085959383892813,null,0.16752811040852231,10.399999999999997]
[5.7999999999999953E-3,0.91954900203888756,null,0.16865233667764412,10.249999999999996]
[5.9999999999999949E-3,0.91826370559137638,null,0.16979963694615396,10.099999999999996]
[6.1999999999999946E-3,0.91700244179709822,null,0.17097081567454439,9.9499999999999957]
[6.3999999999999942E-3,0.91576404917236509,null,0.1721667173354493,9.7999999999999954]
[6.5999999999999939E-3,0.91454745645097391,null,0.17338822902064047,9.649999999999995]
[6.7999999999999935E-3,0.91335167307609,null,0.17463628325953454,9.4999999999999947]
[6.9999999999999932E-3,0.91217578094263019,null,0.17591186106985907,9.3499999999999943]
[7.1999999999999929E-3,0.91101892719484379,null,0.17721599526351364,9.199999999999994]
[7.3999999999999925E-3,0.90988031791884816,null,0.17854977403335442,9.0499999999999936]
[7.5999999999999922E-3,0.90875921259785919,null,0.17991434484964933,8.8999999999999932]
[7.7999999999999918E-3,0.90765491922035046,null,0.18131091869844906,8.7499999999999929]
[7.9999999999999915E-3,0.90656678994957718,null,0.18274077469805677,8.5999999999999925]
[8.2999999999999914E-3,0.90496358499673824,null,0.18420526513427657,8.4499999999999922]
[8.5999999999999913E-3,0.9033934931530555,null,0.18570582096029253,8.2999999999999918]
[8.8999999999999913E-3,0.90185478104741124,null,0.18724395781294342,8.1499999999999915]
[9.1999999999999912E-3,0.90034586054338561,null,0.18882128260393813,7.999999999999992]
[9.5999999999999905E-3,0.89837780341660134,null,0.18989544143522227,7.8999999999999924]
[9.9999999999999898E-3,0.89645697996912654,null,0.19098830414826651,7.7999999999999927]
[1.0399999999999989E-2,0.89458055491495758,null,0.19210042413424205,7.6999999999999931]
[1.0799999999999988E-2,0.89274596384272731,null,0.19323237813928076,7.5999999999999934]
[1.1199999999999988E-2,0.89095087835872222,null,0.19438476755501904,7.4999999999999938]
[1.1599999999999987E-2,0.8891931767909006,null,0.19555821979786739,7.3999999999999941]
[1.1999999999999986E-2,0.88747091940674916,null,0.19675338978434842,7.2999999999999945]
[1.2399999999999986E-2,0.88578232732314499,null,0.19797096151053883,7.1999999999999948]
[1.2799999999999985E-2,0.88412576445756752,null,0.19921164974446565,7.0999999999999952]
[1.3199999999999984E-2,0.88249972200130677,null,0.20047620184117551,6.9999999999999956]
[1.3599999999999984E-2,0.88090280499697649,null,0.20150554971710338,6.9199999999999955]
[1.3999999999999983E-2,0.87933372068200177,null,0.20255108727687746,6.8399999999999954]
[1.4399999999999982E-2,0.87779126832220988,null,0.20361324735670916,6.7599999999999953]
[1.4799999999999982E-2,0.87627433030917534,null,0.20469247930092097,6.6799999999999953]
[1.5199999999999981E-2,0.87478186433451266,null,0.20578924978618515,6.5999999999999952]
[1.559999999999998E-2,0.87331289648608534,null,0.20690404369695248,6.5199999999999951]
[1.599999999999998E-2,0.87186651513680169,null,0.20803736505588219,6.4399999999999951]
[1.6399999999999981E-2,0.87044186551757508,null,0.2091897380134351,6.359999999999995]
[1.6799999999999982E-2,0.86903814488312792,null,0.21036170790115236,6.2799999999999949]
[1.7199999999999983E-2,0.86765459819337909,null,0.21155384235354821,6.1999999999999948]
[1.7599999999999984E-2,0.86629051424478243,null,0.21276673250399342,6.1199999999999948]
[1.7999999999999985E-2,0.86494522219562497,null,0.21400099426046651,6.0399999999999947]
[1.8399999999999986E-2,0.86361808843735743,null,0.21525726966758751,5.9599999999999946]
[1.8799999999999987E-2,0.86230851377075424,null,0.21653622836196679,5.8799999999999946]
[1.9199999999999988E-2,0.86101593085139105,null,0.21783856912855681,5.7999999999999945]
[1.9599999999999989E-2,0.85973980187370169,null,0.21916502156646631,5.7199999999999944]
[1.999999999999999E-2,0.85847961646694737,null,0.22051634787349891,5.6399999999999944]
[2.049999999999999E-2,0.85692606900143842,null,0.22189334475962427,5.5599999999999943]
[2.0999999999999991E-2,0.8553957823437025,null,0.22329684550060397,5.4799999999999942]
[2.1499999999999991E-2,0.85388791456187085,null,0.22472772214416015,5.3999999999999941]
[2.1999999999999992E-2,0.85240167265397171,null,0.22618688788234997,5.3199999999999941]
[2.2499999999999992E-2,{"$f":"EXP(A124)*ERFC(SQRT(A124))","v":0.8509363086677636},null,{"$f":"VLOOKUP(E124,$A$4:$B$687,2,TRUE)","v":0.22767529960525437},5.239999999999994]
[2.2999999999999993E-2,0.8494911162070693,null,0.22919396065270903,5.1599999999999939]
[2.3499999999999993E-2,0.8480654272785989,null,0.23074392378262193,5.0799999999999939]
[2.3999999999999994E-2,0.84665860943957194,null,0.23232629437646504,4.9999999999999938]
[2.4499999999999994E-2,0.84527006321181575,null,0.2333322465483606,4.949999999999994]
[2.4999999999999994E-2,0.84389921973253934,null,0.23435160568379787,4.8999999999999941]
[2.5499999999999995E-2,0.84254553861584813,null,0.23538467657504877,4.8499999999999943]
[2.5999999999999995E-2,0.84120850600235608,null,0.23643177392321518,4.7999999999999945]
[2.6499999999999996E-2,0.8398876327770689,null,0.23749322276063076,4.7499999999999947]
[2.6999999999999996E-2,0.83858245293813594,null,0.23856935889567898,4.6999999999999948]
[2.7499999999999997E-2,0.8372925221011599,null,0.23966052938145907,4.649999999999995]
[2.7999999999999997E-2,0.83601741612554692,null,0.24076709300984234,4.5999999999999952]
[2.8499999999999998E-2,0.83475672985095428,null,0.24188942083256057,4.5499999999999954]
[2.8999999999999998E-2,0.83351007593324,null,0.24302789671112449,4.4999999999999956]
[2.9499999999999998E-2,0.83227708377051124,null,0.24418291789747321,4.4499999999999957]
[0.03,0.83105739851089444,null,0.24535489564743843,4.3999999999999959]
[3.0499999999999999E-2,0.82985068013455821,null,0.24654425586924295,4.3499999999999961]
[3.1E-2,0.82865660260331087,null,0.2477514398094538,4.2999999999999963]
[3.15E-2,0.82747485307179736,null,0.24897690477898474,4.2499999999999964]
[3.2000000000000001E-2,0.82630513115492721,null,0.25022112492197629,4.1999999999999966]
[3.2500000000000001E-2,0.82514714824671731,null,0.25148459203059581,4.1499999999999968]
[3.3000000000000002E-2,0.82400062688620834,null,0.25276781640906587,4.099999999999997]
[3.3500000000000002E-2,0.82286530016653991,null,0.25407132779051017,4.0499999999999972]
[3.4000000000000002E-2,0.82174091118365211,null,0.25539567631050591,3.9999999999999969]
[3.4500000000000003E-2,0.82062721252141291,null,0.25647054121497098,3.9599999999999969]
[3.5000000000000003E-2,0.81952396577027753,null,0.2575594102389866,3.9199999999999968]
[3.5500000000000004E-2,0.818430941076847,null,0.25866259597004027,3.8799999999999968]
[3.6000000000000004E-2,0.8173479167219394,null,0.25978042100675253,3.8399999999999967]
[3.6500000000000005E-2,0.81627467872500103,null,0.26091321838038145,3.7999999999999967]
[3.7000000000000005E-2,0.81521102047287231,null,0.26206133199846443,3.7599999999999967]
[3.7500000000000006E-2,0.81415674237110647,null,0.26322511711200136,3.7199999999999966]
[3.8000000000000006E-2,0.8131116515161898,null,0.26440494080768023,3.6799999999999966]
[3.8500000000000006E-2,0.81207556138714787,null,0.26560118252676512,3.6399999999999966]
[3.9000000000000007E-2,0.81104829155516267,null,0.26681423461238635,3.5999999999999965]
[3.9500000000000007E-2,0.81002966740992777,null,0.26804450288710713,3.5599999999999965]
[4.0000000000000008E-2,0.80901951990158072,null,0.26929240726278586,3.5199999999999965]
[4.1000000000000009E-2,0.80702400495047077,null,0.27055838238491198,3.4799999999999964]
[4.200000000000001E-2,0.80506049658737333,null,0.27184287831376647,3.4399999999999964]
[4.300000000000001E-2,0.80312781940654132,null,0.27314636124494568,3.3999999999999964]
[4.4000000000000011E-2,0.80122486663673853,null,0.2744693142719915,3.3599999999999963]
[4.5000000000000012E-2,0.79935059468651015,null,0.275812238194105,3.3199999999999963]
[4.6000000000000013E-2,0.79750401823347816,null,0.27717565237214892,3.2799999999999963]
[4.7000000000000014E-2,0.79568420579283727,null,0.27856009563643874,3.2399999999999962]
[4.8000000000000015E-2,0.79389027570915816,null,0.27996612725009651,3.1999999999999962]
[4.9000000000000016E-2,0.79212139252314107,null,0.28139432793208158,3.1599999999999961]
[5.0000000000000017E-2,0.79037676367136478,null,0.28284530094436472,3.1199999999999961]
[5.1000000000000018E-2,0.78865563648250114,null,0.28431967324810348,3.0799999999999961]
[5.2000000000000018E-2,0.7869572954381151,null,0.28581809673412156,3.039999999999996]
[5.3000000000000019E-2,0.78528105967013628,null,0.28734124953345636,2.999999999999996]
[5.400000000000002E-2,0.78362628067050411,null,0.28888983741429064,2.959999999999996]
[5.5000000000000021E-2,0.78199234019142783,null,0.29046459527214558,2.9199999999999959]
[5.6000000000000022E-2,0.78037864831724413,null,0.2920662887208807,2.8799999999999959]
[5.7000000000000023E-2,0.77878464169105277,null,0.29369571579275355,2.8399999999999959]
[2.3999999999999989E-3,0.94703528692080841,null,0.14589448091148566,13.999999999999988]
[2.4999999999999988E-3,0.94599004355496152,null,0.14688277261772939,13.799999999999988]
[2.5999999999999986E-3,0.94496727567644967,null,0.14789149710996247,13.599999999999989]
[6.1000000000000026E-2,0.77259504206253449,null,0.30050796109251321,2.6799999999999957]
[6.2000000000000027E-2,0.77109183330726117,null,0.30228929616612321,2.6399999999999957]
[6.3000000000000028E-2,0.76960540415655676,null,0.3041039452683959,2.5999999999999956]
[6.4000000000000029E-2,0.76813533776122556,null,0.30548744454559401,2.5699999999999958]
[6.500000000000003E-2,0.7666812337299036,null,0.30689076762098305,2.539999999999996]
[6.6000000000000031E-2,0.76524270724023291,null,0.3083144074901123,2.5099999999999962]
[6.7000000000000032E-2,0.76381938821065054,null,0.30975887491526855,2.4799999999999964]
[6.8000000000000033E-2,0.76241092052781689,null,0.31122469927380225,2.4499999999999966]
[6.9000000000000034E-2,{"$f":"EXP(A188)*ERFC(SQRT(A188))","v":0.76101696132519336},null,{"$f":"VLOOKUP(E188,$A$4:$B$687,2,TRUE)","v":0.3127124294572986},2.4199999999999968]
[7.0000000000000034E-2,0.75963718030868943,null,0.31422263482529006,2.389999999999997]
[7.1000000000000035E-2,0.75827125912569093,null,0.31575590621751459,2.3599999999999972]
[7.2000000000000036E-2,0.75691889077410446,null,0.31731285702907075,2.3299999999999974]
[7.3000000000000037E-2,0.75557977904837104,null,0.31889412435320896,2.2999999999999976]
[7.4000000000000038E-2,0.75425363801965584,null,0.32050037019691807,2.2699999999999978]
[7.5000000000000039E-2,0.75294019154768599,null,0.32213228277492284,2.239999999999998]
[7.600000000000004E-2,0.75163917282190607,null,0.32379057788823024,2.2099999999999982]
[7.7000000000000041E-2,0.75035032392983825,null,0.3254760003939316,2.1799999999999984]
[7.8000000000000042E-2,0.74907339545070073,null,0.32718932577357879,2.1499999999999986]
[7.9000000000000042E-2,0.74780814607250401,null,0.32893136180817267,2.1199999999999988]
[8.0000000000000043E-2,0.74655434223099215,null,0.3307029503685518,2.089999999999999]
[8.1000000000000044E-2,0.74531175776892511,null,0.332504969330849,2.0599999999999992]
[8.2000000000000045E-2,0.74408017361432266,null,0.33433833462762147,2.0299999999999994]
[8.3000000000000046E-2,0.74285937747639885,null,0.33620400244634113,1.9999999999999993]
[8.4000000000000047E-2,0.74164916355800969,null,0.33746621824393896,1.9799999999999993]
[8.5000000000000048E-2,0.74044933228353993,null,0.33874354067973478,1.9599999999999993]
[8.6000000000000049E-2,0.73925969004122249,null,0.34003628600083247,1.9399999999999993]
[8.700000000000005E-2,0.73808004893897261,null,0.3413447800944866,1.9199999999999993]
[8.800000000000005E-2,0.73691022657287908,null,0.34266935887854461,1.8999999999999992]
[8.9000000000000051E-2,0.73575004580755998,null,0.34401036871176643,1.8799999999999992]
[9.0000000000000052E-2,0.73459933456765503,null,0.34536816682525562,1.8599999999999992]
[9.1000000000000053E-2,0.73345792563976464,null,0.346743121776309,1.8399999999999992]
[9.2000000000000054E-2,0.73232565648421311,null,0.34813561392610393,1.8199999999999992]
[9.3000000000000055E-2,0.73120236905604064,null,0.34954603594273775,1.7999999999999992]
[9.4000000000000056E-2,0.73008790963468406,null,0.35097479333124931,1.7799999999999991]
[9.5000000000000057E-2,0.72898212866183043,null,0.35242230499238436,1.7599999999999991]
[9.6000000000000058E-2,0.72788488058697876,null,0.35388900381198657,1.7399999999999991]
[9.7000000000000058E-2,0.72679602372025887,null,0.35537533728305803,1.7199999999999991]
[9.8000000000000059E-2,0.72571542009210166,null,0.35688176816268352,1.6999999999999991]
[9.900000000000006E-2,0.72464293531937396,null,0.35840877516619296,1.679999999999999]
[0.10000000000000006,0.72357843847761549,null,0.35995685370112068,1.659999999999999]
[0.10200000000000006,0.72147290145603593,null,0.36152651664373719,1.639999999999999]
[0.10400000000000006,0.7193978263034605,null,0.36311829516115002,1.619999999999999]
[0.10600000000000007,0.71735227836929594,null,0.36473273958222513,1.599999999999999]
[0.10800000000000007,0.71533536788275409,null,0.36637042032084877,1.579999999999999]
[0.11000000000000007,0.71334624702590443,null,0.36803192885536029,1.5599999999999989]
[0.11200000000000007,0.71138410724663581,null,0.36971787876830331,1.5399999999999989]
[0.11400000000000007,0.70944817678797356,null,0.37142890685102209,1.5199999999999989]
[0.11600000000000008,0.70753771841287438,null,0.37316567427801572,1.4999999999999989]
[0.11800000000000008,0.70565202730596388,null,0.37492886785641838,1.4799999999999989]
[0.12000000000000008,0.70379042913571699,null,0.37671920135645121,1.4599999999999989]
[0.12200000000000008,0.70195227826237072,null,0.37853741692923981,1.4399999999999988]
[0.12400000000000008,0.70013695607842219,null,0.3803842866189806,1.4199999999999988]
[0.12600000000000008,0.69834386946994409,null,0.38226061397711247,1.3999999999999988]
[0.12800000000000009,0.69657244938816287,null,0.38416723578687512,1.3799999999999988]
[0.13000000000000009,0.69482214952181354,null,0.38610502390746237,1.3599999999999988]
[0.13200000000000009,0.69309244506173906,null,0.38807488724788153,1.3399999999999987]
[0.13400000000000009,0.69138283155003488,null,0.39007777388165416,1.3199999999999987]
[0.13600000000000009,0.68969282380679298,null,0.39211467331462019,1.2999999999999987]
[0.13800000000000009,0.68802195492815843,null,0.39366528870509537,1.2849999999999988]
[0.1400000000000001,0.68636977535000632,null,0.39523606959973917,1.2699999999999989]
[0.1420000000000001,0.6847358519720762,null,0.39682748434808351,1.254999999999999]
[0.1440000000000001,0.68311976733787017,null,0.39844001736282514,1.2399999999999991]
[0.1460000000000001,0.6815211188660486,null,0.4000741698590442,1.2249999999999992]
[0.1480000000000001,0.67993951812943665,null,0.4017304606364952,1.2099999999999993]
[0.15000000000000011,0.67837459017809387,null,0.40340942690803705,1.1949999999999994]
[0.15200000000000011,0.67682597290320978,null,0.40511162517750932,1.1799999999999995]
[0.15400000000000011,0.67529331643886381,null,0.40683763217065605,1.1649999999999996]
[0.15600000000000011,0.6737762825989374,null,0.4085880458230095,1.1499999999999997]
[0.15800000000000011,0.67227454434669709,null,0.41036348632897146,1.1349999999999998]
[0.16000000000000011,0.67078778529476135,null,0.41216459725673449,1.1199999999999999]
[0.16200000000000012,0.66931569923336454,null,0.41399204673406775,1.105]
[0.16400000000000012,0.66785798968498433,null,0.41584652871047784,1.0900000000000001]
[0.16600000000000012,{"$f":"EXP(A252)*ERFC(SQRT(A252))","v":0.66641436948356325},null,{"$f":"VLOOKUP(E252,$A$4:$B$687,2,TRUE)","v":0.41772876430174272},1.0750000000000002]
[0.16800000000000012,0.66498456037668729,null,0.41963950322339089,1.0600000000000003]
[0.17000000000000012,0.6635682926492168,null,0.42157952532030579,1.0450000000000004]
[0.17200000000000013,0.66216530476697122,null,0.42354964220034214,1.0300000000000005]
[0.17400000000000013,0.66077534303918839,null,0.42555069898059211,1.0150000000000006]
[0.17600000000000013,0.65939816129856066,null,0.42758357615580683,1.0000000000000007]
[0.17800000000000013,0.65803352059775,null,0.42895695727205135,0.99000000000000077]
[0.18000000000000013,0.65668118892135674,null,0.43034516954557617,0.98000000000000076]
[0.18200000000000013,0.65534094091239636,null,0.43174850270869325,0.97000000000000075]
[0.18400000000000014,0.6540125576124024,null,0.43316725491131364,0.96000000000000074]
[0.18600000000000014,0.65269582621434008,null,0.43460173305029293,0.95000000000000073]
[0.18800000000000014,0.65139053982756545,null,0.43605225311511947,0.94000000000000072]
[0.19000000000000014,0.65009649725412677,null,0.43751914055093544,0.93000000000000071]
[0.19200000000000014,0.64881350277574656,null,0.43900273063995138,0.92000000000000071]
[0.19400000000000014,0.64754136595087086,null,0.44050336890238778,0.9100000000000007]
[0.19600000000000015,0.6462799014212115,null,0.44202141151816521,0.90000000000000069]
[0.19800000000000015,0.64502892872724271,null,0.44355722577065149,0.89000000000000068]
[0.20000000000000015,0.64378827213216228,null,0.44511119051387371,0.88000000000000067]
[0.20200000000000015,0.64255776045383817,null,0.44668369666471169,0.87000000000000066]
[0.20400000000000015,0.64133722690430983,null,0.44827514772169796,0.86000000000000065]
[0.20600000000000016,0.64012650893643386,null,0.44988596031218431,0.85000000000000064]
[0.20800000000000016,0.63892544809729024,null,0.45151656476977015,0.84000000000000064]
[0.21000000000000016,0.63773388988798896,null,0.45316740574403142,0.83000000000000063]
[0.21200000000000016,0.63655168362954284,null,0.45483894284476267,0.82000000000000062]
[0.21400000000000016,0.63537868233448525,null,0.4565316513231169,0.81000000000000061]
[0.21600000000000016,0.63421474258394184,null,0.45824602279222743,0.8000000000000006]
[0.21800000000000017,0.63305972440987091,null,0.45998256599010812,0.79000000000000059]
[0.22000000000000017,0.63191349118221574,null,0.46174180758786759,0.78000000000000058]
[0.22200000000000017,0.63077590950071738,null,0.46352429304652659,0.77000000000000057]
[0.22400000000000017,0.62964684909115831,null,0.46533058752601836,0.76000000000000056]
[0.22600000000000017,0.62852618270581828,null,0.46716127685025716,0.75000000000000056]
[0.22800000000000017,0.6274137860279333,null,0.46901696853251273,0.74000000000000055]
[0.23000000000000018,0.62630953757996588,null,0.47089829286570228,0.73000000000000054]
[0.23200000000000018,0.62521331863550389,null,0.4728059040826349,0.72000000000000053]
[0.23400000000000018,0.62412501313461288,null,0.4747404815917069,0.71000000000000052]
[0.23600000000000018,0.62304450760247754,null,0.47670273129406354,0.70000000000000051]
[0.23800000000000018,0.62197169107118311,null,0.47769446139983568,0.69500000000000051]
[0.24000000000000019,0.62090645500448405,null,0.47869338698880703,0.6900000000000005]
[0.24200000000000019,0.61984869322542702,null,0.47969960439106929,0.6850000000000005]
[0.24400000000000019,0.61879830184669637,null,0.48071321187347182,0.68000000000000049]
[0.24600000000000019,0.61775517920355583,null,0.48173430969228587,0.67500000000000049]
[0.24800000000000019,0.61671922578927563,null,0.48276300014768875,0.67000000000000048]
[0.25000000000000017,0.61569034419292545,null,0.48379938764014263,0.66500000000000048]
[0.25200000000000017,0.6146684390394388,null,0.48484357872874689,0.66000000000000048]
[0.25400000000000017,0.61365341693183673,null,0.48589568219165447,0.65500000000000047]
[0.25600000000000017,0.61264518639553001,null,0.48695580908863284,0.65000000000000047]
[0.25800000000000017,0.61164365782459784,null,0.48802407282586913,0.64500000000000046]
[0.26000000000000018,0.61064874342996733,null,0.48910058922311467,0.64000000000000046]
[0.26200000000000018,0.60966035718940614,null,0.49018547658327033,0.63500000000000045]
[0.26400000000000018,0.60867841479925533,null,0.49127885576452607,0.63000000000000045]
[0.26600000000000018,0.60770283362782895,null,0.49238085025516137,0.62500000000000044]
[0.26800000000000018,0.60673353267041019,null,0.49349158625113515,0.62000000000000044]
[0.27000000000000018,0.605770432505776,null,0.4946111927365836,0.61500000000000044]
[0.27200000000000019,0.60481345525419461,null,0.49573980156736541,0.61000000000000043]
[0.27400000000000019,0.6038625245368241,null,0.49687754755779034,0.60500000000000043]
[0.27600000000000019,0.60291756543646924,null,0.49802456857068272,0.60000000000000042]
[0.27800000000000019,0.60197850445962919,null,0.49918100561093509,0.59500000000000042]
[0.28000000000000019,0.60104526949979364,null,0.5003470029227145,0.59000000000000041]
[0.28200000000000019,0.60011778980193353,null,0.50152270809050181,0.58500000000000041]
[0.2840000000000002,0.59919599592814099,null,0.50270827214414016,0.5800000000000004]
[0.2860000000000002,0.59827981972437172,null,0.50390384966809543,0.5750000000000004]
[0.2880000000000002,0.59736919428825042,null,0.50510959891512708,0.5700000000000004]
[0.2900000000000002,0.59646405393789437,null,0.50632568192459382,0.56500000000000039]
[0.2920000000000002,0.59556433418171983,null,0.50755226464561876,0.56000000000000039]
[0.29400000000000021,{"$f":"EXP(A316)*ERFC(SQRT(A316))","v":0.59466997168919089},null,{"$f":"VLOOKUP(E316,$A$4:$B$687,2,TRUE)","v":0.5087895170653618},0.55500000000000038]
[0.29600000000000021,0.59378090426247709,null,0.51003761334265862,0.55000000000000038]
[0.29800000000000021,0.59289707080898602,null,0.51129673194729486,0.54500000000000037]
[0.30000000000000021,0.59201841131473565,null,0.51256705580521456,0.54000000000000037]
[0.30400000000000021,0.59027637938696709,null,0.51384877244996374,0.53500000000000036]
[0.30800000000000022,0.58855434897780901,null,0.5151420741807019,0.53000000000000036]
[0.31200000000000022,0.5868518762701681,null,0.51644715822712628,0.52500000000000036]
[0.31600000000000023,0.58516853241009947,null,0.51776422692168234,0.52000000000000035]
[0.32000000000000023,0.58350390282731224,null,0.51909348787944953,0.51500000000000035]
[0.32400000000000023,0.58185758659442754,null,0.52043515418612518,0.51000000000000034]
[0.32800000000000024,0.58022919582232613,null,0.52178944459454935,0.50500000000000034]
[0.33200000000000024,0.57861835508915183,null,0.52315658373024665,0.50000000000000033]
[0.33600000000000024,0.57702470090071856,null,0.52453680230649247,0.49500000000000038]
[0.34000000000000025,0.57544788118024881,null,0.52593033734944072,0.49000000000000038]
[0.34400000000000025,0.57388755478552622,null,0.52733743243389442,0.48500000000000038]
[0.34800000000000025,0.57234339105169729,null,0.52875833793032723,0.48000000000000037]
[0.35200000000000026,0.57081506935808224,null,0.53019331126382363,0.47500000000000037]
[0.35600000000000026,0.56930227871748385,null,0.53164261718563166,0.47000000000000036]
[0.36000000000000026,0.56780471738658689,null,0.53310652805808945,0.46500000000000036]
[0.36400000000000027,0.56632209249615251,null,0.53458532415372595,0.46000000000000035]
[0.36800000000000027,0.56485411969979271,null,0.53607929396940612,0.45500000000000035]
[0.37200000000000027,0.56340052284020981,null,0.53758873455644052,0.45000000000000034]
[0.37600000000000028,0.56196103363185224,null,0.53911395186766176,0.44500000000000034]
[0.38000000000000028,0.56053539135901931,null,0.54065526112253093,0.44000000000000034]
[0.38400000000000029,0.55912334258851204,null,0.54221298719142663,0.43500000000000033]
[0.38800000000000029,0.55772464089598428,null,0.54378746500035124,0.43000000000000033]
[0.39200000000000029,0.55633904660521261,null,0.54537903995738246,0.42500000000000032]
[0.3960000000000003,0.55496632653954947,null,0.54698806840231118,0.42000000000000032]
[0.4000000000000003,0.55360625378487838,null,0.5486149180810046,0.41500000000000031]
[0.4050000000000003,0.55192361218631669,null,0.55025996864616944,0.41000000000000031]
[0.41000000000000031,0.55025996864616944,null,0.55192361218631669,0.4050000000000003]
[0.41500000000000031,0.5486149180810046,null,0.55360625378487838,0.4000000000000003]
[0.42000000000000032,0.54698806840231118,null,0.55496632653954947,0.3960000000000003]
[0.42500000000000032,0.54537903995738246,null,0.55633904660521261,0.39200000000000029]
[0.43000000000000033,0.54378746500035124,null,0.55772464089598428,0.38800000000000029]
[0.43500000000000033,0.54221298719142663,null,0.55912334258851204,0.38400000000000029]
[0.44000000000000034,0.54065526112253093,null,0.56053539135901931,0.38000000000000028]
[0.44500000000000034,0.53911395186766176,null,0.56196103363185224,0.37600000000000028]
[0.45000000000000034,0.53758873455644052,null,0.56340052284020981,0.37200000000000027]
[0.45500000000000035,0.53607929396940612,null,0.56485411969979271,0.36800000000000027]
[0.46000000000000035,0.53458532415372595,null,0.56632209249615251,0.36400000000000027]
[0.46500000000000036,0.53310652805808945,null,0.56780471738658689,0.36000000000000026]
[0.47000000000000036,0.53164261718563166,null,0.56930227871748385,0.35600000000000026]
[0.47500000000000037,0.53019331126382363,null,0.57081506935808224,0.35200000000000026]
[0.48000000000000037,0.52875833793032723,null,0.57234339105169729,0.34800000000000025]
[0.48500000000000038,0.52733743243389442,null,0.57388755478552622,0.34400000000000025]
[0.49000000000000038,0.52593033734944072,null,0.57544788118024881,0.34000000000000025]
[0.49500000000000038,0.52453680230649247,null,0.57702470090071856,0.33600000000000024]
[0.50000000000000033,0.52315658373024665,null,0.57861835508915183,0.33200000000000024]
[0.50500000000000034,0.52178944459454935,null,0.58022919582232613,0.32800000000000024]
[0.51000000000000034,0.52043515418612518,null,0.58185758659442754,0.32400000000000023]
[0.51500000000000035,0.51909348787944953,null,0.58350390282731224,0.32000000000000023]
[0.52000000000000035,0.51776422692168234,null,0.58516853241009947,0.31600000000000023]
[0.52500000000000036,0.51644715822712628,null,0.5868518762701681,0.31200000000000022]
[0.53000000000000036,0.5151420741807019,null,0.58855434897780901,0.30800000000000022]
[0.53500000000000036,0.51384877244996374,null,0.59027637938696709,0.30400000000000021]
[0.54000000000000037,0.51256705580521456,null,0.59201841131473565,0.30000000000000021]
[0.54500000000000037,0.51129673194729486,null,0.59289707080898602,0.29800000000000021]
[0.55000000000000038,0.51003761334265862,null,0.59378090426247709,0.29600000000000021]
[0.55500000000000038,0.5087895170653618,null,0.59466997168919089,0.29400000000000021]
[0.56000000000000039,0.50755226464561876,null,0.59556433418171983,0.2920000000000002]
[0.56500000000000039,0.50632568192459382,null,0.59646405393789437,0.2900000000000002]
[0.5700000000000004,0.50510959891512708,null,0.59736919428825042,0.2880000000000002]
[0.5750000000000004,0.50390384966809543,null,0.59827981972437172,0.2860000000000002]
[0.5800000000000004,{"$f":"EXP(A380)*ERFC(SQRT(A380))","v":0.50270827214414016},null,{"$f":"VLOOKUP(E380,$A$4:$B$687,2,TRUE)","v":0.59919599592814099},0.2840000000000002]
[0.58500000000000041,0.50152270809050181,null,0.60011778980193353,0.28200000000000019]
[0.59000000000000041,0.5003470029227145,null,0.60104526949979364,0.28000000000000019]
[0.59500000000000042,0.49918100561093509,null,0.60197850445962919,0.27800000000000019]
[0.60000000000000042,0.49802456857068272,null,0.60291756543646924,0.27600000000000019]
[0.60500000000000043,0.49687754755779034,null,0.6038625245368241,0.27400000000000019]
[0.61000000000000043,0.49573980156736541,null,0.60481345525419461,0.27200000000000019]
[0.61500000000000044,0.4946111927365836,null,0.605770432505776,0.27000000000000018]
[0.62000000000000044,0.49349158625113515,null,0.60673353267041019,0.26800000000000018]
[0.62500000000000044,0.49238085025516137,null,0.60770283362782895,0.26600000000000018]
[0.63000000000000045,0.49127885576452607,null,0.60867841479925533,0.26400000000000018]
[0.63500000000000045,0.49018547658327033,null,0.60966035718940614,0.26200000000000018]
[0.64000000000000046,0.48910058922311467,null,0.61064874342996733,0.26000000000000018]
[0.64500000000000046,0.48802407282586913,null,0.61164365782459784,0.25800000000000017]
[0.65000000000000047,0.48695580908863284,null,0.61264518639553001,0.25600000000000017]
[0.65500000000000047,0.48589568219165447,null,0.61365341693183673,0.25400000000000017]
[0.66000000000000048,0.48484357872874689,null,0.6146684390394388,0.25200000000000017]
[0.66500000000000048,0.48379938764014263,null,0.61569034419292545,0.25000000000000017]
[0.67000000000000048,0.48276300014768875,null,0.61671922578927563,0.24800000000000019]
[0.67500000000000049,0.48173430969228587,null,0.61775517920355583,0.24600000000000019]
[0.68000000000000049,0.48071321187347182,null,0.61879830184669637,0.24400000000000019]
[0.6850000000000005,0.47969960439106929,null,0.61984869322542702,0.24200000000000019]
[0.6900000000000005,0.47869338698880703,null,0.62090645500448405,0.24000000000000019]
[0.69500000000000051,0.47769446139983568,null,0.62197169107118311,0.23800000000000018]
[0.70000000000000051,0.47670273129406354,null,0.62304450760247754,0.23600000000000018]
[0.71000000000000052,0.4747404815917069,null,0.62412501313461288,0.23400000000000018]
[0.72000000000000053,0.4728059040826349,null,0.62521331863550389,0.23200000000000018]
[0.73000000000000054,0.47089829286570228,null,0.62630953757996588,0.23000000000000018]
[0.74000000000000055,0.46901696853251273,null,0.6274137860279333,0.22800000000000017]
[0.75000000000000056,0.46716127685025716,null,0.62852618270581828,0.22600000000000017]
[0.76000000000000056,0.46533058752601836,null,0.62964684909115831,0.22400000000000017]
[0.77000000000000057,0.46352429304652659,null,0.63077590950071738,0.22200000000000017]
[0.78000000000000058,0.46174180758786759,null,0.63191349118221574,0.22000000000000017]
[0.79000000000000059,0.45998256599010812,null,0.63305972440987091,0.21800000000000017]
[0.8000000000000006,0.45824602279222743,null,0.63421474258394184,0.21600000000000016]
[0.81000000000000061,0.4565316513231169,null,0.63537868233448525,0.21400000000000016]
[0.82000000000000062,0.45483894284476267,null,0.63655168362954284,0.21200000000000016]
[0.83000000000000063,0.45316740574403142,null,0.63773388988798896,0.21000000000000016]
[0.84000000000000064,0.45151656476977015,null,0.63892544809729024,0.20800000000000016]
[0.85000000000000064,0.44988596031218431,null,0.64012650893643386,0.20600000000000016]
[0.86000000000000065,0.44827514772169796,null,0.64133722690430983,0.20400000000000015]
[0.87000000000000066,0.44668369666471169,null,0.64255776045383817,0.20200000000000015]
[0.88000000000000067,0.44511119051387371,null,0.64378827213216228,0.20000000000000015]
[0.89000000000000068,0.44355722577065149,null,0.64502892872724271,0.19800000000000015]
[0.90000000000000069,0.44202141151816521,null,0.6462799014212115,0.19600000000000015]
[0.9100000000000007,0.44050336890238778,null,0.64754136595087086,0.19400000000000014]
[0.92000000000000071,0.43900273063995138,null,0.64881350277574656,0.19200000000000014]
[0.93000000000000071,0.43751914055093544,null,0.65009649725412677,0.19000000000000014]
[0.94000000000000072,0.43605225311511947,null,0.65139053982756545,0.18800000000000014]
[0.95000000000000073,0.43460173305029293,null,0.65269582621434008,0.18600000000000014]
[0.96000000000000074,0.43316725491131364,null,0.6540125576124024,0.18400000000000014]
[0.97000000000000075,0.43174850270869325,null,0.65534094091239636,0.18200000000000013]
[0.98000000000000076,0.43034516954557617,null,0.65668118892135674,0.18000000000000013]
[0.99000000000000077,0.42895695727205135,null,0.65803352059775,0.17800000000000013]
[1.0000000000000007,0.42758357615580683,null,0.65939816129856066,0.17600000000000013]
[1.0150000000000006,0.42555069898059211,null,0.66077534303918839,0.17400000000000013]
[1.0300000000000005,0.42354964220034214,null,0.66216530476697122,0.17200000000000013]
[1.0450000000000004,0.42157952532030579,null,0.6635682926492168,0.17000000000000012]
[1.0600000000000003,0.41963950322339089,null,0.66498456037668729,0.16800000000000012]
[1.0750000000000002,0.41772876430174272,null,0.66641436948356325,0.16600000000000012]
[1.0900000000000001,0.41584652871047784,null,0.66785798968498433,0.16400000000000012]
[1.105,0.41399204673406775,null,0.66931569923336454,0.16200000000000012]
[1.1199999999999999,0.41216459725673449,null,0.67078778529476135,0.16000000000000011]
[1.1349999999999998,0.41036348632897146,null,0.67227454434669709,0.15800000000000011]
[1.1499999999999997,{"$f":"EXP(A444)*ERFC(SQRT(A444))","v":0.4085880458230095},null,{"$f":"VLOOKUP(E444,$A$4:$B$687,2,TRUE)","v":0.6737762825989374},0.15600000000000011]
[1.1649999999999996,0.40683763217065605,null,0.67529331643886381,0.15400000000000011]
[1.1799999999999995,0.40511162517750932,null,0.67682597290320978,0.15200000000000011]
[1.1949999999999994,0.40340942690803705,null,0.67837459017809387,0.15000000000000011]
[1.2099999999999993,0.4017304606364952,null,0.67993951812943665,0.1480000000000001]
[1.2249999999999992,0.4000741698590442,null,0.6815211188660486,0.1460000000000001]
[1.2399999999999991,0.39844001736282514,null,0.68311976733787017,0.1440000000000001]
[1.254999999999999,0.39682748434808351,null,0.6847358519720762,0.1420000000000001]
[1.2699999999999989,0.39523606959973917,null,0.68636977535000632,0.1400000000000001]
[1.2849999999999988,0.39366528870509537,null,0.68802195492815843,0.13800000000000009]
[1.2999999999999987,0.39211467331462019,null,0.68969282380679298,0.13600000000000009]
[1.3199999999999987,0.39007777388165416,null,0.69138283155003488,0.13400000000000009]
[1.3399999999999987,0.38807488724788153,null,0.69309244506173906,0.13200000000000009]
[1.3599999999999988,0.38610502390746237,null,0.69482214952181354,0.13000000000000009]
[1.3799999999999988,0.38416723578687512,null,0.69657244938816287,0.12800000000000009]
[1.3999999999999988,0.38226061397711247,null,0.69834386946994409,0.12600000000000008]
[1.4199999999999988,0.3803842866189806,null,0.70013695607842219,0.12400000000000008]
[1.4399999999999988,0.37853741692923981,null,0.70195227826237072,0.12200000000000008]
[1.4599999999999989,0.37671920135645121,null,0.70379042913571699,0.12000000000000008]
[1.4799999999999989,0.37492886785641838,null,0.70565202730596388,0.11800000000000008]
[1.4999999999999989,0.37316567427801572,null,0.70753771841287438,0.11600000000000008]
[1.5199999999999989,0.37142890685102209,null,0.70944817678797356,0.11400000000000007]
[1.5399999999999989,0.36971787876830331,null,0.71138410724663581,0.11200000000000007]
[1.5599999999999989,0.36803192885536029,null,0.71334624702590443,0.11000000000000007]
[1.579999999999999,0.36637042032084877,null,0.71533536788275409,0.10800000000000007]
[1.599999999999999,0.36473273958222513,null,0.71735227836929594,0.10600000000000007]
[1.619999999999999,0.36311829516115002,null,0.7193978263034605,0.10400000000000006]
[1.639999999999999,0.36152651664373719,null,0.72147290145603593,0.10200000000000006]
[1.659999999999999,0.35995685370112068,null,0.72357843847761549,0.10000000000000006]
[1.679999999999999,0.35840877516619296,null,0.72464293531937396,9.900000000000006E-2]
[1.6999999999999991,0.35688176816268352,null,0.72571542009210166,9.8000000000000059E-2]
[1.7199999999999991,0.35537533728305803,null,0.72679602372025887,9.7000000000000058E-2]
[1.7399999999999991,0.35388900381198657,null,0.72788488058697876,9.6000000000000058E-2]
[1.7599999999999991,0.35242230499238436,null,0.72898212866183043,9.5000000000000057E-2]
[1.7799999999999991,0.35097479333124931,null,0.73008790963468406,9.4000000000000056E-2]
[1.7999999999999992,0.34954603594273775,null,0.73120236905604064,9.3000000000000055E-2]
[1.8199999999999992,0.34813561392610393,null,0.73232565648421311,9.2000000000000054E-2]
[1.8399999999999992,0.346743121776309,null,0.73345792563976464,9.1000000000000053E-2]
[1.8599999999999992,0.34536816682525562,null,0.73459933456765503,9.0000000000000052E-2]
[1.8799999999999992,0.34401036871176643,null,0.73575004580755998,8.9000000000000051E-2]
[1.8999999999999992,0.34266935887854461,null,0.73691022657287908,8.800000000000005E-2]
[1.9199999999999993,0.3413447800944866,null,0.73808004893897261,8.700000000000005E-2]
[1.9399999999999993,0.34003628600083247,null,0.73925969004122249,8.6000000000000049E-2]
[1.9599999999999993,0.33874354067973478,null,0.74044933228353993,8.5000000000000048E-2]
[1.9799999999999993,0.33746621824393896,null,0.74164916355800969,8.4000000000000047E-2]
[1.9999999999999993,0.33620400244634113,null,0.74285937747639885,8.3000000000000046E-2]
[2.0299999999999994,0.33433833462762147,null,0.74408017361432266,8.2000000000000045E-2]
[2.0599999999999992,0.332504969330849,null,0.74531175776892511,8.1000000000000044E-2]
[2.089999999999999,0.3307029503685518,null,0.74655434223099215,8.0000000000000043E-2]
[2.1199999999999988,0.32893136180817267,null,0.74780814607250401,7.9000000000000042E-2]
[2.1499999999999986,0.32718932577357879,null,0.74907339545070073,7.8000000000000042E-2]
[2.1799999999999984,0.3254760003939316,null,0.75035032392983825,7.7000000000000041E-2]
[2.2099999999999982,0.32379057788823024,null,0.75163917282190607,7.600000000000004E-2]
[2.239999999999998,0.32213228277492284,null,0.75294019154768599,7.5000000000000039E-2]
[2.2699999999999978,0.32050037019691807,null,0.75425363801965584,7.4000000000000038E-2]
[2.2999999999999976,0.31889412435320896,null,0.75557977904837104,7.3000000000000037E-2]
[2.3299999999999974,0.31731285702907075,null,0.75691889077410446,7.2000000000000036E-2]
[2.3599999999999972,0.31575590621751459,null,0.75827125912569093,7.1000000000000035E-2]
[2.389999999999997,0.31422263482529006,null,0.75963718030868943,7.0000000000000034E-2]
[2.4199999999999968,0.3127124294572986,null,0.76101696132519336,6.9000000000000034E-2]
[2.4499999999999966,0.31122469927380225,null,0.76241092052781689,6.8000000000000033E-2]
[2.4799999999999964,0.30975887491526855,null,0.76381938821065054,6.7000000000000032E-2]
[2.5099999999999962,0.3083144074901123,null,0.76524270724023291,6.6000000000000031E-2]
[2.539999999999996,0.30689076762098305,null,0.7666812337299036,6.500000000000003E-2]
[2.5699999999999958,{"$f":"EXP(A508)*ERFC(SQRT(A508))","v":0.30548744454559401},null,{"$f":"VLOOKUP(E508,$A$4:$B$687,2,TRUE)","v":0.76813533776122556},6.4000000000000029E-2]
[2.5999999999999956,0.3041039452683959,null,0.76960540415655676,6.3000000000000028E-2]
[2.6399999999999957,0.30228929616612321,null,0.77109183330726117,6.2000000000000027E-2]
[2.6799999999999957,0.30050796109251321,null,0.77259504206253449,6.1000000000000026E-2]
[2.7199999999999958,0.29875890443470171,null,0.94496727567644967,6.0000000000000026E-2]
[2.7599999999999958,0.29704113606402655,null,0.94496727567644967,5.9000000000000025E-2]
[2.7999999999999958,0.29535370875659261,null,0.94496727567644967,5.8000000000000024E-2]
[2.8399999999999959,0.29369571579275355,null,0.94496727567644967,5.7000000000000023E-2]
[2.8799999999999959,0.2920662887208807,null,0.94496727567644967,5.6000000000000022E-2]
[2.9199999999999959,0.29046459527214558,null,0.78199234019142783,5.5000000000000021E-2]
[2.959999999999996,0.28888983741429064,null,0.78362628067050411,5.400000000000002E-2]
[2.999999999999996,0.28734124953345636,null,0.78528105967013628,5.3000000000000019E-2]
[3.039999999999996,0.28581809673412156,null,0.7869572954381151,5.2000000000000018E-2]
[3.0799999999999961,0.28431967324810348,null,0.78865563648250114,5.1000000000000018E-2]
[3.1199999999999961,0.28284530094436472,null,0.79037676367136478,5.0000000000000017E-2]
[3.1599999999999961,0.28139432793208158,null,0.79212139252314107,4.9000000000000016E-2]
[3.1999999999999962,0.27996612725009651,null,0.79389027570915816,4.8000000000000015E-2]
[3.2399999999999962,0.27856009563643874,null,0.79568420579283727,4.7000000000000014E-2]
[3.2799999999999963,0.27717565237214892,null,0.79750401823347816,4.6000000000000013E-2]
[3.3199999999999963,0.275812238194105,null,0.79935059468651015,4.5000000000000012E-2]
[3.3599999999999963,0.2744693142719915,null,0.80122486663673853,4.4000000000000011E-2]
[3.3999999999999964,0.27314636124494568,null,0.80312781940654132,4.300000000000001E-2]
[3.4399999999999964,0.27184287831376647,null,0.80506049658737333,4.200000000000001E-2]
[3.4799999999999964,0.27055838238491198,null,0.80702400495047077,4.1000000000000009E-2]
[3.5199999999999965,0.26929240726278586,null,0.80901951990158072,4.0000000000000008E-2]
[3.5599999999999965,0.26804450288710713,null,0.81002966740992777,3.9500000000000007E-2]
[3.5999999999999965,0.26681423461238635,null,0.81104829155516267,3.9000000000000007E-2]
[3.6399999999999966,0.26560118252676512,null,0.81207556138714787,3.8500000000000006E-2]
[3.6799999999999966,0.26440494080768023,null,0.8131116515161898,3.8000000000000006E-2]
[3.7199999999999966,0.26322511711200136,null,0.81415674237110647,3.7500000000000006E-2]
[3.7599999999999967,0.26206133199846443,null,0.81521102047287231,3.7000000000000005E-2]
[3.7999999999999967,0.26091321838038145,null,0.81627467872500103,3.6500000000000005E-2]
[3.8399999999999967,0.25978042100675253,null,0.8173479167219394,3.6000000000000004E-2]
[3.8799999999999968,0.25866259597004027,null,0.818430941076847,3.5500000000000004E-2]
[3.9199999999999968,0.2575594102389866,null,0.81952396577027753,3.5000000000000003E-2]
[3.9599999999999969,0.25647054121497098,null,0.82062721252141291,3.4500000000000003E-2]
[3.9999999999999969,0.25539567631050591,null,0.82174091118365211,3.4000000000000002E-2]
[4.0499999999999972,0.25407132779051017,null,0.82286530016653991,3.3500000000000002E-2]
[4.099999999999997,0.25276781640906587,null,0.82400062688620834,3.3000000000000002E-2]
[4.1499999999999968,0.25148459203059581,null,0.82514714824671731,3.2500000000000001E-2]
[4.1999999999999966,0.25022112492197629,null,0.82630513115492721,3.2000000000000001E-2]
[4.2499999999999964,0.24897690477898474,null,0.82747485307179736,3.15E-2]
[4.2999999999999963,0.2477514398094538,null,0.82865660260331087,3.1E-2]
[4.3499999999999961,0.24654425586924295,null,0.82985068013455821,3.0499999999999999E-2]
[4.3999999999999959,0.24535489564743843,null,0.83105739851089444,0.03]
[4.4499999999999957,0.24418291789747321,null,0.83227708377051124,2.9499999999999998E-2]
[4.4999999999999956,0.24302789671112449,null,0.83351007593324,2.8999999999999998E-2]
[4.5499999999999954,0.24188942083256057,null,0.83475672985095428,2.8499999999999998E-2]
[4.5999999999999952,0.24076709300984234,null,0.83601741612554692,2.7999999999999997E-2]
[4.649999999999995,0.23966052938145907,null,0.8372925221011599,2.7499999999999997E-2]
[4.6999999999999948,0.23856935889567898,null,0.83858245293813594,2.6999999999999996E-2]
[4.7499999999999947,0.23749322276063076,null,0.8398876327770689,2.6499999999999996E-2]
[4.7999999999999945,0.23643177392321518,null,0.84120850600235608,2.5999999999999995E-2]
[4.8499999999999943,0.23538467657504877,null,0.84254553861584813,2.5499999999999995E-2]
[4.8999999999999941,0.23435160568379787,null,0.84389921973253934,2.4999999999999994E-2]
[4.949999999999994,0.2333322465483606,null,0.84527006321181575,2.4499999999999994E-2]
[4.9999999999999938,0.23232629437646504,null,0.84665860943957194,2.3999999999999994E-2]
[5.0799999999999939,0.23074392378262193,null,0.8480654272785989,2.3499999999999993E-2]
[5.1599999999999939,0.22919396065270903,null,0.8494911162070693,2.2999999999999993E-2]
[5.239999999999994,0.22767529960525437,null,0.8509363086677636,2.2499999999999992E-2]
[5.3199999999999941,0.22618688788234997,null,0.85240167265397171,2.1999999999999992E-2]
[5.3999999999999941,0.22472772214416015,null,0.85388791456187085,2.1499999999999991E-2]
[5.4799999999999942,0.22329684550060397,null,0.8553957823437025,2.0999999999999991E-2]
[5.5599999999999943,0.22189334475962427,null,0.85692606900143842,2.049999999999999E-2]
[5.6399999999999944,{"$f":"EXP(A572)*ERFC(SQRT(A572))","v":0.22051634787349891},null,{"$f":"VLOOKUP(E572,$A$4:$B$687,2,TRUE)","v":0.85847961646694737},1.999999999999999E-2]
[5.7199999999999944,0.21916502156646631,null,0.85973980187370169,1.9599999999999989E-2]
[5.7999999999999945,0.21783856912855681,null,0.86101593085139105,1.9199999999999988E-2]
[5.8799999999999946,0.21653622836196679,null,0.86230851377075424,1.8799999999999987E-2]
[5.9599999999999946,0.21525726966758751,null,0.86361808843735743,1.8399999999999986E-2]
[6.0399999999999947,0.21400099426046651,null,0.86494522219562497,1.7999999999999985E-2]
[6.1199999999999948,0.21276673250399342,null,0.86629051424478243,1.7599999999999984E-2]
[6.1999999999999948,0.21155384235354821,null,0.86765459819337909,1.7199999999999983E-2]
[6.2799999999999949,0.21036170790115236,null,0.86903814488312792,1.6799999999999982E-2]
[6.359999999999995,0.2091897380134351,null,0.87044186551757508,1.6399999999999981E-2]
[6.4399999999999951,0.20803736505588219,null,0.87186651513680169,1.599999999999998E-2]
[6.5199999999999951,0.20690404369695248,null,0.87331289648608534,1.559999999999998E-2]
[6.5999999999999952,0.20578924978618515,null,0.87478186433451266,1.5199999999999981E-2]
[6.6799999999999953,0.20469247930092097,null,0.87627433030917534,1.4799999999999982E-2]
[6.7599999999999953,0.20361324735670916,null,0.87779126832220988,1.4399999999999982E-2]
[6.8399999999999954,0.20255108727687746,null,0.87933372068200177,1.3999999999999983E-2]
[6.9199999999999955,0.20150554971710338,null,0.88090280499697649,1.3599999999999984E-2]
[6.9999999999999956,0.20047620184117551,null,0.88249972200130677,1.3199999999999984E-2]
[7.0999999999999952,0.19921164974446565,null,0.88412576445756752,1.2799999999999985E-2]
[7.1999999999999948,0.19797096151053883,null,0.88578232732314499,1.2399999999999986E-2]
[7.2999999999999945,0.19675338978434842,null,0.88747091940674916,1.1999999999999986E-2]
[7.3999999999999941,0.19555821979786739,null,0.8891931767909006,1.1599999999999987E-2]
[7.4999999999999938,0.19438476755501904,null,0.89095087835872222,1.1199999999999988E-2]
[7.5999999999999934,0.19323237813928076,null,0.89274596384272731,1.0799999999999988E-2]
[7.6999999999999931,0.19210042413424205,null,0.89458055491495758,1.0399999999999989E-2]
[7.7999999999999927,0.19098830414826651,null,0.89645697996912654,9.9999999999999898E-3]
[7.8999999999999924,0.18989544143522227,null,0.89837780341660134,9.5999999999999905E-3]
[7.999999999999992,0.18882128260393813,null,0.90034586054338561,9.1999999999999912E-3]
[8.1499999999999915,0.18724395781294342,null,0.90185478104741124,8.8999999999999913E-3]
[8.2999999999999918,0.18570582096029253,null,0.9033934931530555,8.5999999999999913E-3]
[8.4499999999999922,0.18420526513427657,null,0.90496358499673824,8.2999999999999914E-3]
[8.5999999999999925,0.18274077469805677,null,0.90656678994957718,7.9999999999999915E-3]
[8.7499999999999929,0.18131091869844906,null,0.90765491922035046,7.7999999999999918E-3]
[8.8999999999999932,0.17991434484964933,null,0.90875921259785919,7.5999999999999922E-3]
[9.0499999999999936,0.17854977403335442,null,0.90988031791884816,7.3999999999999925E-3]
[9.199999999999994,0.17721599526351364,null,0.91101892719484379,7.1999999999999929E-3]
[9.3499999999999943,0.17591186106985907,null,0.91217578094263019,6.9999999999999932E-3]
[9.4999999999999947,0.17463628325953454,null,0.91335167307609,6.7999999999999935E-3]
[9.649999999999995,0.17338822902064047,null,0.91454745645097391,6.5999999999999939E-3]
[9.7999999999999954,0.1721667173354493,null,0.91576404917236509,6.3999999999999942E-3]
[9.9499999999999957,0.17097081567454439,null,0.91700244179709822,6.1999999999999946E-3]
[10.099999999999996,0.16979963694615396,null,0.91826370559137638,5.9999999999999949E-3]
[10.249999999999996,0.16865233667764412,null,0.91954900203888756,5.7999999999999953E-3]
[10.399999999999997,0.16752811040852231,null,0.92085959383892813,5.5999999999999956E-3]
[10.549999999999997,0.16642619127638147,null,0.92219685769021187,5.3999999999999959E-3]
[10.699999999999998,0.16534584777909211,null,0.92356229922799482,5.1999999999999963E-3]
[10.849999999999998,0.16428638169817719,null,0.92495757057507111,4.9999999999999966E-3]
[10.999999999999998,0.16324712616980125,null,0.92638449108834275,4.799999999999997E-3]
[11.199999999999998,0.16189179330584816,null,0.92784507204212552,4.5999999999999973E-3]
[11.399999999999997,0.16056982631171487,null,0.92934154620149112,4.3999999999999977E-3]
[11.599999999999996,0.1592798726698777,null,0.93087640352437651,4.199999999999998E-3]
[11.799999999999995,0.15802065566766402,null,0.93245243462002692,3.9999999999999983E-3]
[11.999999999999995,0.1567909690037424,null,0.93407278412819128,3.7999999999999983E-3]
[12.199999999999994,0.15558967185762956,null,0.93574101693564848,3.5999999999999982E-3]
[12.399999999999993,0.15441568437584155,null,0.93746120121755505,3.3999999999999981E-3]
[12.599999999999993,0.15326798353361296,null,0.93923801384308325,3.199999999999998E-3]
[12.799999999999992,0.15214559933571392,null,0.94107687597850165,2.9999999999999979E-3]
[12.999999999999991,0.1510476113239427,null,0.94202151573110704,2.8999999999999981E-3]
[13.19999999999999,0.14997314536238043,null,0.94298413018557992,2.7999999999999982E-3]
[13.39999999999999,0.14892137067462874,null,0.94396569464261915,2.6999999999999984E-3]
[13.599999999999989,0.14789149710996247,null,0.94810443025780089,2.5999999999999986E-3]
[13.799999999999988,0.14688277261772939,null,0.94810443025780089,2.4999999999999988E-3]
[13.999999999999988,0.14589448091148566,null,0.94810443025780089,2.3999999999999989E-3]
[14.299999999999988,0.14444887014385419,null,0.94810443025780089,2.2999999999999991E-3]
[14.599999999999989,{"$f":"EXP(A636)*ERFC(SQRT(A636))","v":0.14304553178172447},null,{"$f":"VLOOKUP(E636,$A$4:$B$687,2,TRUE)","v":0.94919905481698563},2.1999999999999993E-3]
[14.89999999999999,0.14168243932158148,null,0.95032092387871869,2.0999999999999994E-3]
[15.19999999999999,0.14035770004010639,null,0.95147201350207755,1.9999999999999996E-3]
[15.499999999999991,0.13906954382510442,null,0.95265455029271318,1.8999999999999996E-3]
[15.799999999999992,0.13781631312756265,null,0.9538710582522717,1.7999999999999995E-3]
[16.099999999999991,0.13659645390399514,null,0.95512441753000787,1.6999999999999995E-3]
[16.399999999999991,0.13540850743556554,null,0.95641793899495886,1.5999999999999994E-3]
[16.699999999999992,0.13425110292525358,null,0.95775546016940061,1.4999999999999994E-3]
[16.999999999999993,0.133122950786979,null,0.95844209393605029,1.4499999999999995E-3]
[17.299999999999994,0.13202283655137501,null,0.95914147051489396,1.3999999999999996E-3]
[17.599999999999994,0.13094961532227437,null,0.95985428019850472,1.3499999999999996E-3]
[17.899999999999995,0.12990220672594308,null,0.96058127785561387,1.2999999999999997E-3]
[18.199999999999996,0.12887959030204105,null,0.96132329171691255,1.2499999999999998E-3]
[18.499999999999996,0.12788080129132384,null,0.96208123376007426,1.1999999999999999E-3]
[18.799999999999997,0.1269049267802706,null,0.96285611206484112,1.15E-3]
[19.099999999999998,0.12595110216740132,null,0.96364904561515619,1.1000000000000001E-3]
[19.399999999999999,0.12501850791998734,null,0.96446128216811811,1.0500000000000002E-3]
[19.7,0.12410636659334452,null,0.9652942200040564,1.0000000000000002E-3]
[20,0.12321394008789174,null,0.96614943464060088,9.5000000000000032E-4]
[20.5,0.12176848425393871,null,0.96702871196987661,9.000000000000003E-4]
[21,0.12037281978908924,null,0.96793408981367612,8.5000000000000028E-4]
[21.5,0.11902414794599049,null,0.96886791066780154,8.0000000000000026E-4]
[22,0.11771988567526816,null,0.96983288955410574,7.5000000000000023E-4]
[22.5,0.11645764468664853,null,0.9708322026318339,7.0000000000000021E-4]
[23,0.11523521294468719,null,0.97186960490252605,6.5000000000000019E-4]
[23.5,0.11405053827114731,null,0.97294958961166544,6.0000000000000016E-4]
[24,0.1129017137760734,null,0.97407760896043716,5.5000000000000014E-4]
[24.5,0.11178696488108109,null,0.97526038767656553,5.0000000000000012E-4]
[25,0.11070463773306857,null,0.97650638218731678,4.500000000000001E-4]
[25.5,0.10965318883545988,null,0.97782647768353947,4.0000000000000007E-4]
[26,0.10863117574849826,null,0.97923509366297246,3.5000000000000005E-4]
[26.5,0.10763724873061344,null,0.98075203523918975,3.0000000000000003E-4]
[30,0.10136909344029225,null,0.98240581625350776,2.5000000000000001E-4]
[40,{"$f":"2/SQRT(PI())/(SQRT(A669)+SQRT(A669+2))","v":8.811816341018365E-2},null,0.98424020092288889,2.0000000000000001E-4]
[50,{"$f":"2/SQRT(PI())/(SQRT(A670)+SQRT(A670+2))","v":7.9006141113892481E-2},null,0.98503940428262926,1.8000000000000001E-4]
[60,7.2239500922161234E-2,null,0.98588549732143993,1.6000000000000001E-4]
[70,6.6958645404044059E-2,null,0.98678760126593679,1.4000000000000001E-4]
[80,6.2688925909970522E-2,null,0.98775824382612176,1.2E-4]
[90,5.9144031347696427E-2,null,0.98881546104634255,1E-4]
[100,5.6139649735445919E-2,null,0.98938461704540015,9.0000000000000006E-5]
[200,3.9794988052811647E-2,null,0.98998693482650846,8.0000000000000007E-5]
[300,3.251939183891709E-2,null,0.99062886443301423,7.0000000000000007E-5]
[400,2.8174305208515903E-2,null,0.99131926473141074,6.0000000000000002E-5]
[600,2.3013781102381854E-2,null,0.99207088967515267,5.0000000000000002E-5]
[1000,1.7832329450432342E-2,null,0.99290331402578236,4.0000000000000003E-5]
[2000,1.2612510270421193E-2,null,0.99384948960840547,3.0000000000000004E-5]
[4000,8.9195057818735688E-3,null,0.99497366787188879,2.0000000000000002E-5]
[5000,7.9780478830048795E-3,null,0.99644172802927777,1.0000000000000001E-5]
[6000,7.2830493337376848E-3,null,0.99681644476719689,7.9999999999999996E-6]
[7000,6.7428737140081433E-3,null,0.99774723565577705,3.9999999999999998E-6]
[8000,6.307437114866068E-3,null,0.99840622875270046,1.9999999999999999E-6]
[10000,5.6416137688917421E-3,null,0.9988726200811513,9.9999999999999995E-7]

{"sheet":"logKow for PAH","index":3,"n_rows":15,"n_cols":5,"rows_kept":15,"cut":false,"hidden":false,"merged":[]}
["PAH","logKow (SPARC Estimates)"]
["Naphthalene",3.41,null,null,"PAHs: logKf= 0.725logKow +0.479(Ghosh et al., 2014)"]
["Fluorene",4.2]
["Acenaphthene",4.0599999999999996]
["Phenanthrene",4.74]
["Anthracene",4.6900000000000004]
["Fluoranthene",5.29]
["Pyrene",5.25]
["Chrysene",5.9]
["Benz[a]anthracene",5.85]
["Benzo[b]fluoranthene",6.58]
["Benzo[k]fluoranthene",6.5]
["Benzo[a]pyrene",6.54]
["Dibenz[a,h]anthracene",7.39]
["Benzo[ghi]perylene+Indeno[1,2,3-cd]pyrene",7.04]

{"sheet":"logKow for PCB","index":4,"n_rows":77,"n_cols":11,"rows_kept":77,"cut":false,"hidden":false,"merged":[]}
["PCB congener (Hawker and Connell, 1988)"]
["no.","log Kow",null,"no.","log Kow",null,"no. ","log Kow",null,null,"PCBs: logKf= 0.947logKow -0.017(Ghosh et al., 2014)"]
[0,4.09,null,75,6.05,null,150,6.32]
[1,4.46,null,76,6.13,null,151,6.64]
[2,4.6900000000000004,null,77,6.36,null,152,6.22]
[3,4.6900000000000004,null,78,6.35,null,153,6.92]
[4,4.6500000000000004,null,79,6.42,null,154,6.76]
[5,4.97,null,80,6.48,null,155,6.41]
[6,5.0599999999999996,null,81,6.36,null,156,7.18]
[7,5.07,null,82,6.2,null,157,7.18]
[8,5.07,null,83,6.26,null,158,7.02]
[9,5.0599999999999996,null,84,6.04,null,159,7.24]
[10,4.84,null,85,6.3,null,160,6.93]
[11,5.28,null,86,6.23,null,161,7.08]
[12,5.22,null,87,6.29,null,162,7.24]
[13,5.29,null,88,6.07,null,163,6.99]
[14,5.28,null,89,6.07,null,164,7.02]
[15,5.3,null,90,6.36,null,165,7.05]
[16,5.16,null,91,6.13,null,166,6.93]
[17,5.25,null,92,6.35,null,167,7.27]
[18,5.24,null,93,6.04,null,168,7.11]
[19,5.0199999999999996,null,94,6.13,null,169,7.42]
[20,5.57,null,95,6.13,null,170,7.27]
[21,5.51,null,96,5.71,null,171,7.11]
[22,5.58,null,97,6.29,null,172,7.33]
[23,5.57,null,98,6.13,null,173,7.02]
[24,5.35,null,99,6.39,null,174,7.11]
[25,5.67,null,100,6.23,null,175,7.17]
[26,5.66,null,101,6.38,null,176,6.76]
[27,5.44,null,102,6.16,null,177,7.08]
[28,5.67,null,103,6.22,null,178,7.14]
[29,5.6,null,104,5.81,null,179,6.73]
[30,5.44,null,105,6.65,null,180,7.36]
[31,5.67,null,106,6.64,null,181,7.11]
[32,5.44,null,107,6.71,null,182,7.2]
[33,5.6,null,108,6.71,null,183,7.2]
[34,5.66,null,109,6.48,null,184,6.85]
[35,5.82,null,110,6.48,null,185,7.11]
[36,5.88,null,111,6.76,null,186,6.69]
[37,5.83,null,112,6.45,null,187,7.17]
[38,5.76,null,113,6.54,null,188,6.82]
[39,5.89,null,114,6.65,null,189,7.71]
[40,5.66,null,115,6.49,null,190,7.46]
[41,5.69,null,116,6.33,null,191,7.55]
[42,5.76,null,117,6.46,null,192,7.52]
[43,5.75,null,118,6.74,null,193,7.52]
[44,5.75,null,119,6.58,null,194,7.8]
[45,5.53,null,120,6.79,null,195,7.56]
[46,5.53,null,121,6.64,null,196,7.65]
[47,5.85,null,122,6.64,null,197,7.3]
[48,5.78,null,123,6.74,null,198,7.62]
[49,5.85,null,124,6.73,null,199,7.2]
[50,5.63,null,125,6.51,null,200,7.27]
[51,5.63,null,126,6.89,null,201,7.62]
[52,5.84,null,127,6.95,null,202,7.24]
[53,5.62,null,128,6.74,null,203,7.65]
[54,5.21,null,129,6.73,null,204,7.3]
[55,6.11,null,130,6.8,null,205,8]
[56,6.11,null,131,6.58,null,206,8.09]
[57,6.17,null,132,6.58,null,207,7.74]
[58,6.17,null,133,6.86,null,208,7.71]
[59,5.95,null,134,6.55,null,209,8.18]
[60,6.11,null,135,6.64]
[61,6.04,null,136,6.22]
[62,5.89,null,137,6.83]
[63,6.17,null,138,6.83]
[64,5.95,null,139,6.67]
[65,5.86,null,140,6.67]
[66,6.2,null,141,6.82]
[67,6.2,null,142,6.51]
[68,6.26,null,143,6.6]
[69,6.04,null,144,6.67]
[70,6.2,null,145,6.25]
[71,5.98,null,146,6.89]
[72,6.26,null,147,6.64]
[73,6.04,null,148,6.73]
[74,6.2,null,149,6.67]