{"text_format":"1","workbook":"xlsx","n_sheets":8,"sheets":["PRC model","fitted_R","cyl_fitted_plot","fitted_RD","rec_fitted_plot","fitted_ke","kinetic_fitted_plot","Kow_fitting"],"not_rendered":{"charts":4,"images":0,"macros":1,"external_links":1,"defined_names":13,"comments":0,"pivot_tables":0},"unopened":[],"bounds":{"document_bytes":16777216,"sheet_cells":100000,"rows_first":2000,"rows_last":500,"rows_between":2000,"halvings":0,"cell_chars":16384,"cell_head_chars":4096},"cells_cut":0,"cells_raw":0,"read":"whole","date_system":"1900"}

{"sheet":"PRC model","index":0,"n_rows":77,"n_cols":26,"rows_kept":77,"cut":false,"hidden":false,"merged":[]}
["PRC CALIBRATION MODEL FOR PDMS SAMPLER"]
["Shen and Reible (2018)"]
["Version 1.4"]
["2018-07-18"]
[]
["Parameters","Symbol","Value","Unit"]
["Inner radius","Li",2.4850000000000001E-2,"cm"]
["Outer radius","Lo",2.835E-2,"cm"]
["Sampling time","t",30,"days"]
[]
["Number of PRCs",6]
["PRC #",{"$f":"PRCNumber(1,$B$11)","v":1},{"$f":"PRCNumber(2,$B$11)","v":2},{"$f":"PRCNumber(3,$B$11)","v":3},{"$f":"PRCNumber(4,$B$11)","v":4},{"$f":"PRCNumber(5,$B$11)","v":5},{"$f":"PRCNumber(6,$B$11)","v":6},{"$f":"PRCNumber(7,$B$11)","v":""},{"$f":"PRCNumber(8,$B$11)","v":""},{"$f":"PRCNumber(9,$B$11)","v":""},{"$f":"PRCNumber(10,$B$11)","v":""},{"$f":"PRCNumber(11,$B$11)","v":""},{"$f":"PRCNumber(12,$B$11)","v":""},{"$f":"PRCNumber(13,$B$11)","v":""},{"$f":"PRCNumber(14,$B$11)","v":""},{"$f":"PRCNumber(15,$B$11)","v":""},{"$f":"PRCNumber(16,$B$11)","v":""},{"$f":"PRCNumber(17,$B$11)","v":""},{"$f":"PRCNumber(18,$B$11)","v":""},{"$f":"PRCNumber(19,$B$11)","v":""},{"$f":"PRCNumber(20,$B$11)","v":""},{"$f":"PRCNumber(21,$B$11)","v":""},{"$f":"PRCNumber(22,$B$11)","v":""},{"$f":"PRCNumber(23,$B$11)","v":""},{"$f":"PRCNumber(24,$B$11)","v":""},{"$f":"PRCNumber(25,$B$11)","v":""}]
["PRC name","PCB28","PCB52","PCB101","PCB138","PCB153","PCB180"]
["Kow",5.67,5.84,6.38,6.83,6.92,7.36]
["PDMS Kfiber",5.3524900000000004,5.5134800000000004,6.0248600000000003,6.4510100000000001,6.5362400000000003,6.9529199999999998]
["Measured PRC fss",0.55676881507531728,0.55913787309111374,0.35298058095770457,0.27933176001033722,0.15522401667758556,0.30407353432428263]
[]
["Fitting parameters"]
["Fix a/alpha? (Y or N)","N"]
["a/alpha value",1]
["R_initial guess",1]
["R_step_size (R(i+1)/R(i))",{"$f":"10^0.1","v":1.2589254117941673}]
[]
["Results"]
["1st order model","(log(ke) = x*log(Kow)+y)"]
[null,"x","y","r^2"]
[null,-0.31826805293741045,0.21900709805878504,0.64570969677571244]
[]
["Rectangular diffusion model","(log(RD) =a*log(Kow)+b)"]
[null,"a","b","r^2"]
[null,1.135184779683712,-7.1865394761615784,0.82259715062805272]
[]
["Cylindrical diffusion model","(log(R) = α*log(Kow)+β)"]
["D","α","β","r^2"]
[1.0446480654270215E-5,1.7836952252573937,-6.884997972854384,0.89672831554435639]
[]
[null,"(log(R) = αlog(Kow)+β)"]
["Effective Diffusivity(cm^2/s)","Fitted parameter"]
["D","α","β","r^2"]
[5.0000000000000004E-6,1.3430040116817692,-3.4090368136071207,0.86304738547039261]
[{"$f":"A40*10^0.02","v":5.2356427402544986E-6},1.3549661742147456,-3.5159300201827897,0.86484854693893398]
[{"$f":"A41*10^0.02","v":5.4823909807159268E-6},1.3678952648360729,-3.6297496934693765,0.86674889336741112]
[5.7407681074844162E-6,1.381861394743928,-3.7509965590584269,0.86873307256224575]
[6.0113221730870676E-6,1.3970458695041257,-3.8809244995810364,0.87081749478896509]
[6.2946270589708399E-6,1.4135333766429832,-4.0201576484596879,0.87298985151365494]
[6.5912836927820397E-6,1.4315319029162406,-4.1701452101363925,0.87525799924513403]
[6.9019213230144295E-6,1.451254527085204,-4.3323963002943495,0.87761190018783464]
[7.2271988537296435E-6,1.4729622927529746,-4.5087405804614713,0.88004512640246202]
[7.5678062421810475E-6,1.4969326981598579,-4.7011144950174595,0.88254531778990331]
[7.9244659623055757E-6,1.523592488708452,-4.9125088362040525,0.88508257803633927]
[8.2979345371878126E-6,1.5534025225068171,-5.1461479148836089,0.88762113880132665]
[8.6890041437468887E-6,1.5870637050654059,-5.4069336101289194,0.89011446407321593]
[9.0985042930499305E-6,1.6254200622375452,-5.7007351338024259,0.89246833849240104]
[9.5273035898162505E-6,1.6696502947095646,-6.0357742285067673,0.89453590860101961]
[9.9763115748444134E-6,1.7215273228426686,-6.4244027036558835,0.89608308959126415]
[1.0446480654270215E-5,1.7836952252573937,-6.884997972854384,0.89672831554435639]
[1.0938808119747782E-5,1.8604265003845155,-7.4472530874475567,0.8957525569869953]
[1.1454338263838886E-5,1.9599015043786896,-8.1679530740183424,0.89175633032106494]
[1.1994164595097476E-5,2.099957696195395,-9.1708792251811531,0.88151662501547323]
[1.2559432157547926E-5,2.3361113779056413,-10.841113262882999,0.85510318269775565]
[1.3151339959476938E-5,2.9587668539021346,-15.192583324907659,0.76943968051381562]
[1.3771143516690862E-5,2.9743492757992889,-15.335507815595896,0.78200323076591327]
[1.4420157515633062E-5,2.9947011554714318,-15.512908555164977,0.79628139621635952]
[1.5099758602010116E-5,3.0216331416042537,-15.737621185198353,0.81270382361511662]
[1.5811388300841935E-5,3.0580876502761987,-16.030497002368225,0.8318534562659271]
[1.6556556074129596E-5,3.109478253420173,-16.429794156014168,0.85456351242972739]
[1.7336842522626628E-5,3.187459130587055,-17.01774987543391,0.88200670112311541]
[1.8153902738505117E-5,3.3258456093122688,-18.032825332549756,0.91532580302391664]
[1.9009469816028113E-5,3.7704969426040309,-21.207621605402615,0.93655545501943827]
[1.9905358527674918E-5,3.8656444130584524,-21.921560163406848,0.93097663597466551]
[2.084346917351683E-5,3.8438327620772919,-21.813540435065683,0.93391879474807049]
[2.1825791612008364E-5,3.8215089298471554,-21.704441054989559,0.93707098552846113]
[2.2854409480743823E-5,3.7986623287125134,-21.5946487043581,0.94044479206260922]
[2.3931504616131993E-5,3.7752680073273881,-21.484623936567978,0.94404753451837198]
[2.5059361681363697E-5,3.7513681489298429,-21.375510450325194,0.94786400483805999]
[2.6240373012488718E-5,3.7270684346688339,-21.269262149260644,0.95183199202950375]
[2.7477043692881322E-5,3.7026237107289828,-21.169591781201202,0.95577222239888959]

{"sheet":"fitted_R","index":1,"n_rows":58,"n_cols":22,"rows_kept":58,"cut":false,"hidden":false,"merged":[]}
[null,null,"PRC#"]
[null,"D(cm^2/s)",{"$f":"'PRC model'!B12","v":1},{"$f":"'PRC model'!C12","v":2},{"$f":"'PRC model'!D12","v":3},{"$f":"'PRC model'!E12","v":4},{"$f":"'PRC model'!F12","v":5},{"$f":"'PRC model'!G12","v":6},{"$f":"'PRC model'!H12","v":""},{"$f":"'PRC model'!I12","v":""},{"$f":"'PRC model'!J12","v":""},{"$f":"'PRC model'!K12","v":""},{"$f":"'PRC model'!L12","v":""},{"$f":"'PRC model'!M12","v":""},{"$f":"'PRC model'!N12","v":""},{"$f":"'PRC model'!O12","v":""},{"$f":"'PRC model'!P12","v":""},{"$f":"'PRC model'!Q12","v":""},{"$f":"'PRC model'!R12","v":""},{"$f":"'PRC model'!S12","v":""},{"$f":"'PRC model'!T12","v":""},{"$f":"'PRC model'!U12","v":""}]
["Best fit",1.0446480654270215E-5,2.9375108062638922,3.9371936693530643,4.6181267164670761,5.3682569416420947,4.8161831490493778,6.576854665136536,8.1508255522840098,2.532408614071167,3.0430548408932347,3.6545755691220476,4.3365269270776858,{"$f":"G3+LOG($B$3)","v":-0.16484684661460225},1.595824669472556]
[]
["Guess",5.0000000000000004E-6,4.1836636719437381,4.6585804850548431,5.121034087760485,5.7674291635047021,5.2748811536039408,6.9173470120785616,8.8945854850762682,2.532408614071167,3.0430548408932347,3.6545755691220476,4.3365269270776858]
[null,5.2356427402544986E-6,4.1394087797914203,4.6248370330734714,5.0939178201149495,5.7441489611719065,5.2493164318194667,6.8964716473071226,8.8745319540184706,2.4268560677917632,2.9859381806487746,3.6178946104440319,4.3092521339567993]
[null,5.4823909807159268E-6,4.0931933562167355,4.5901429583617039,5.0663625536990251,5.720704683173035,5.2234639473290354,6.8755496690110425,8.8544841177028601,2.3065029373637218,2.9252285472390707,3.5800569886702425,4.2815777369150227]
[null,5.7407681074844162E-6,4.0448041126958563,4.5544841177028603,5.0383975595610195,5.6970801265915041,5.1972735549893443,6.8545755691220478,8.8344566895537753,2.1662142060523286,2.8604188379704305,3.5409841127487707,4.2534768790508917]
[null,6.0113221730870676E-6,3.9939178201149486,4.5177287444471634,5.0099789456543649,5.6732783447500701,5.1707602179191685,6.8335778402889673,8.8143980516598308,1.9976877545432121,2.7907323183686925,3.5005722617824278,4.2249023099495879]
[null,6.2946270589708399E-6,3.9402916701425181,4.4798269785011318,4.9810618533131361,5.6492701514298789,5.1438834995597551,6.8125216453717945,8.7943630441183753,1.7868446591709801,2.7153332233449232,3.458610684812224,4.1958345970228113]
[null,6.5912836927820397E-6,3.8834926026157879,4.4406380294501355,4.9516395296117768,5.6250654592275673,5.1166324372311776,6.7914048947785775,8.774313561608917,1.5051388632999005,2.6331777746711493,3.4150328519979638,4.1662142060523291]
[null,6.9019213230144295E-6,3.8230708384282019,4.4000196463126739,4.9216263871335508,5.6006240334495532,5.088961833531509,6.7702460157013684,8.7542554048684753,1.079769456919824,2.5427417281486346,3.3695840027196469,4.1360500551194885]
[null,7.2271988537296435E-6,3.7584294547596651,4.3578248078072432,4.8910126851331013,5.5759560881769303,5.0608396593627969,6.7490232393574416,8.7342012076927524,0.1946966628453457,2.4421148246110742,3.32215219817604,4.1052583909701994]
[null,7.5678062421810475E-6,3.6889336723231443,4.3139297095878471,4.8597868403309139,5.5510253483540408,5.0322802880946975,6.727732399439061,8.7141472169331369,-3.0137789219800398E-2,2.328606966359974,3.2724015857055533,4.0738181318496496]
[null,7.9244659623055757E-6,3.6136618586107612,4.2681092397868241,4.8278296605582618,5.5258477237429204,5.0032047794141263,6.7064007802924168,8.6940848326085263,-3.0137789219800398E-2,2.1982394068324314,3.2201111245667793,4.041675453076226]
[null,8.2979345371878126E-6,3.5315095349379044,4.2201771155978669,4.7951410895291131,5.5003823795170774,4.973599380096756,6.6850013887854933,8.6740222007896648,-3.0137789219800398E-2,2.0449287914852463,3.1649065571011481,4.0087782064860829]
[null,8.6890041437468887E-6,3.4408582961837011,4.1698195007444383,4.7616500937563941,5.4746192802413054,4.9434302784472788,6.663505387404193,8.6539655289289286,-3.0137789219800398E-2,1.8585502831973002,3.1064688876765425,3.9750556481613231]
[null,9.0985042930499305E-6,3.3397873811697951,4.1167322159598569,4.727278225989668,5.4485599005169858,4.9126559435848494,6.6419579572285512,8.6338816438732024,-3.0137789219800398E-2,1.620968226827761,3.0442426147781054,3.9404491404355375]
[null,9.5273035898162505E-6,3.2254241720458903,4.0605992399285968,4.691964580550871,5.4221521981760405,4.8812338826116966,6.6203420493193228,8.6138292848294693,-3.0137789219800398E-2,1.2922441531889879,2.9776935895674463,3.9048655336026452]
[null,9.9763115748444134E-6,3.0934721392145095,4.0009517774334604,4.6556106748961144,5.3953908798222896,4.8490849805372749,6.5986389170251352,8.5937507433702596,-3.0137789219800398E-2,0.75539776646783419,2.9060941648197205,3.8682569416420938]
[null,1.0446480654270215E-5,2.9375108062638922,3.9371936693530643,4.6181267164670761,5.3682569416420947,4.8161831490493778,6.576854665136536,8.573657724671925,-3.0137789219800398E-2,-3.0137789219800398E-2,2.8284775119679222,3.8305119499734599]
[null,1.0938808119747782E-5,2.7467946908384211,3.8687587525404132,4.5794241673487033,5.3407009742029521,4.7824647691536208,6.554971636226659,8.5535838182023145,-3.0137789219800398E-2,-3.0137789219800398E-2,2.7436803899616229,3.7915448838562242]
[null,1.1454338263838886E-5,2.5007448100107901,3.7946966628453467,4.5394087797914207,5.3127398588837256,4.7478484861474071,6.533001628980144,8.5334978566427324,-3.0137789219800398E-2,-3.0137789219800398E-2,2.6501332398765567,3.7512096939492405]
[null,1.1994164595097476E-5,2.1536907310278925,3.7139297095878465,4.4979084995528078,5.2843188141678388,4.7122865235223381,6.5109405226747592,8.5134105981985773,-3.0137789219800398E-2,-3.0137789219800398E-2,2.5457383323234968,3.7093874468680945]
[null,1.2559432157547926E-5,1.5619199028252342,3.6250980817297127,4.4547888809068867,5.2553977664678353,4.675694862377715,6.4887646667146308,8.4933048908915829,-3.0137789219800398E-2,-3.0137789219800398E-2,2.4275053720846533,3.6659173586531995]
[null,1.3151339959476938E-5,-3.0137789219800398E-2,3.5262708627677344,4.4098607103281413,5.2259779642818511,4.637954409236789,6.4664811953425865,8.4732199491820381,-3.0137789219800398E-2,-3.0137789219800398E-2,2.2909566262580219,3.6206717289685071]
[null,1.3771143516690862E-5,-3.0137789219800398E-2,3.4147322727612019,4.3629376714755939,5.195973165728387,4.5989830276389307,6.4440865142125743,8.4531100304920344,-3.0137789219800398E-2,-3.0137789219800398E-2,2.1292536601360861,3.573395112335676]
[null,1.4420157515633062E-5,-3.0137789219800398E-2,3.2866182168576334,4.3138292848294677,5.165382521490101,4.5586408824697351,6.4215606159688399,8.4330016289801453,-3.0137789219800398E-2,-3.0137789219800398E-2,1.9307374114741451,3.5238567007225536]
[null,1.5099758602010116E-5,-3.0137789219800398E-2,3.1359864326107028,4.2622194942179013,5.1341373137374626,4.5168319717697383,6.3989279882597803,8.4128908655737913,-3.0137789219800398E-2,-3.0137789219800398E-2,1.6732783447500694,3.471816094789312]
[null,1.5811388300841935E-5,-3.0137789219800398E-2,2.9530794457866949,4.2077609027492917,5.102208708639874,4.4733659233824232,6.3761591552239096,8.3927748458885727,-3.0137789219800398E-2,-3.0137789219800398E-2,1.3056850071627695,3.4169649438829732]
[null,1.6556556074129596E-5,-3.0137789219800398E-2,2.7200451235068335,4.1501332398765571,5.0695251082549442,4.4280889171042084,6.3532323477789934,8.3726501805259357,-3.0137789219800398E-2,-3.0137789219800398E-2,0.65564108186715309,3.3588522073004734]
[null,1.7336842522626628E-5,-3.0137789219800398E-2,2.3986802246978094,4.0888210092253949,5.0360500551194889,4.3808036815298621,6.3301896589389122,8.3525285524545634,1.2698622107801998,-3.0137789219800398E-2,-3.0137789219800398E-2,3.2970801265915033]
[null,1.8153902738505117E-5,-3.0137789219800398E-2,1.8779247320960593,4.0233001951946301,5.0017098152435588,4.3312844740283802,6.3069453405371103,8.3323765361316831,1.9698622107802,-3.0137789219800398E-2,-3.0137789219800398E-2,3.2310592964268894]
[null,1.9009469816028113E-5,-3.0137789219800398E-2,0.35173158193147053,3.9528346905728617,4.9664218785721577,4.2792226215819991,6.2835781457028252,8.3122361237036433,2.2698622107802002,-3.0137789219800398E-2,-3.0137789219800398E-2,3.1600578090863638]
[null,1.9905358527674918E-5,-3.0137789219800398E-2,-3.0137789219800398E-2,3.8765939794298525,4.9300929249713468,4.2243471435108155,6.2600126593661312,8.2920904105100419,2.4698622107802,-3.0137789219800398E-2,-3.0137789219800398E-2,3.0832644053077018]
[null,2.084346917351683E-5,-3.0137789219800398E-2,-3.0137789219800398E-2,3.7933606474892989,4.8926631749879705,4.1662142060523291,6.2362726605302896,8.2719332561356094,2.6698622107802001,-3.0137789219800398E-2,-3.0137789219800398E-2,2.9994505809480412]
[null,2.1825791612008364E-5,-3.0137789219800398E-2,-3.0137789219800398E-2,3.7017098152435577,4.8540265715234057,4.1044210056219796,6.212320120152377,8.251762261702714,2.7698622107802002,-3.0137789219800398E-2,-3.0137789219800398E-2,2.9071833710967621]
[null,2.2854409480743823E-5,-3.0137789219800398E-2,-3.0137789219800398E-2,3.5996154796573756,4.8140635731529748,4.0383342800500213,6.1882008392186378,8.2316059539213473,2.9698622107802004,-3.0137789219800398E-2,-3.0137789219800398E-2,2.8043867923082439]
[null,2.3931504616131993E-5,-3.0137789219800398E-2,-3.0137789219800398E-2,3.4842334168604436,4.7726063211904934,3.9673107805822658,6.163833726166672,8.2114120976418814,2.9698622107802004,-3.0137789219800398E-2,-3.0137789219800398E-2,2.688257254919423]
[null,2.5059361681363697E-5,-3.0137789219800398E-2,-3.0137789219800398E-2,3.351363255527243,4.7295766462682636,3.8903956391618681,6.1392351437949424,8.191236848300445,3.0698622107802005,-3.0137789219800398E-2,-3.0137789219800398E-2,2.5546670012879358]
[null,2.6240373012488718E-5,-3.0137789219800398E-2,-3.0137789219800398E-2,3.1946966628453461,4.6847739830913468,3.8065029373637218,6.1143980516598297,8.1710244278995319,3.1698622107802001,-3.0137789219800398E-2,-3.0137789219800398E-2,2.3972459276350215]
[null,2.7477043692881322E-5,-3.0137789219800398E-2,-3.0137789219800398E-2,3.0036334166900867,4.637986077831739,3.7141304894658171,6.0892996256750767,8.1508255522840098,3.2698622107802002,-3.0137789219800398E-2,-3.0137789219800398E-2,2.2052071688539021]
[null,5.7543993733715888E-6,4.042240277734245,4.5526204165511341,5.0369397929780479,5.6958623143011602,5.1959177435515551,6.8535074357812222]
[null,6.0255958607435986E-6,3.9912368483004443,4.5158333810594193,5.0085071584053358,5.6720503858833489,5.1693778371421129,6.8324887985555183]
[null,6.309573444801955E-6,3.9374473974057715,4.4778669579959995,4.9795680713672779,5.6480341848846409,5.1424910753152888,6.8114289301382467]
[null,6.6069344800759839E-6,3.880459213575433,4.438587342791414,4.9501024448064932,5.6238076259681966,5.1151997506154956,6.7903114285623687]
[null,6.9183097091893905E-6,3.8198470601233496,4.3979084995528082,4.9200781252906047,5.5993543611122538,5.0875232785659072,6.7691420994364968]
[null,7.2443596007499279E-6,3.7549716362266583,4.3556410818671534,4.8894402948956497,5.5746774879696028,5.0593951423028045,6.7479258702710805]
[null,7.585775750291867E-6,3.6852002711365208,4.3116476932434651,4.8581574678015027,5.5497327335422559,5.0307857094285673,6.7266448347076242]
[null,7.9432823472428455E-6,3.6096241430642522,4.2657391527728477,4.8261732518860931,5.5245431656530419,5.001692601797032,6.705309607045904]
[null,8.3176377110267433E-6,3.52705096102983,4.2176623803070123,4.793444268966411,5.4990655736311851,4.9720650248808917,6.683891659611116]
[null,8.7096358995608412E-6,3.435986432610703,4.1671627565356353,4.7599072917616159,5.4732783447500699,4.9418638095947536,6.6623991499027628]
[null,9.1201083935591353E-6,3.3342650922492618,4.1139297095878469,4.7254893607380009,5.4471979145593563,4.9110416175690705,6.6408582961837022]
[null,9.5499258602143993E-6,3.2191200539276212,4.0576432494445669,4.6901148736401206,5.4207705840813558,4.8795824591469303,6.6192192628276274]
[null,1.0000000000000043E-5,3.0861649777199416,3.9977981410731589,4.6536907310278934,5.3940013343900377,4.8474148800571593,6.5975221221227809]
[null,1.0471285480509041E-5,2.9286716790884757,3.9338177028825143,4.6161664998168499,5.3668369259322262,4.8144649164598619,6.575723895227032]
[null,1.0964781961431899E-5,2.7357318493299956,3.8650851048813899,4.577404488302439,5.3392825059519229,4.7807175901522942,6.5538434179942806]
[null,1.148153621496888E-5,2.4859381806487741,3.7906762232897568,4.5373205519088735,5.311277414179461,4.7460492928171751,6.5318629666067283]

{"sheet":"cyl_fitted_plot","index":2,"n_rows":90,"n_cols":8,"rows_kept":90,"cut":false,"hidden":false,"merged":[]}
[]
["Compound","logKow","logKpw","logR","ξ","τ","ω","fss"]
[1,4.46,4.2066199999999991,{"$f":"B3*'PRC model'!$B$35+'PRC model'!$C$35","v":1.0702827317935917},{"$f":"10^C3*(Lo^2-Li^2)/10^D3/Lo^2","v":317.11064310892897},{"$f":"'PRC model'!$A$35*t*86400/10^D3/Lo^2","v":2865.6037925543633},{"$f":"IF(E3>1,(1/E3-1/E3^2)^0.5,(1/E3^2-1/E3)^0.5)","v":5.6067183581529144E-2},{"$f":"IF(E3>1,1-(EXP((1/E3^2-G3^2)*F3)*((COS(G3/E3*F3*2)*(1-erfzR(1/E3*F3^0.5,G3*F3^0.5))-SIN(G3/E3*F3*2)*(-erfzI(1/E3*F3^0.5,G3*F3^0.5)))+(COS(G3/E3*F3*2)*(-erfzI(1/E3*F3^0.5,G3*F3^0.5))+SIN(G3/E3*F3*2)*(1-erfzR(1/E3*F3^0.5,G3*F3^0.5)))/E3/G3)),1-((1/E3+G3)*EXP((1/E3+G3)^2*F3)*ERFC((1/E3+G3)*F3^0.5)-(1/E3-G3)*EXP((1/E3-G3)^2*F3)*ERFC((1/E3-G3)*F3^0.5))/2/G3)","v":0.99801350548140744}]
[4,4.6500000000000004,4.3865499999999997,{"$f":"B4*'PRC model'!$B$35+'PRC model'!$C$35","v":1.4091848245924972},219.90683376864297,{"$f":"'PRC model'!$A$35*t*86400/10^D4/Lo^2","v":1313.1491306263881},{"$f":"IF(E4>1,(1/E4-1/E4^2)^0.5,(1/E4^2-1/E4)^0.5)","v":6.7280767056178387E-2},{"$f":"IF(E4>1,1-(EXP((1/E4^2-G4^2)*F4)*((COS(G4/E4*F4*2)*(1-erfzR(1/E4*F4^0.5,G4*F4^0.5))-SIN(G4/E4*F4*2)*(-erfzI(1/E4*F4^0.5,G4*F4^0.5)))+(COS(G4/E4*F4*2)*(-erfzI(1/E4*F4^0.5,G4*F4^0.5))+SIN(G4/E4*F4*2)*(1-erfzR(1/E4*F4^0.5,G4*F4^0.5)))/E4/G4)),1-((1/E4+G4)*EXP((1/E4+G4)^2*F4)*ERFC((1/E4+G4)*F4^0.5)-(1/E4-G4)*EXP((1/E4-G4)^2*F4)*ERFC((1/E4-G4)*F4^0.5))/2/G4)","v":0.99256306675280137}]
[10,4.84,4.5664799999999994,{"$f":"B5*'PRC model'!$B$35+'PRC model'!$C$35","v":1.7480869173914009},152.49887251982923,{"$f":"'PRC model'!$A$35*t*86400/10^D5/Lo^2","v":601.74426197550986},8.071199229787332E-2,{"$f":"IF(E5>1,1-(EXP((1/E5^2-G5^2)*F5)*((COS(G5/E5*F5*2)*(1-erfzR(1/E5*F5^0.5,G5*F5^0.5))-SIN(G5/E5*F5*2)*(-erfzI(1/E5*F5^0.5,G5*F5^0.5)))+(COS(G5/E5*F5*2)*(-erfzI(1/E5*F5^0.5,G5*F5^0.5))+SIN(G5/E5*F5*2)*(1-erfzR(1/E5*F5^0.5,G5*F5^0.5)))/E5/G5)),1-((1/E5+G5)*EXP((1/E5+G5)^2*F5)*ERFC((1/E5+G5)*F5^0.5)-(1/E5-G5)*EXP((1/E5-G5)^2*F5)*ERFC((1/E5-G5)*F5^0.5))/2/G5)","v":0.97234686584638153}]
[9,5.0599999999999996,4.7748199999999992,{"$f":"B6*'PRC model'!$B$35+'PRC model'!$C$35","v":2.1404998669480264},99.814510948661265,{"$f":"'PRC model'!$A$35*t*86400/10^D6/Lo^2","v":243.7805250736811},9.9590217202360332E-2,{"$f":"IF(E6>1,1-(EXP((1/E6^2-G6^2)*F6)*((COS(G6/E6*F6*2)*(1-erfzR(1/E6*F6^0.5,G6*F6^0.5))-SIN(G6/E6*F6*2)*(-erfzI(1/E6*F6^0.5,G6*F6^0.5)))+(COS(G6/E6*F6*2)*(-erfzI(1/E6*F6^0.5,G6*F6^0.5))+SIN(G6/E6*F6*2)*(1-erfzR(1/E6*F6^0.5,G6*F6^0.5)))/E6/G6)),1-((1/E6+G6)*EXP((1/E6+G6)^2*F6)*ERFC((1/E6+G6)*F6^0.5)-(1/E6-G6)*EXP((1/E6-G6)^2*F6)*ERFC((1/E6-G6)*F6^0.5))/2/G6)","v":0.91105065794129558}]
[7,5.07,4.7842899999999995,{"$f":"B7*'PRC model'!$B$35+'PRC model'!$C$35","v":2.1583368192006027},97.909927951822439,{"$f":"'PRC model'!$A$35*t*86400/10^D7/Lo^2","v":233.97101326472233},0.10054428830936604,{"$f":"IF(E7>1,1-(EXP((1/E7^2-G7^2)*F7)*((COS(G7/E7*F7*2)*(1-erfzR(1/E7*F7^0.5,G7*F7^0.5))-SIN(G7/E7*F7*2)*(-erfzI(1/E7*F7^0.5,G7*F7^0.5)))+(COS(G7/E7*F7*2)*(-erfzI(1/E7*F7^0.5,G7*F7^0.5))+SIN(G7/E7*F7*2)*(1-erfzR(1/E7*F7^0.5,G7*F7^0.5)))/E7/G7)),1-((1/E7+G7)*EXP((1/E7+G7)^2*F7)*ERFC((1/E7+G7)*F7^0.5)-(1/E7-G7)*EXP((1/E7-G7)^2*F7)*ERFC((1/E7-G7)*F7^0.5))/2/G7)","v":0.9071217125604395}]
[6,5.0599999999999996,4.7748199999999992,{"$f":"B8*'PRC model'!$B$35+'PRC model'!$C$35","v":2.1404998669480264},99.814510948661265,{"$f":"'PRC model'!$A$35*t*86400/10^D8/Lo^2","v":243.7805250736811},9.9590217202360332E-2,{"$f":"IF(E8>1,1-(EXP((1/E8^2-G8^2)*F8)*((COS(G8/E8*F8*2)*(1-erfzR(1/E8*F8^0.5,G8*F8^0.5))-SIN(G8/E8*F8*2)*(-erfzI(1/E8*F8^0.5,G8*F8^0.5)))+(COS(G8/E8*F8*2)*(-erfzI(1/E8*F8^0.5,G8*F8^0.5))+SIN(G8/E8*F8*2)*(1-erfzR(1/E8*F8^0.5,G8*F8^0.5)))/E8/G8)),1-((1/E8+G8)*EXP((1/E8+G8)^2*F8)*ERFC((1/E8+G8)*F8^0.5)-(1/E8-G8)*EXP((1/E8-G8)^2*F8)*ERFC((1/E8-G8)*F8^0.5))/2/G8)","v":0.91105065794129558}]
[8,5.07,4.7842899999999995,{"$f":"B9*'PRC model'!$B$35+'PRC model'!$C$35","v":2.1583368192006027},97.909927951822439,{"$f":"'PRC model'!$A$35*t*86400/10^D9/Lo^2","v":233.97101326472233},0.10054428830936604,{"$f":"IF(E9>1,1-(EXP((1/E9^2-G9^2)*F9)*((COS(G9/E9*F9*2)*(1-erfzR(1/E9*F9^0.5,G9*F9^0.5))-SIN(G9/E9*F9*2)*(-erfzI(1/E9*F9^0.5,G9*F9^0.5)))+(COS(G9/E9*F9*2)*(-erfzI(1/E9*F9^0.5,G9*F9^0.5))+SIN(G9/E9*F9*2)*(1-erfzR(1/E9*F9^0.5,G9*F9^0.5)))/E9/G9)),1-((1/E9+G9)*EXP((1/E9+G9)^2*F9)*ERFC((1/E9+G9)*F9^0.5)-(1/E9-G9)*EXP((1/E9-G9)^2*F9)*ERFC((1/E9-G9)*F9^0.5))/2/G9)","v":0.9071217125604395}]
[5,4.97,4.689589999999999,{"$f":"B10*'PRC model'!$B$35+'PRC model'!$C$35","v":1.9799672966748627},118.71244601444165,{"$f":"'PRC model'!$A$35*t*86400/10^D10/Lo^2","v":352.80243864214287},9.1393421979364897E-2,{"$f":"IF(E10>1,1-(EXP((1/E10^2-G10^2)*F10)*((COS(G10/E10*F10*2)*(1-erfzR(1/E10*F10^0.5,G10*F10^0.5))-SIN(G10/E10*F10*2)*(-erfzI(1/E10*F10^0.5,G10*F10^0.5)))+(COS(G10/E10*F10*2)*(-erfzI(1/E10*F10^0.5,G10*F10^0.5))+SIN(G10/E10*F10*2)*(1-erfzR(1/E10*F10^0.5,G10*F10^0.5)))/E10/G10)),1-((1/E10+G10)*EXP((1/E10+G10)^2*F10)*ERFC((1/E10+G10)*F10^0.5)-(1/E10-G10)*EXP((1/E10-G10)^2*F10)*ERFC((1/E10-G10)*F10^0.5))/2/G10)","v":0.94193986522773754}]
[19,5.0199999999999996,4.7369399999999988,{"$f":"B11*'PRC model'!$B$35+'PRC model'!$C$35","v":2.0691520579377318},107.81060725299079,{"$f":"'PRC model'!$A$35*t*86400/10^D11/Lo^2","v":287.30740340507668},9.5861826564002772E-2,{"$f":"IF(E11>1,1-(EXP((1/E11^2-G11^2)*F11)*((COS(G11/E11*F11*2)*(1-erfzR(1/E11*F11^0.5,G11*F11^0.5))-SIN(G11/E11*F11*2)*(-erfzI(1/E11*F11^0.5,G11*F11^0.5)))+(COS(G11/E11*F11*2)*(-erfzI(1/E11*F11^0.5,G11*F11^0.5))+SIN(G11/E11*F11*2)*(1-erfzR(1/E11*F11^0.5,G11*F11^0.5)))/E11/G11)),1-((1/E11+G11)*EXP((1/E11+G11)^2*F11)*ERFC((1/E11+G11)*F11^0.5)-(1/E11-G11)*EXP((1/E11-G11)^2*F11)*ERFC((1/E11-G11)*F11^0.5))/2/G11)","v":0.92578481603364615}]
[18,5.24,4.9452799999999995,{"$f":"B12*'PRC model'!$B$35+'PRC model'!$C$35","v":2.4615650074943591},70.564869498534847,{"$f":"'PRC model'!$A$35*t*86400/10^D12/Lo^2","v":116.39487750112654},0.11819699754409961,{"$f":"IF(E12>1,1-(EXP((1/E12^2-G12^2)*F12)*((COS(G12/E12*F12*2)*(1-erfzR(1/E12*F12^0.5,G12*F12^0.5))-SIN(G12/E12*F12*2)*(-erfzI(1/E12*F12^0.5,G12*F12^0.5)))+(COS(G12/E12*F12*2)*(-erfzI(1/E12*F12^0.5,G12*F12^0.5))+SIN(G12/E12*F12*2)*(1-erfzR(1/E12*F12^0.5,G12*F12^0.5)))/E12/G12)),1-((1/E12+G12)*EXP((1/E12+G12)^2*F12)*ERFC((1/E12+G12)*F12^0.5)-(1/E12-G12)*EXP((1/E12-G12)^2*F12)*ERFC((1/E12-G12)*F12^0.5))/2/G12)","v":0.827176190909234}]
[17,5.25,4.9547499999999998,{"$f":"B13*'PRC model'!$B$35+'PRC model'!$C$35","v":2.4794019597469319},69.218405448932728,{"$f":"'PRC model'!$A$35*t*86400/10^D13/Lo^2","v":111.71125100961629},0.11932438138080452,{"$f":"IF(E13>1,1-(EXP((1/E13^2-G13^2)*F13)*((COS(G13/E13*F13*2)*(1-erfzR(1/E13*F13^0.5,G13*F13^0.5))-SIN(G13/E13*F13*2)*(-erfzI(1/E13*F13^0.5,G13*F13^0.5)))+(COS(G13/E13*F13*2)*(-erfzI(1/E13*F13^0.5,G13*F13^0.5))+SIN(G13/E13*F13*2)*(1-erfzR(1/E13*F13^0.5,G13*F13^0.5)))/E13/G13)),1-((1/E13+G13)*EXP((1/E13+G13)^2*F13)*ERFC((1/E13+G13)*F13^0.5)-(1/E13-G13)*EXP((1/E13-G13)^2*F13)*ERFC((1/E13-G13)*F13^0.5))/2/G13)","v":0.8218306286795104}]
[27,5.44,5.1346799999999995,{"$f":"B14*'PRC model'!$B$35+'PRC model'!$C$35","v":2.8183040525458374},48.000912967024668,{"$f":"'PRC model'!$A$35*t*86400/10^D14/Lo^2","v":51.191142517892544},0.14282480813960846,{"$f":"IF(E14>1,1-(EXP((1/E14^2-G14^2)*F14)*((COS(G14/E14*F14*2)*(1-erfzR(1/E14*F14^0.5,G14*F14^0.5))-SIN(G14/E14*F14*2)*(-erfzI(1/E14*F14^0.5,G14*F14^0.5)))+(COS(G14/E14*F14*2)*(-erfzI(1/E14*F14^0.5,G14*F14^0.5))+SIN(G14/E14*F14*2)*(1-erfzR(1/E14*F14^0.5,G14*F14^0.5)))/E14/G14)),1-((1/E14+G14)*EXP((1/E14+G14)^2*F14)*ERFC((1/E14+G14)*F14^0.5)-(1/E14-G14)*EXP((1/E14-G14)^2*F14)*ERFC((1/E14-G14)*F14^0.5))/2/G14)","v":0.71332731702086405}]
[24,5.35,5.0494499999999993,{"$f":"B15*'PRC model'!$B$35+'PRC model'!$C$35","v":2.6577714822726719},57.088951647248251,{"$f":"'PRC model'!$A$35*t*86400/10^D15/Lo^2","v":74.084506593508351},0.13118572913187634,{"$f":"IF(E15>1,1-(EXP((1/E15^2-G15^2)*F15)*((COS(G15/E15*F15*2)*(1-erfzR(1/E15*F15^0.5,G15*F15^0.5))-SIN(G15/E15*F15*2)*(-erfzI(1/E15*F15^0.5,G15*F15^0.5)))+(COS(G15/E15*F15*2)*(-erfzI(1/E15*F15^0.5,G15*F15^0.5))+SIN(G15/E15*F15*2)*(1-erfzR(1/E15*F15^0.5,G15*F15^0.5)))/E15/G15)),1-((1/E15+G15)*EXP((1/E15+G15)^2*F15)*ERFC((1/E15+G15)*F15^0.5)-(1/E15-G15)*EXP((1/E15-G15)^2*F15)*ERFC((1/E15-G15)*F15^0.5))/2/G15)","v":0.76587692141940522}]
[32,5.44,5.1346799999999995,{"$f":"B16*'PRC model'!$B$35+'PRC model'!$C$35","v":2.8183040525458374},48.000912967024668,{"$f":"'PRC model'!$A$35*t*86400/10^D16/Lo^2","v":51.191142517892544},0.14282480813960846,{"$f":"IF(E16>1,1-(EXP((1/E16^2-G16^2)*F16)*((COS(G16/E16*F16*2)*(1-erfzR(1/E16*F16^0.5,G16*F16^0.5))-SIN(G16/E16*F16*2)*(-erfzI(1/E16*F16^0.5,G16*F16^0.5)))+(COS(G16/E16*F16*2)*(-erfzI(1/E16*F16^0.5,G16*F16^0.5))+SIN(G16/E16*F16*2)*(1-erfzR(1/E16*F16^0.5,G16*F16^0.5)))/E16/G16)),1-((1/E16+G16)*EXP((1/E16+G16)^2*F16)*ERFC((1/E16+G16)*F16^0.5)-(1/E16-G16)*EXP((1/E16-G16)^2*F16)*ERFC((1/E16-G16)*F16^0.5))/2/G16)","v":0.71332731702086405}]
[16,5.16,4.8695199999999996,{"$f":"B17*'PRC model'!$B$35+'PRC model'!$C$35","v":2.3188693894737682},82.323563397395546,{"$f":"'PRC model'!$A$35*t*86400/10^D17/Lo^2","v":161.67001760310899},0.10954285087262346,{"$f":"IF(E17>1,1-(EXP((1/E17^2-G17^2)*F17)*((COS(G17/E17*F17*2)*(1-erfzR(1/E17*F17^0.5,G17*F17^0.5))-SIN(G17/E17*F17*2)*(-erfzI(1/E17*F17^0.5,G17*F17^0.5)))+(COS(G17/E17*F17*2)*(-erfzI(1/E17*F17^0.5,G17*F17^0.5))+SIN(G17/E17*F17*2)*(1-erfzR(1/E17*F17^0.5,G17*F17^0.5)))/E17/G17)),1-((1/E17+G17)*EXP((1/E17+G17)^2*F17)*ERFC((1/E17+G17)*F17^0.5)-(1/E17-G17)*EXP((1/E17-G17)^2*F17)*ERFC((1/E17-G17)*F17^0.5))/2/G17)","v":0.86764217209193528}]
[26,5.66,5.3430199999999992,{"$f":"B18*'PRC model'!$B$35+'PRC model'!$C$35","v":3.2107170021024647},31.417856235427646,{"$f":"'PRC model'!$A$35*t*86400/10^D18/Lo^2","v":20.738716412789554},0.17554471273073036,{"$f":"IF(E18>1,1-(EXP((1/E18^2-G18^2)*F18)*((COS(G18/E18*F18*2)*(1-erfzR(1/E18*F18^0.5,G18*F18^0.5))-SIN(G18/E18*F18*2)*(-erfzI(1/E18*F18^0.5,G18*F18^0.5)))+(COS(G18/E18*F18*2)*(-erfzI(1/E18*F18^0.5,G18*F18^0.5))+SIN(G18/E18*F18*2)*(1-erfzR(1/E18*F18^0.5,G18*F18^0.5)))/E18/G18)),1-((1/E18+G18)*EXP((1/E18+G18)^2*F18)*ERFC((1/E18+G18)*F18^0.5)-(1/E18-G18)*EXP((1/E18-G18)^2*F18)*ERFC((1/E18-G18)*F18^0.5))/2/G18)","v":0.58821844477413232}]
[25,5.67,5.3524899999999995,{"$f":"B19*'PRC model'!$B$35+'PRC model'!$C$35","v":3.2285539543550374},30.818365097171487,{"$f":"'PRC model'!$A$35*t*86400/10^D19/Lo^2","v":19.904208883968799},0.17718718893857913,{"$f":"IF(E19>1,1-(EXP((1/E19^2-G19^2)*F19)*((COS(G19/E19*F19*2)*(1-erfzR(1/E19*F19^0.5,G19*F19^0.5))-SIN(G19/E19*F19*2)*(-erfzI(1/E19*F19^0.5,G19*F19^0.5)))+(COS(G19/E19*F19*2)*(-erfzI(1/E19*F19^0.5,G19*F19^0.5))+SIN(G19/E19*F19*2)*(1-erfzR(1/E19*F19^0.5,G19*F19^0.5)))/E19/G19)),1-((1/E19+G19)*EXP((1/E19+G19)^2*F19)*ERFC((1/E19+G19)*F19^0.5)-(1/E19-G19)*EXP((1/E19-G19)^2*F19)*ERFC((1/E19-G19)*F19^0.5))/2/G19)","v":0.58288846249198334}]
[31,5.67,5.3524899999999995,{"$f":"B20*'PRC model'!$B$35+'PRC model'!$C$35","v":3.2285539543550374},30.818365097171487,{"$f":"'PRC model'!$A$35*t*86400/10^D20/Lo^2","v":19.904208883968799},0.17718718893857913,{"$f":"IF(E20>1,1-(EXP((1/E20^2-G20^2)*F20)*((COS(G20/E20*F20*2)*(1-erfzR(1/E20*F20^0.5,G20*F20^0.5))-SIN(G20/E20*F20*2)*(-erfzI(1/E20*F20^0.5,G20*F20^0.5)))+(COS(G20/E20*F20*2)*(-erfzI(1/E20*F20^0.5,G20*F20^0.5))+SIN(G20/E20*F20*2)*(1-erfzR(1/E20*F20^0.5,G20*F20^0.5)))/E20/G20)),1-((1/E20+G20)*EXP((1/E20+G20)^2*F20)*ERFC((1/E20+G20)*F20^0.5)-(1/E20-G20)*EXP((1/E20-G20)^2*F20)*ERFC((1/E20-G20)*F20^0.5))/2/G20)","v":0.58288846249198334}]
[28,5.67,5.3524899999999995,{"$f":"B21*'PRC model'!$B$35+'PRC model'!$C$35","v":3.2285539543550374},30.818365097171487,{"$f":"'PRC model'!$A$35*t*86400/10^D21/Lo^2","v":19.904208883968799},0.17718718893857913,{"$f":"IF(E21>1,1-(EXP((1/E21^2-G21^2)*F21)*((COS(G21/E21*F21*2)*(1-erfzR(1/E21*F21^0.5,G21*F21^0.5))-SIN(G21/E21*F21*2)*(-erfzI(1/E21*F21^0.5,G21*F21^0.5)))+(COS(G21/E21*F21*2)*(-erfzI(1/E21*F21^0.5,G21*F21^0.5))+SIN(G21/E21*F21*2)*(1-erfzR(1/E21*F21^0.5,G21*F21^0.5)))/E21/G21)),1-((1/E21+G21)*EXP((1/E21+G21)^2*F21)*ERFC((1/E21+G21)*F21^0.5)-(1/E21-G21)*EXP((1/E21-G21)^2*F21)*ERFC((1/E21-G21)*F21^0.5))/2/G21)","v":0.58288846249198334}]
[20,5.57,5.25779,{"$f":"B22*'PRC model'!$B$35+'PRC model'!$C$35","v":3.0501844318292992},37.366215861700212,{"$f":"'PRC model'!$A$35*t*86400/10^D22/Lo^2","v":30.013347959311368},0.16138751621954245,{"$f":"IF(E22>1,1-(EXP((1/E22^2-G22^2)*F22)*((COS(G22/E22*F22*2)*(1-erfzR(1/E22*F22^0.5,G22*F22^0.5))-SIN(G22/E22*F22*2)*(-erfzI(1/E22*F22^0.5,G22*F22^0.5)))+(COS(G22/E22*F22*2)*(-erfzI(1/E22*F22^0.5,G22*F22^0.5))+SIN(G22/E22*F22*2)*(1-erfzR(1/E22*F22^0.5,G22*F22^0.5)))/E22/G22)),1-((1/E22+G22)*EXP((1/E22+G22)^2*F22)*ERFC((1/E22+G22)*F22^0.5)-(1/E22-G22)*EXP((1/E22-G22)^2*F22)*ERFC((1/E22-G22)*F22^0.5))/2/G22)","v":0.63790097636021181}]
[22,5.58,5.2672599999999994,{"$f":"B23*'PRC model'!$B$35+'PRC model'!$C$35","v":3.068021384081872},36.653222743665658,{"$f":"'PRC model'!$A$35*t*86400/10^D23/Lo^2","v":28.805637494563562},0.16290605626003543,{"$f":"IF(E23>1,1-(EXP((1/E23^2-G23^2)*F23)*((COS(G23/E23*F23*2)*(1-erfzR(1/E23*F23^0.5,G23*F23^0.5))-SIN(G23/E23*F23*2)*(-erfzI(1/E23*F23^0.5,G23*F23^0.5)))+(COS(G23/E23*F23*2)*(-erfzI(1/E23*F23^0.5,G23*F23^0.5))+SIN(G23/E23*F23*2)*(1-erfzR(1/E23*F23^0.5,G23*F23^0.5)))/E23/G23)),1-((1/E23+G23)*EXP((1/E23+G23)^2*F23)*ERFC((1/E23+G23)*F23^0.5)-(1/E23-G23)*EXP((1/E23-G23)^2*F23)*ERFC((1/E23-G23)*F23^0.5))/2/G23)","v":0.6322450764075831}]
[52,5.84,5.5134799999999995,{"$f":"B24*'PRC model'!$B$35+'PRC model'!$C$35","v":3.5317821426487939},22.211168537578605,{"$f":"'PRC model'!$A$35*t*86400/10^D24/Lo^2","v":9.901858877642848},0.20735327056219977,{"$f":"IF(E24>1,1-(EXP((1/E24^2-G24^2)*F24)*((COS(G24/E24*F24*2)*(1-erfzR(1/E24*F24^0.5,G24*F24^0.5))-SIN(G24/E24*F24*2)*(-erfzI(1/E24*F24^0.5,G24*F24^0.5)))+(COS(G24/E24*F24*2)*(-erfzI(1/E24*F24^0.5,G24*F24^0.5))+SIN(G24/E24*F24*2)*(1-erfzR(1/E24*F24^0.5,G24*F24^0.5)))/E24/G24)),1-((1/E24+G24)*EXP((1/E24+G24)^2*F24)*ERFC((1/E24+G24)*F24^0.5)-(1/E24-G24)*EXP((1/E24-G24)^2*F24)*ERFC((1/E24-G24)*F24^0.5))/2/G24)","v":0.49944507723715437}]
[47,5.85,5.5229499999999989,{"$f":"B25*'PRC model'!$B$35+'PRC model'!$C$35","v":3.5496190949013684},21.78735226543008,{"$f":"'PRC model'!$A$35*t*86400/10^D25/Lo^2","v":9.5034168709997182},0.20926429399833404,{"$f":"IF(E25>1,1-(EXP((1/E25^2-G25^2)*F25)*((COS(G25/E25*F25*2)*(1-erfzR(1/E25*F25^0.5,G25*F25^0.5))-SIN(G25/E25*F25*2)*(-erfzI(1/E25*F25^0.5,G25*F25^0.5)))+(COS(G25/E25*F25*2)*(-erfzI(1/E25*F25^0.5,G25*F25^0.5))+SIN(G25/E25*F25*2)*(1-erfzR(1/E25*F25^0.5,G25*F25^0.5)))/E25/G25)),1-((1/E25+G25)*EXP((1/E25+G25)^2*F25)*ERFC((1/E25+G25)*F25^0.5)-(1/E25-G25)*EXP((1/E25-G25)^2*F25)*ERFC((1/E25-G25)*F25^0.5))/2/G25)","v":0.49499110740938412}]
[44,5.75,5.4282499999999994,{"$f":"B26*'PRC model'!$B$35+'PRC model'!$C$35","v":3.3712495723756302},26.416421028112321,{"$f":"'PRC model'!$A$35*t*86400/10^D26/Lo^2","v":14.330102694080617},0.19084606958352626,{"$f":"IF(E26>1,1-(EXP((1/E26^2-G26^2)*F26)*((COS(G26/E26*F26*2)*(1-erfzR(1/E26*F26^0.5,G26*F26^0.5))-SIN(G26/E26*F26*2)*(-erfzI(1/E26*F26^0.5,G26*F26^0.5)))+(COS(G26/E26*F26*2)*(-erfzI(1/E26*F26^0.5,G26*F26^0.5))+SIN(G26/E26*F26*2)*(1-erfzR(1/E26*F26^0.5,G26*F26^0.5)))/E26/G26)),1-((1/E26+G26)*EXP((1/E26+G26)^2*F26)*ERFC((1/E26+G26)*F26^0.5)-(1/E26-G26)*EXP((1/E26-G26)^2*F26)*ERFC((1/E26-G26)*F26^0.5))/2/G26)","v":0.54185831622361946}]
[42,5.76,5.4377199999999988,{"$f":"B27*'PRC model'!$B$35+'PRC model'!$C$35","v":3.3890865246282029},25.912363393112351,{"$f":"'PRC model'!$A$35*t*86400/10^D27/Lo^2","v":13.753472089323902},0.19261958355262221,{"$f":"IF(E27>1,1-(EXP((1/E27^2-G27^2)*F27)*((COS(G27/E27*F27*2)*(1-erfzR(1/E27*F27^0.5,G27*F27^0.5))-SIN(G27/E27*F27*2)*(-erfzI(1/E27*F27^0.5,G27*F27^0.5)))+(COS(G27/E27*F27*2)*(-erfzI(1/E27*F27^0.5,G27*F27^0.5))+SIN(G27/E27*F27*2)*(1-erfzR(1/E27*F27^0.5,G27*F27^0.5)))/E27/G27)),1-((1/E27+G27)*EXP((1/E27+G27)^2*F27)*ERFC((1/E27+G27)*F27^0.5)-(1/E27-G27)*EXP((1/E27-G27)^2*F27)*ERFC((1/E27-G27)*F27^0.5))/2/G27)","v":0.53694302634246793}]
[71,5.98,5.6460599999999994,{"$f":"B28*'PRC model'!$B$35+'PRC model'!$C$35","v":3.7814994741848302},16.96032132480973,{"$f":"'PRC model'!$A$35*t*86400/10^D28/Lo^2","v":5.5718498029617098},0.23555196922736313,{"$f":"IF(E28>1,1-(EXP((1/E28^2-G28^2)*F28)*((COS(G28/E28*F28*2)*(1-erfzR(1/E28*F28^0.5,G28*F28^0.5))-SIN(G28/E28*F28*2)*(-erfzI(1/E28*F28^0.5,G28*F28^0.5)))+(COS(G28/E28*F28*2)*(-erfzI(1/E28*F28^0.5,G28*F28^0.5))+SIN(G28/E28*F28*2)*(1-erfzR(1/E28*F28^0.5,G28*F28^0.5)))/E28/G28)),1-((1/E28+G28)*EXP((1/E28+G28)^2*F28)*ERFC((1/E28+G28)*F28^0.5)-(1/E28-G28)*EXP((1/E28-G28)^2*F28)*ERFC((1/E28-G28)*F28^0.5))/2/G28)","v":0.44188323393487328}]
[41,5.69,5.3714300000000001,{"$f":"B29*'PRC model'!$B$35+'PRC model'!$C$35","v":3.2642278588601865},29.653481623350721,{"$f":"'PRC model'!$A$35*t*86400/10^D29/Lo^2","v":18.334582128629702},0.18051488063694879,{"$f":"IF(E29>1,1-(EXP((1/E29^2-G29^2)*F29)*((COS(G29/E29*F29*2)*(1-erfzR(1/E29*F29^0.5,G29*F29^0.5))-SIN(G29/E29*F29*2)*(-erfzI(1/E29*F29^0.5,G29*F29^0.5)))+(COS(G29/E29*F29*2)*(-erfzI(1/E29*F29^0.5,G29*F29^0.5))+SIN(G29/E29*F29*2)*(1-erfzR(1/E29*F29^0.5,G29*F29^0.5)))/E29/G29)),1-((1/E29+G29)*EXP((1/E29+G29)^2*F29)*ERFC((1/E29+G29)*F29^0.5)-(1/E29-G29)*EXP((1/E29-G29)^2*F29)*ERFC((1/E29-G29)*F29^0.5))/2/G29)","v":0.57235711867464323}]
[103,6.22,5.8733399999999989,{"$f":"B30*'PRC model'!$B$35+'PRC model'!$C$35","v":4.2095863282466048},10.681376462552551,{"$f":"'PRC model'!$A$35*t*86400/10^D30/Lo^2","v":2.0792779441436946},0.29130056844044122,{"$f":"IF(E30>1,1-(EXP((1/E30^2-G30^2)*F30)*((COS(G30/E30*F30*2)*(1-erfzR(1/E30*F30^0.5,G30*F30^0.5))-SIN(G30/E30*F30*2)*(-erfzI(1/E30*F30^0.5,G30*F30^0.5)))+(COS(G30/E30*F30*2)*(-erfzI(1/E30*F30^0.5,G30*F30^0.5))+SIN(G30/E30*F30*2)*(1-erfzR(1/E30*F30^0.5,G30*F30^0.5)))/E30/G30)),1-((1/E30+G30)*EXP((1/E30+G30)^2*F30)*ERFC((1/E30+G30)*F30^0.5)-(1/E30-G30)*EXP((1/E30-G30)^2*F30)*ERFC((1/E30-G30)*F30^0.5))/2/G30)","v":0.36603700774711645}]
[40,5.66,5.3430199999999992,{"$f":"B31*'PRC model'!$B$35+'PRC model'!$C$35","v":3.2107170021024647},31.417856235427646,{"$f":"'PRC model'!$A$35*t*86400/10^D31/Lo^2","v":20.738716412789554},0.17554471273073036,{"$f":"IF(E31>1,1-(EXP((1/E31^2-G31^2)*F31)*((COS(G31/E31*F31*2)*(1-erfzR(1/E31*F31^0.5,G31*F31^0.5))-SIN(G31/E31*F31*2)*(-erfzI(1/E31*F31^0.5,G31*F31^0.5)))+(COS(G31/E31*F31*2)*(-erfzI(1/E31*F31^0.5,G31*F31^0.5))+SIN(G31/E31*F31*2)*(1-erfzR(1/E31*F31^0.5,G31*F31^0.5)))/E31/G31)),1-((1/E31+G31)*EXP((1/E31+G31)^2*F31)*ERFC((1/E31+G31)*F31^0.5)-(1/E31-G31)*EXP((1/E31-G31)^2*F31)*ERFC((1/E31-G31)*F31^0.5))/2/G31)","v":0.58821844477413232}]
[74,6.2,5.8543999999999992,{"$f":"B32*'PRC model'!$B$35+'PRC model'!$C$35","v":4.1739124237414575},11.100975047195208,{"$f":"'PRC model'!$A$35*t*86400/10^D32/Lo^2","v":2.2572852894988946},0.28629945591168443,{"$f":"IF(E32>1,1-(EXP((1/E32^2-G32^2)*F32)*((COS(G32/E32*F32*2)*(1-erfzR(1/E32*F32^0.5,G32*F32^0.5))-SIN(G32/E32*F32*2)*(-erfzI(1/E32*F32^0.5,G32*F32^0.5)))+(COS(G32/E32*F32*2)*(-erfzI(1/E32*F32^0.5,G32*F32^0.5))+SIN(G32/E32*F32*2)*(1-erfzR(1/E32*F32^0.5,G32*F32^0.5)))/E32/G32)),1-((1/E32+G32)*EXP((1/E32+G32)^2*F32)*ERFC((1/E32+G32)*F32^0.5)-(1/E32-G32)*EXP((1/E32-G32)^2*F32)*ERFC((1/E32-G32)*F32^0.5))/2/G32)","v":0.37135419408617909}]
[70,6.2,5.8543999999999992,{"$f":"B33*'PRC model'!$B$35+'PRC model'!$C$35","v":4.1739124237414575},11.100975047195208,{"$f":"'PRC model'!$A$35*t*86400/10^D33/Lo^2","v":2.2572852894988946},0.28629945591168443,{"$f":"IF(E33>1,1-(EXP((1/E33^2-G33^2)*F33)*((COS(G33/E33*F33*2)*(1-erfzR(1/E33*F33^0.5,G33*F33^0.5))-SIN(G33/E33*F33*2)*(-erfzI(1/E33*F33^0.5,G33*F33^0.5)))+(COS(G33/E33*F33*2)*(-erfzI(1/E33*F33^0.5,G33*F33^0.5))+SIN(G33/E33*F33*2)*(1-erfzR(1/E33*F33^0.5,G33*F33^0.5)))/E33/G33)),1-((1/E33+G33)*EXP((1/E33+G33)^2*F33)*ERFC((1/E33+G33)*F33^0.5)-(1/E33-G33)*EXP((1/E33-G33)^2*F33)*ERFC((1/E33-G33)*F33^0.5))/2/G33)","v":0.37135419408617909}]
[66,6.2,5.8543999999999992,{"$f":"B34*'PRC model'!$B$35+'PRC model'!$C$35","v":4.1739124237414575},11.100975047195208,{"$f":"'PRC model'!$A$35*t*86400/10^D34/Lo^2","v":2.2572852894988946},0.28629945591168443,{"$f":"IF(E34>1,1-(EXP((1/E34^2-G34^2)*F34)*((COS(G34/E34*F34*2)*(1-erfzR(1/E34*F34^0.5,G34*F34^0.5))-SIN(G34/E34*F34*2)*(-erfzI(1/E34*F34^0.5,G34*F34^0.5)))+(COS(G34/E34*F34*2)*(-erfzI(1/E34*F34^0.5,G34*F34^0.5))+SIN(G34/E34*F34*2)*(1-erfzR(1/E34*F34^0.5,G34*F34^0.5)))/E34/G34)),1-((1/E34+G34)*EXP((1/E34+G34)^2*F34)*ERFC((1/E34+G34)*F34^0.5)-(1/E34-G34)*EXP((1/E34-G34)^2*F34)*ERFC((1/E34-G34)*F34^0.5))/2/G34)","v":0.37135419408617909}]
[95,6.13,5.7881099999999996,{"$f":"B35*'PRC model'!$B$35+'PRC model'!$C$35","v":4.0490537579734394},{"$f":"10^C35*(Lo^2-Li^2)/10^D35/Lo^2","v":12.703687215608337},{"$f":"'PRC model'!$A$35*t*86400/10^D35/Lo^2","v":3.0091588697948799},0.26929702837029895,{"$f":"IF(E35>1,1-(EXP((1/E35^2-G35^2)*F35)*((COS(G35/E35*F35*2)*(1-erfzR(1/E35*F35^0.5,G35*F35^0.5))-SIN(G35/E35*F35*2)*(-erfzI(1/E35*F35^0.5,G35*F35^0.5)))+(COS(G35/E35*F35*2)*(-erfzI(1/E35*F35^0.5,G35*F35^0.5))+SIN(G35/E35*F35*2)*(1-erfzR(1/E35*F35^0.5,G35*F35^0.5)))/E35/G35)),1-((1/E35+G35)*EXP((1/E35+G35)^2*F35)*ERFC((1/E35+G35)*F35^0.5)-(1/E35-G35)*EXP((1/E35-G35)^2*F35)*ERFC((1/E35-G35)*F35^0.5))/2/G35)","v":0.39132770460393485}]
[93,6.04,5.7028799999999995,{"$f":"B36*'PRC model'!$B$35+'PRC model'!$C$35","v":3.8885211877002739},15.108883151698588,{"$f":"'PRC model'!$A$35*t*86400/10^D36/Lo^2","v":4.3548949909120038},0.24860734518222313,{"$f":"IF(E36>1,1-(EXP((1/E36^2-G36^2)*F36)*((COS(G36/E36*F36*2)*(1-erfzR(1/E36*F36^0.5,G36*F36^0.5))-SIN(G36/E36*F36*2)*(-erfzI(1/E36*F36^0.5,G36*F36^0.5)))+(COS(G36/E36*F36*2)*(-erfzI(1/E36*F36^0.5,G36*F36^0.5))+SIN(G36/E36*F36*2)*(1-erfzR(1/E36*F36^0.5,G36*F36^0.5)))/E36/G36)),1-((1/E36+G36)*EXP((1/E36+G36)^2*F36)*ERFC((1/E36+G36)*F36^0.5)-(1/E36-G36)*EXP((1/E36-G36)^2*F36)*ERFC((1/E36-G36)*F36^0.5))/2/G36)","v":0.420331058751794}]
[56,6.11,5.7691699999999999,{"$f":"B37*'PRC model'!$B$35+'PRC model'!$C$35","v":4.0133798534682921},13.202728626057622,{"$f":"'PRC model'!$A$35*t*86400/10^D37/Lo^2","v":3.2667734824410148},0.26458473230042717,{"$f":"IF(E37>1,1-(EXP((1/E37^2-G37^2)*F37)*((COS(G37/E37*F37*2)*(1-erfzR(1/E37*F37^0.5,G37*F37^0.5))-SIN(G37/E37*F37*2)*(-erfzI(1/E37*F37^0.5,G37*F37^0.5)))+(COS(G37/E37*F37*2)*(-erfzI(1/E37*F37^0.5,G37*F37^0.5))+SIN(G37/E37*F37*2)*(1-erfzR(1/E37*F37^0.5,G37*F37^0.5)))/E37/G37)),1-((1/E37+G37)*EXP((1/E37+G37)^2*F37)*ERFC((1/E37+G37)*F37^0.5)-(1/E37-G37)*EXP((1/E37-G37)^2*F37)*ERFC((1/E37-G37)*F37^0.5))/2/G37)","v":0.39744017748361038}]
[60,6.11,5.7691699999999999,{"$f":"B38*'PRC model'!$B$35+'PRC model'!$C$35","v":4.0133798534682921},13.202728626057622,{"$f":"'PRC model'!$A$35*t*86400/10^D38/Lo^2","v":3.2667734824410148},0.26458473230042717,{"$f":"IF(E38>1,1-(EXP((1/E38^2-G38^2)*F38)*((COS(G38/E38*F38*2)*(1-erfzR(1/E38*F38^0.5,G38*F38^0.5))-SIN(G38/E38*F38*2)*(-erfzI(1/E38*F38^0.5,G38*F38^0.5)))+(COS(G38/E38*F38*2)*(-erfzI(1/E38*F38^0.5,G38*F38^0.5))+SIN(G38/E38*F38*2)*(1-erfzR(1/E38*F38^0.5,G38*F38^0.5)))/E38/G38)),1-((1/E38+G38)*EXP((1/E38+G38)^2*F38)*ERFC((1/E38+G38)*F38^0.5)-(1/E38-G38)*EXP((1/E38-G38)^2*F38)*ERFC((1/E38-G38)*F38^0.5))/2/G38)","v":0.39744017748361038}]
[92,6.35,5.9964499999999994,{"$f":"B39*'PRC model'!$B$35+'PRC model'!$C$35","v":4.4414667075300649},8.3148964036165456,{"$f":"'PRC model'!$A$35*t*86400/10^D39/Lo^2","v":1.2190798910161873},0.32527242483874758,{"$f":"IF(E39>1,1-(EXP((1/E39^2-G39^2)*F39)*((COS(G39/E39*F39*2)*(1-erfzR(1/E39*F39^0.5,G39*F39^0.5))-SIN(G39/E39*F39*2)*(-erfzI(1/E39*F39^0.5,G39*F39^0.5)))+(COS(G39/E39*F39*2)*(-erfzI(1/E39*F39^0.5,G39*F39^0.5))+SIN(G39/E39*F39*2)*(1-erfzR(1/E39*F39^0.5,G39*F39^0.5)))/E39/G39)),1-((1/E39+G39)*EXP((1/E39+G39)^2*F39)*ERFC((1/E39+G39)*F39^0.5)-(1/E39-G39)*EXP((1/E39-G39)^2*F39)*ERFC((1/E39-G39)*F39^0.5))/2/G39)","v":0.33532849049769164}]
[84,6.04,5.7028799999999995,{"$f":"B40*'PRC model'!$B$35+'PRC model'!$C$35","v":3.8885211877002739},15.108883151698588,{"$f":"'PRC model'!$A$35*t*86400/10^D40/Lo^2","v":4.3548949909120038},0.24860734518222313,{"$f":"IF(E40>1,1-(EXP((1/E40^2-G40^2)*F40)*((COS(G40/E40*F40*2)*(1-erfzR(1/E40*F40^0.5,G40*F40^0.5))-SIN(G40/E40*F40*2)*(-erfzI(1/E40*F40^0.5,G40*F40^0.5)))+(COS(G40/E40*F40*2)*(-erfzI(1/E40*F40^0.5,G40*F40^0.5))+SIN(G40/E40*F40*2)*(1-erfzR(1/E40*F40^0.5,G40*F40^0.5)))/E40/G40)),1-((1/E40+G40)*EXP((1/E40+G40)^2*F40)*ERFC((1/E40+G40)*F40^0.5)-(1/E40-G40)*EXP((1/E40-G40)^2*F40)*ERFC((1/E40-G40)*F40^0.5))/2/G40)","v":0.420331058751794}]
[101,6.38,6.0248599999999994,{"$f":"B41*'PRC model'!$B$35+'PRC model'!$C$35","v":4.4949775642877867},7.8479456350262735,{"$f":"'PRC model'!$A$35*t*86400/10^D41/Lo^2","v":1.0777581378861611},0.33344496657781919,{"$f":"IF(E41>1,1-(EXP((1/E41^2-G41^2)*F41)*((COS(G41/E41*F41*2)*(1-erfzR(1/E41*F41^0.5,G41*F41^0.5))-SIN(G41/E41*F41*2)*(-erfzI(1/E41*F41^0.5,G41*F41^0.5)))+(COS(G41/E41*F41*2)*(-erfzI(1/E41*F41^0.5,G41*F41^0.5))+SIN(G41/E41*F41*2)*(1-erfzR(1/E41*F41^0.5,G41*F41^0.5)))/E41/G41)),1-((1/E41+G41)*EXP((1/E41+G41)^2*F41)*ERFC((1/E41+G41)*F41^0.5)-(1/E41-G41)*EXP((1/E41-G41)^2*F41)*ERFC((1/E41-G41)*F41^0.5))/2/G41)","v":0.32911565777355123}]
[99,6.39,6.0343299999999989,{"$f":"B42*'PRC model'!$B$35+'PRC model'!$C$35","v":4.5128145165403613},7.698197229964479,{"$f":"'PRC model'!$A$35*t*86400/10^D42/Lo^2","v":1.0343901076565132},0.33619397957144653,{"$f":"IF(E42>1,1-(EXP((1/E42^2-G42^2)*F42)*((COS(G42/E42*F42*2)*(1-erfzR(1/E42*F42^0.5,G42*F42^0.5))-SIN(G42/E42*F42*2)*(-erfzI(1/E42*F42^0.5,G42*F42^0.5)))+(COS(G42/E42*F42*2)*(-erfzI(1/E42*F42^0.5,G42*F42^0.5))+SIN(G42/E42*F42*2)*(1-erfzR(1/E42*F42^0.5,G42*F42^0.5)))/E42/G42)),1-((1/E42+G42)*EXP((1/E42+G42)^2*F42)*ERFC((1/E42+G42)*F42^0.5)-(1/E42-G42)*EXP((1/E42-G42)^2*F42)*ERFC((1/E42-G42)*F42^0.5))/2/G42)","v":0.32711169909157078}]
[119,6.58,6.2142599999999995,{"$f":"B43*'PRC model'!$B$35+'PRC model'!$C$35","v":4.8517166093392667},5.3384716513173371,{"$f":"'PRC model'!$A$35*t*86400/10^D43/Lo^2","v":0.47400428284152557},0.39016781467113143,{"$f":"IF(E43>1,1-(EXP((1/E43^2-G43^2)*F43)*((COS(G43/E43*F43*2)*(1-erfzR(1/E43*F43^0.5,G43*F43^0.5))-SIN(G43/E43*F43*2)*(-erfzI(1/E43*F43^0.5,G43*F43^0.5)))+(COS(G43/E43*F43*2)*(-erfzI(1/E43*F43^0.5,G43*F43^0.5))+SIN(G43/E43*F43*2)*(1-erfzR(1/E43*F43^0.5,G43*F43^0.5)))/E43/G43)),1-((1/E43+G43)*EXP((1/E43+G43)^2*F43)*ERFC((1/E43+G43)*F43^0.5)-(1/E43-G43)*EXP((1/E43-G43)^2*F43)*ERFC((1/E43-G43)*F43^0.5))/2/G43)","v":0.29469023366594638}]
[83,6.26,5.9112199999999993,{"$f":"B44*'PRC model'!$B$35+'PRC model'!$C$35","v":4.2809341372568994},9.88916021376596,{"$f":"'PRC model'!$A$35*t*86400/10^D44/Lo^2","v":1.7642687344287118},0.30148864087239657,{"$f":"IF(E44>1,1-(EXP((1/E44^2-G44^2)*F44)*((COS(G44/E44*F44*2)*(1-erfzR(1/E44*F44^0.5,G44*F44^0.5))-SIN(G44/E44*F44*2)*(-erfzI(1/E44*F44^0.5,G44*F44^0.5)))+(COS(G44/E44*F44*2)*(-erfzI(1/E44*F44^0.5,G44*F44^0.5))+SIN(G44/E44*F44*2)*(1-erfzR(1/E44*F44^0.5,G44*F44^0.5)))/E44/G44)),1-((1/E44+G44)*EXP((1/E44+G44)^2*F44)*ERFC((1/E44+G44)*F44^0.5)-(1/E44-G44)*EXP((1/E44-G44)^2*F44)*ERFC((1/E44-G44)*F44^0.5))/2/G44)","v":0.35589557104862224}]
[87,6.29,5.9396299999999993,{"$f":"B45*'PRC model'!$B$35+'PRC model'!$C$35","v":4.334444994014623},9.3338014049030917,{"$f":"'PRC model'!$A$35*t*86400/10^D45/Lo^2","v":1.5597460018503475},0.30928796231590094,{"$f":"IF(E45>1,1-(EXP((1/E45^2-G45^2)*F45)*((COS(G45/E45*F45*2)*(1-erfzR(1/E45*F45^0.5,G45*F45^0.5))-SIN(G45/E45*F45*2)*(-erfzI(1/E45*F45^0.5,G45*F45^0.5)))+(COS(G45/E45*F45*2)*(-erfzI(1/E45*F45^0.5,G45*F45^0.5))+SIN(G45/E45*F45*2)*(1-erfzR(1/E45*F45^0.5,G45*F45^0.5)))/E45/G45)),1-((1/E45+G45)*EXP((1/E45+G45)^2*F45)*ERFC((1/E45+G45)*F45^0.5)-(1/E45-G45)*EXP((1/E45-G45)^2*F45)*ERFC((1/E45-G45)*F45^0.5))/2/G45)","v":0.34870447819538941}]
[81,6.36,6.0059199999999997,{"$f":"B46*'PRC model'!$B$35+'PRC model'!$C$35","v":4.4593036597826394},8.1562380065529485,{"$f":"'PRC model'!$A$35*t*86400/10^D46/Lo^2","v":1.1700251989591741},0.32798387884965818,{"$f":"IF(E46>1,1-(EXP((1/E46^2-G46^2)*F46)*((COS(G46/E46*F46*2)*(1-erfzR(1/E46*F46^0.5,G46*F46^0.5))-SIN(G46/E46*F46*2)*(-erfzI(1/E46*F46^0.5,G46*F46^0.5)))+(COS(G46/E46*F46*2)*(-erfzI(1/E46*F46^0.5,G46*F46^0.5))+SIN(G46/E46*F46*2)*(1-erfzR(1/E46*F46^0.5,G46*F46^0.5)))/E46/G46)),1-((1/E46+G46)*EXP((1/E46+G46)^2*F46)*ERFC((1/E46+G46)*F46^0.5)-(1/E46-G46)*EXP((1/E46-G46)^2*F46)*ERFC((1/E46-G46)*F46^0.5))/2/G46)","v":0.33322354640612817}]
[136,6.22,5.8733399999999989,{"$f":"B47*'PRC model'!$B$35+'PRC model'!$C$35","v":4.2095863282466048},10.681376462552551,{"$f":"'PRC model'!$A$35*t*86400/10^D47/Lo^2","v":2.0792779441436946},0.29130056844044122,{"$f":"IF(E47>1,1-(EXP((1/E47^2-G47^2)*F47)*((COS(G47/E47*F47*2)*(1-erfzR(1/E47*F47^0.5,G47*F47^0.5))-SIN(G47/E47*F47*2)*(-erfzI(1/E47*F47^0.5,G47*F47^0.5)))+(COS(G47/E47*F47*2)*(-erfzI(1/E47*F47^0.5,G47*F47^0.5))+SIN(G47/E47*F47*2)*(1-erfzR(1/E47*F47^0.5,G47*F47^0.5)))/E47/G47)),1-((1/E47+G47)*EXP((1/E47+G47)^2*F47)*ERFC((1/E47+G47)*F47^0.5)-(1/E47-G47)*EXP((1/E47-G47)^2*F47)*ERFC((1/E47-G47)*F47^0.5))/2/G47)","v":0.36603700774711645}]
[110,6.48,6.1195599999999999,{"$f":"B48*'PRC model'!$B$35+'PRC model'!$C$35","v":4.6733470868135285},6.4727146772947783,{"$f":"'PRC model'!$A$35*t*86400/10^D48/Lo^2","v":0.71474609003851453},0.36142229550476035,{"$f":"IF(E48>1,1-(EXP((1/E48^2-G48^2)*F48)*((COS(G48/E48*F48*2)*(1-erfzR(1/E48*F48^0.5,G48*F48^0.5))-SIN(G48/E48*F48*2)*(-erfzI(1/E48*F48^0.5,G48*F48^0.5)))+(COS(G48/E48*F48*2)*(-erfzI(1/E48*F48^0.5,G48*F48^0.5))+SIN(G48/E48*F48*2)*(1-erfzR(1/E48*F48^0.5,G48*F48^0.5)))/E48/G48)),1-((1/E48+G48)*EXP((1/E48+G48)^2*F48)*ERFC((1/E48+G48)*F48^0.5)-(1/E48-G48)*EXP((1/E48-G48)^2*F48)*ERFC((1/E48-G48)*F48^0.5))/2/G48)","v":0.31048627643752325}]
[77,6.36,6.0059199999999997,{"$f":"B49*'PRC model'!$B$35+'PRC model'!$C$35","v":4.4593036597826394},8.1562380065529485,{"$f":"'PRC model'!$A$35*t*86400/10^D49/Lo^2","v":1.1700251989591741},0.32798387884965818,{"$f":"IF(E49>1,1-(EXP((1/E49^2-G49^2)*F49)*((COS(G49/E49*F49*2)*(1-erfzR(1/E49*F49^0.5,G49*F49^0.5))-SIN(G49/E49*F49*2)*(-erfzI(1/E49*F49^0.5,G49*F49^0.5)))+(COS(G49/E49*F49*2)*(-erfzI(1/E49*F49^0.5,G49*F49^0.5))+SIN(G49/E49*F49*2)*(1-erfzR(1/E49*F49^0.5,G49*F49^0.5)))/E49/G49)),1-((1/E49+G49)*EXP((1/E49+G49)^2*F49)*ERFC((1/E49+G49)*F49^0.5)-(1/E49-G49)*EXP((1/E49-G49)^2*F49)*ERFC((1/E49-G49)*F49^0.5))/2/G49)","v":0.33322354640612817}]
[82,6.2,5.8543999999999992,{"$f":"B50*'PRC model'!$B$35+'PRC model'!$C$35","v":4.1739124237414575},11.100975047195208,{"$f":"'PRC model'!$A$35*t*86400/10^D50/Lo^2","v":2.2572852894988946},0.28629945591168443,{"$f":"IF(E50>1,1-(EXP((1/E50^2-G50^2)*F50)*((COS(G50/E50*F50*2)*(1-erfzR(1/E50*F50^0.5,G50*F50^0.5))-SIN(G50/E50*F50*2)*(-erfzI(1/E50*F50^0.5,G50*F50^0.5)))+(COS(G50/E50*F50*2)*(-erfzI(1/E50*F50^0.5,G50*F50^0.5))+SIN(G50/E50*F50*2)*(1-erfzR(1/E50*F50^0.5,G50*F50^0.5)))/E50/G50)),1-((1/E50+G50)*EXP((1/E50+G50)^2*F50)*ERFC((1/E50+G50)*F50^0.5)-(1/E50-G50)*EXP((1/E50-G50)^2*F50)*ERFC((1/E50-G50)*F50^0.5))/2/G50)","v":0.37135419408617909}]
[151,6.64,6.2710799999999987,{"$f":"B51*'PRC model'!$B$35+'PRC model'!$C$35","v":4.9587383228547086},4.7557085059715947,{"$f":"'PRC model'!$A$35*t*86400/10^D51/Lo^2","v":0.37047640371069585},0.40750290731057343,{"$f":"IF(E51>1,1-(EXP((1/E51^2-G51^2)*F51)*((COS(G51/E51*F51*2)*(1-erfzR(1/E51*F51^0.5,G51*F51^0.5))-SIN(G51/E51*F51*2)*(-erfzI(1/E51*F51^0.5,G51*F51^0.5)))+(COS(G51/E51*F51*2)*(-erfzI(1/E51*F51^0.5,G51*F51^0.5))+SIN(G51/E51*F51*2)*(1-erfzR(1/E51*F51^0.5,G51*F51^0.5)))/E51/G51)),1-((1/E51+G51)*EXP((1/E51+G51)^2*F51)*ERFC((1/E51+G51)*F51^0.5)-(1/E51-G51)*EXP((1/E51-G51)^2*F51)*ERFC((1/E51-G51)*F51^0.5))/2/G51)","v":0.28638734687622314}]
[135,6.64,6.2710799999999987,{"$f":"B52*'PRC model'!$B$35+'PRC model'!$C$35","v":4.9587383228547086},4.7557085059715947,{"$f":"'PRC model'!$A$35*t*86400/10^D52/Lo^2","v":0.37047640371069585},0.40750290731057343,{"$f":"IF(E52>1,1-(EXP((1/E52^2-G52^2)*F52)*((COS(G52/E52*F52*2)*(1-erfzR(1/E52*F52^0.5,G52*F52^0.5))-SIN(G52/E52*F52*2)*(-erfzI(1/E52*F52^0.5,G52*F52^0.5)))+(COS(G52/E52*F52*2)*(-erfzI(1/E52*F52^0.5,G52*F52^0.5))+SIN(G52/E52*F52*2)*(1-erfzR(1/E52*F52^0.5,G52*F52^0.5)))/E52/G52)),1-((1/E52+G52)*EXP((1/E52+G52)^2*F52)*ERFC((1/E52+G52)*F52^0.5)-(1/E52-G52)*EXP((1/E52-G52)^2*F52)*ERFC((1/E52-G52)*F52^0.5))/2/G52)","v":0.28638734687622314}]
[144,6.67,6.2994899999999996,{"$f":"B53*'PRC model'!$B$35+'PRC model'!$C$35","v":5.0122491796124322},4.4886358168772542,{"$f":"'PRC model'!$A$35*t*86400/10^D53/Lo^2","v":0.32752895190582548},0.416115072485014,{"$f":"IF(E53>1,1-(EXP((1/E53^2-G53^2)*F53)*((COS(G53/E53*F53*2)*(1-erfzR(1/E53*F53^0.5,G53*F53^0.5))-SIN(G53/E53*F53*2)*(-erfzI(1/E53*F53^0.5,G53*F53^0.5)))+(COS(G53/E53*F53*2)*(-erfzI(1/E53*F53^0.5,G53*F53^0.5))+SIN(G53/E53*F53*2)*(1-erfzR(1/E53*F53^0.5,G53*F53^0.5)))/E53/G53)),1-((1/E53+G53)*EXP((1/E53+G53)^2*F53)*ERFC((1/E53+G53)*F53^0.5)-(1/E53-G53)*EXP((1/E53-G53)^2*F53)*ERFC((1/E53-G53)*F53^0.5))/2/G53)","v":0.2825313464567254}]
[107,6.71,6.3373699999999991,{"$f":"B54*'PRC model'!$B$35+'PRC model'!$C$35","v":5.0835969886227268},4.1557227095186224,{"$f":"'PRC model'!$A$35*t*86400/10^D54/Lo^2","v":0.27790853603539167},0.4274672585977235,{"$f":"IF(E54>1,1-(EXP((1/E54^2-G54^2)*F54)*((COS(G54/E54*F54*2)*(1-erfzR(1/E54*F54^0.5,G54*F54^0.5))-SIN(G54/E54*F54*2)*(-erfzI(1/E54*F54^0.5,G54*F54^0.5)))+(COS(G54/E54*F54*2)*(-erfzI(1/E54*F54^0.5,G54*F54^0.5))+SIN(G54/E54*F54*2)*(1-erfzR(1/E54*F54^0.5,G54*F54^0.5)))/E54/G54)),1-((1/E54+G54)*EXP((1/E54+G54)^2*F54)*ERFC((1/E54+G54)*F54^0.5)-(1/E54-G54)*EXP((1/E54-G54)^2*F54)*ERFC((1/E54-G54)*F54^0.5))/2/G54)","v":0.27767343464908112}]
[123,6.74,6.3657799999999991,{"$f":"B55*'PRC model'!$B$35+'PRC model'!$C$35","v":5.1371078453804504},3.9223442260039194,{"$f":"'PRC model'!$A$35*t*86400/10^D55/Lo^2","v":0.24569200797045557},0.4358328693766359,{"$f":"IF(E55>1,1-(EXP((1/E55^2-G55^2)*F55)*((COS(G55/E55*F55*2)*(1-erfzR(1/E55*F55^0.5,G55*F55^0.5))-SIN(G55/E55*F55*2)*(-erfzI(1/E55*F55^0.5,G55*F55^0.5)))+(COS(G55/E55*F55*2)*(-erfzI(1/E55*F55^0.5,G55*F55^0.5))+SIN(G55/E55*F55*2)*(1-erfzR(1/E55*F55^0.5,G55*F55^0.5)))/E55/G55)),1-((1/E55+G55)*EXP((1/E55+G55)^2*F55)*ERFC((1/E55+G55)*F55^0.5)-(1/E55-G55)*EXP((1/E55-G55)^2*F55)*ERFC((1/E55-G55)*F55^0.5))/2/G55)","v":0.27423005863616534}]
[149,6.67,6.2994899999999996,{"$f":"B56*'PRC model'!$B$35+'PRC model'!$C$35","v":5.0122491796124322},4.4886358168772542,{"$f":"'PRC model'!$A$35*t*86400/10^D56/Lo^2","v":0.32752895190582548},0.416115072485014,{"$f":"IF(E56>1,1-(EXP((1/E56^2-G56^2)*F56)*((COS(G56/E56*F56*2)*(1-erfzR(1/E56*F56^0.5,G56*F56^0.5))-SIN(G56/E56*F56*2)*(-erfzI(1/E56*F56^0.5,G56*F56^0.5)))+(COS(G56/E56*F56*2)*(-erfzI(1/E56*F56^0.5,G56*F56^0.5))+SIN(G56/E56*F56*2)*(1-erfzR(1/E56*F56^0.5,G56*F56^0.5)))/E56/G56)),1-((1/E56+G56)*EXP((1/E56+G56)^2*F56)*ERFC((1/E56+G56)*F56^0.5)-(1/E56-G56)*EXP((1/E56-G56)^2*F56)*ERFC((1/E56-G56)*F56^0.5))/2/G56)","v":0.2825313464567254}]
[118,6.74,6.3657799999999991,{"$f":"B57*'PRC model'!$B$35+'PRC model'!$C$35","v":5.1371078453804504},3.9223442260039194,{"$f":"'PRC model'!$A$35*t*86400/10^D57/Lo^2","v":0.24569200797045557},0.4358328693766359,{"$f":"IF(E57>1,1-(EXP((1/E57^2-G57^2)*F57)*((COS(G57/E57*F57*2)*(1-erfzR(1/E57*F57^0.5,G57*F57^0.5))-SIN(G57/E57*F57*2)*(-erfzI(1/E57*F57^0.5,G57*F57^0.5)))+(COS(G57/E57*F57*2)*(-erfzI(1/E57*F57^0.5,G57*F57^0.5))+SIN(G57/E57*F57*2)*(1-erfzR(1/E57*F57^0.5,G57*F57^0.5)))/E57/G57)),1-((1/E57+G57)*EXP((1/E57+G57)^2*F57)*ERFC((1/E57+G57)*F57^0.5)-(1/E57-G57)*EXP((1/E57-G57)^2*F57)*ERFC((1/E57-G57)*F57^0.5))/2/G57)","v":0.27423005863616534}]
[134,6.55,6.1858499999999994,{"$f":"B58*'PRC model'!$B$35+'PRC model'!$C$35","v":4.7982057525815449},5.6561093563435128,{"$f":"'PRC model'!$A$35*t*86400/10^D58/Lo^2","v":0.53615840990169239},0.3814993376966439,{"$f":"IF(E58>1,1-(EXP((1/E58^2-G58^2)*F58)*((COS(G58/E58*F58*2)*(1-erfzR(1/E58*F58^0.5,G58*F58^0.5))-SIN(G58/E58*F58*2)*(-erfzI(1/E58*F58^0.5,G58*F58^0.5)))+(COS(G58/E58*F58*2)*(-erfzI(1/E58*F58^0.5,G58*F58^0.5))+SIN(G58/E58*F58*2)*(1-erfzR(1/E58*F58^0.5,G58*F58^0.5)))/E58/G58)),1-((1/E58+G58)*EXP((1/E58+G58)^2*F58)*ERFC((1/E58+G58)*F58^0.5)-(1/E58-G58)*EXP((1/E58-G58)^2*F58)*ERFC((1/E58-G58)*F58^0.5))/2/G58)","v":0.29915870268599987}]
[146,6.89,6.5078299999999993,{"$f":"B59*'PRC model'!$B$35+'PRC model'!$C$35","v":5.4046621291690577},2.9379298448910882,{"$f":"'PRC model'!$A$35*t*86400/10^D59/Lo^2","v":0.13268955753779033},0.47383551020060205,{"$f":"IF(E59>1,1-(EXP((1/E59^2-G59^2)*F59)*((COS(G59/E59*F59*2)*(1-erfzR(1/E59*F59^0.5,G59*F59^0.5))-SIN(G59/E59*F59*2)*(-erfzI(1/E59*F59^0.5,G59*F59^0.5)))+(COS(G59/E59*F59*2)*(-erfzI(1/E59*F59^0.5,G59*F59^0.5))+SIN(G59/E59*F59*2)*(1-erfzR(1/E59*F59^0.5,G59*F59^0.5)))/E59/G59)),1-((1/E59+G59)*EXP((1/E59+G59)^2*F59)*ERFC((1/E59+G59)*F59^0.5)-(1/E59-G59)*EXP((1/E59-G59)^2*F59)*ERFC((1/E59-G59)*F59^0.5))/2/G59)","v":0.2592633762866321}]
[153,6.92,6.5362399999999994,{"$f":"B60*'PRC model'!$B$35+'PRC model'!$C$35","v":5.4581729859267796},2.7729405855493279,{"$f":"'PRC model'!$A$35*t*86400/10^D60/Lo^2","v":0.11730752963996566},0.48018271924165357,{"$f":"IF(E60>1,1-(EXP((1/E60^2-G60^2)*F60)*((COS(G60/E60*F60*2)*(1-erfzR(1/E60*F60^0.5,G60*F60^0.5))-SIN(G60/E60*F60*2)*(-erfzI(1/E60*F60^0.5,G60*F60^0.5)))+(COS(G60/E60*F60*2)*(-erfzI(1/E60*F60^0.5,G60*F60^0.5))+SIN(G60/E60*F60*2)*(1-erfzR(1/E60*F60^0.5,G60*F60^0.5)))/E60/G60)),1-((1/E60+G60)*EXP((1/E60+G60)^2*F60)*ERFC((1/E60+G60)*F60^0.5)-(1/E60-G60)*EXP((1/E60-G60)^2*F60)*ERFC((1/E60-G60)*F60^0.5))/2/G60)","v":0.25666445693173001}]
[132,6.58,6.2142599999999995,{"$f":"B61*'PRC model'!$B$35+'PRC model'!$C$35","v":4.8517166093392667},5.3384716513173371,{"$f":"'PRC model'!$A$35*t*86400/10^D61/Lo^2","v":0.47400428284152557},0.39016781467113143,{"$f":"IF(E61>1,1-(EXP((1/E61^2-G61^2)*F61)*((COS(G61/E61*F61*2)*(1-erfzR(1/E61*F61^0.5,G61*F61^0.5))-SIN(G61/E61*F61*2)*(-erfzI(1/E61*F61^0.5,G61*F61^0.5)))+(COS(G61/E61*F61*2)*(-erfzI(1/E61*F61^0.5,G61*F61^0.5))+SIN(G61/E61*F61*2)*(1-erfzR(1/E61*F61^0.5,G61*F61^0.5)))/E61/G61)),1-((1/E61+G61)*EXP((1/E61+G61)^2*F61)*ERFC((1/E61+G61)*F61^0.5)-(1/E61-G61)*EXP((1/E61-G61)^2*F61)*ERFC((1/E61-G61)*F61^0.5))/2/G61)","v":0.29469023366594638}]
[105,6.65,6.2805499999999999,{"$f":"B62*'PRC model'!$B$35+'PRC model'!$C$35","v":4.9765752751072849},4.664963768835606,{"$f":"'PRC model'!$A$35*t*86400/10^D62/Lo^2","v":0.35556876227361944},0.41038035964360942,{"$f":"IF(E62>1,1-(EXP((1/E62^2-G62^2)*F62)*((COS(G62/E62*F62*2)*(1-erfzR(1/E62*F62^0.5,G62*F62^0.5))-SIN(G62/E62*F62*2)*(-erfzI(1/E62*F62^0.5,G62*F62^0.5)))+(COS(G62/E62*F62*2)*(-erfzI(1/E62*F62^0.5,G62*F62^0.5))+SIN(G62/E62*F62*2)*(1-erfzR(1/E62*F62^0.5,G62*F62^0.5)))/E62/G62)),1-((1/E62+G62)*EXP((1/E62+G62)^2*F62)*ERFC((1/E62+G62)*F62^0.5)-(1/E62-G62)*EXP((1/E62-G62)^2*F62)*ERFC((1/E62-G62)*F62^0.5))/2/G62)","v":0.28508103048078537}]
[141,6.82,6.4415399999999998,{"$f":"B63*'PRC model'!$B$35+'PRC model'!$C$35","v":5.2798034634010413},3.3620958206123421,{"$f":"'PRC model'!$A$35*t*86400/10^D63/Lo^2","v":0.17688679443910105},0.45712888974874161,{"$f":"IF(E63>1,1-(EXP((1/E63^2-G63^2)*F63)*((COS(G63/E63*F63*2)*(1-erfzR(1/E63*F63^0.5,G63*F63^0.5))-SIN(G63/E63*F63*2)*(-erfzI(1/E63*F63^0.5,G63*F63^0.5)))+(COS(G63/E63*F63*2)*(-erfzI(1/E63*F63^0.5,G63*F63^0.5))+SIN(G63/E63*F63*2)*(1-erfzR(1/E63*F63^0.5,G63*F63^0.5)))/E63/G63)),1-((1/E63+G63)*EXP((1/E63+G63)^2*F63)*ERFC((1/E63+G63)*F63^0.5)-(1/E63-G63)*EXP((1/E63-G63)^2*F63)*ERFC((1/E63-G63)*F63^0.5))/2/G63)","v":0.26581257355550947}]
[179,6.73,6.3563099999999997,{"$f":"B64*'PRC model'!$B$35+'PRC model'!$C$35","v":5.1192708931278759},3.9986432313945803,{"$f":"'PRC model'!$A$35*t*86400/10^D64/Lo^2","v":0.2559929363629222},0.43306166559697451,{"$f":"IF(E64>1,1-(EXP((1/E64^2-G64^2)*F64)*((COS(G64/E64*F64*2)*(1-erfzR(1/E64*F64^0.5,G64*F64^0.5))-SIN(G64/E64*F64*2)*(-erfzI(1/E64*F64^0.5,G64*F64^0.5)))+(COS(G64/E64*F64*2)*(-erfzI(1/E64*F64^0.5,G64*F64^0.5))+SIN(G64/E64*F64*2)*(1-erfzR(1/E64*F64^0.5,G64*F64^0.5)))/E64/G64)),1-((1/E64+G64)*EXP((1/E64+G64)^2*F64)*ERFC((1/E64+G64)*F64^0.5)-(1/E64-G64)*EXP((1/E64-G64)^2*F64)*ERFC((1/E64-G64)*F64^0.5))/2/G64)","v":0.27535948872341875}]
[163,6.99,6.6025299999999998,{"$f":"B65*'PRC model'!$B$35+'PRC model'!$C$35","v":5.5830316516947978},2.4231031294376857,{"$f":"'PRC model'!$A$35*t*86400/10^D65/Lo^2","v":8.7996869710571302E-2},0.49231865037559813,{"$f":"IF(E65>1,1-(EXP((1/E65^2-G65^2)*F65)*((COS(G65/E65*F65*2)*(1-erfzR(1/E65*F65^0.5,G65*F65^0.5))-SIN(G65/E65*F65*2)*(-erfzI(1/E65*F65^0.5,G65*F65^0.5)))+(COS(G65/E65*F65*2)*(-erfzI(1/E65*F65^0.5,G65*F65^0.5))+SIN(G65/E65*F65*2)*(1-erfzR(1/E65*F65^0.5,G65*F65^0.5)))/E65/G65)),1-((1/E65+G65)*EXP((1/E65+G65)^2*F65)*ERFC((1/E65+G65)*F65^0.5)-(1/E65-G65)*EXP((1/E65-G65)^2*F65)*ERFC((1/E65-G65)*F65^0.5))/2/G65)","v":0.25103527558126304}]
[138,6.83,6.4510099999999992,{"$f":"B66*'PRC model'!$B$35+'PRC model'!$C$35","v":5.2976404156536141},3.2979429186663274,{"$f":"'PRC model'!$A$35*t*86400/10^D66/Lo^2","v":0.16976902693747467},0.45964917369797531,{"$f":"IF(E66>1,1-(EXP((1/E66^2-G66^2)*F66)*((COS(G66/E66*F66*2)*(1-erfzR(1/E66*F66^0.5,G66*F66^0.5))-SIN(G66/E66*F66*2)*(-erfzI(1/E66*F66^0.5,G66*F66^0.5)))+(COS(G66/E66*F66*2)*(-erfzI(1/E66*F66^0.5,G66*F66^0.5))+SIN(G66/E66*F66*2)*(1-erfzR(1/E66*F66^0.5,G66*F66^0.5)))/E66/G66)),1-((1/E66+G66)*EXP((1/E66+G66)^2*F66)*ERFC((1/E66+G66)*F66^0.5)-(1/E66-G66)*EXP((1/E66-G66)^2*F66)*ERFC((1/E66-G66)*F66^0.5))/2/G66)","v":0.26483296431499637}]
[158,7.02,6.6309399999999989,{"$f":"B67*'PRC model'!$B$35+'PRC model'!$C$35","v":5.6365425084525196},{"$f":"10^C67*(Lo^2-Li^2)/10^D67/Lo^2","v":2.2870256831603841},{"$f":"'PRC model'!$A$35*t*86400/10^D67/Lo^2","v":7.77958385976011E-2},0.4960467002705542,{"$f":"IF(E67>1,1-(EXP((1/E67^2-G67^2)*F67)*((COS(G67/E67*F67*2)*(1-erfzR(1/E67*F67^0.5,G67*F67^0.5))-SIN(G67/E67*F67*2)*(-erfzI(1/E67*F67^0.5,G67*F67^0.5)))+(COS(G67/E67*F67*2)*(-erfzI(1/E67*F67^0.5,G67*F67^0.5))+SIN(G67/E67*F67*2)*(1-erfzR(1/E67*F67^0.5,G67*F67^0.5)))/E67/G67)),1-((1/E67+G67)*EXP((1/E67+G67)^2*F67)*ERFC((1/E67+G67)*F67^0.5)-(1/E67-G67)*EXP((1/E67-G67)^2*F67)*ERFC((1/E67-G67)*F67^0.5))/2/G67)","v":0.24879415328113419}]
[178,7.14,6.7445799999999991,{"$f":"B68*'PRC model'!$B$35+'PRC model'!$C$35","v":5.8505859354834069},1.8149623263628414,{"$f":"'PRC model'!$A$35*t*86400/10^D68/Lo^2","v":4.7523994789485852E-2},{"$f":"IF(E68>1,(1/E68-1/E68^2)^0.5,(1/E68^2-1/E68)^0.5)","v":0.49739469817731441},{"$f":"IF(E68>1,1-(EXP((1/E68^2-G68^2)*F68)*((COS(G68/E68*F68*2)*(1-erfzR(1/E68*F68^0.5,G68*F68^0.5))-SIN(G68/E68*F68*2)*(-erfzI(1/E68*F68^0.5,G68*F68^0.5)))+(COS(G68/E68*F68*2)*(-erfzI(1/E68*F68^0.5,G68*F68^0.5))+SIN(G68/E68*F68*2)*(1-erfzR(1/E68*F68^0.5,G68*F68^0.5)))/E68/G68)),1-((1/E68+G68)*EXP((1/E68+G68)^2*F68)*ERFC((1/E68+G68)*F68^0.5)-(1/E68-G68)*EXP((1/E68-G68)^2*F68)*ERFC((1/E68-G68)*F68^0.5))/2/G68)","v":0.24072152828102833}]
[187,7.17,6.7729899999999992,{"$f":"B69*'PRC model'!$B$35+'PRC model'!$C$35","v":5.9040967922411287},1.7130370572892661,{"$f":"'PRC model'!$A$35*t*86400/10^D69/Lo^2","v":4.2014778938345869E-2},0.49293458805858958,{"$f":"IF(E69>1,1-(EXP((1/E69^2-G69^2)*F69)*((COS(G69/E69*F69*2)*(1-erfzR(1/E69*F69^0.5,G69*F69^0.5))-SIN(G69/E69*F69*2)*(-erfzI(1/E69*F69^0.5,G69*F69^0.5)))+(COS(G69/E69*F69*2)*(-erfzI(1/E69*F69^0.5,G69*F69^0.5))+SIN(G69/E69*F69*2)*(1-erfzR(1/E69*F69^0.5,G69*F69^0.5)))/E69/G69)),1-((1/E69+G69)*EXP((1/E69+G69)^2*F69)*ERFC((1/E69+G69)*F69^0.5)-(1/E69-G69)*EXP((1/E69-G69)^2*F69)*ERFC((1/E69-G69)*F69^0.5))/2/G69)","v":0.2389014791859253}]
[183,7.2,6.8013999999999992,{"$f":"B70*'PRC model'!$B$35+'PRC model'!$C$35","v":5.9576076489988505},1.6168357419996464,{"$f":"'PRC model'!$A$35*t*86400/10^D70/Lo^2","v":3.7144218558592394E-2},0.48575677225745262,{"$f":"IF(E70>1,1-(EXP((1/E70^2-G70^2)*F70)*((COS(G70/E70*F70*2)*(1-erfzR(1/E70*F70^0.5,G70*F70^0.5))-SIN(G70/E70*F70*2)*(-erfzI(1/E70*F70^0.5,G70*F70^0.5)))+(COS(G70/E70*F70*2)*(-erfzI(1/E70*F70^0.5,G70*F70^0.5))+SIN(G70/E70*F70*2)*(1-erfzR(1/E70*F70^0.5,G70*F70^0.5)))/E70/G70)),1-((1/E70+G70)*EXP((1/E70+G70)^2*F70)*ERFC((1/E70+G70)*F70^0.5)-(1/E70-G70)*EXP((1/E70-G70)^2*F70)*ERFC((1/E70-G70)*F70^0.5))/2/G70)","v":0.23715166931396214}]
[128,6.74,6.3657799999999991,{"$f":"B71*'PRC model'!$B$35+'PRC model'!$C$35","v":5.1371078453804504},3.9223442260039194,{"$f":"'PRC model'!$A$35*t*86400/10^D71/Lo^2","v":0.24569200797045557},0.4358328693766359,{"$f":"IF(E71>1,1-(EXP((1/E71^2-G71^2)*F71)*((COS(G71/E71*F71*2)*(1-erfzR(1/E71*F71^0.5,G71*F71^0.5))-SIN(G71/E71*F71*2)*(-erfzI(1/E71*F71^0.5,G71*F71^0.5)))+(COS(G71/E71*F71*2)*(-erfzI(1/E71*F71^0.5,G71*F71^0.5))+SIN(G71/E71*F71*2)*(1-erfzR(1/E71*F71^0.5,G71*F71^0.5)))/E71/G71)),1-((1/E71+G71)*EXP((1/E71+G71)^2*F71)*ERFC((1/E71+G71)*F71^0.5)-(1/E71-G71)*EXP((1/E71-G71)^2*F71)*ERFC((1/E71-G71)*F71^0.5))/2/G71)","v":0.27423005863616534}]
[167,7.27,6.8676899999999987,{"$f":"B72*'PRC model'!$B$35+'PRC model'!$C$35","v":6.0824663147668669},1.4128538370575787,{"$f":"'PRC model'!$A$35*t*86400/10^D72/Lo^2","v":2.7863300599997306E-2},0.45477954959629258,{"$f":"IF(E72>1,1-(EXP((1/E72^2-G72^2)*F72)*((COS(G72/E72*F72*2)*(1-erfzR(1/E72*F72^0.5,G72*F72^0.5))-SIN(G72/E72*F72*2)*(-erfzI(1/E72*F72^0.5,G72*F72^0.5)))+(COS(G72/E72*F72*2)*(-erfzI(1/E72*F72^0.5,G72*F72^0.5))+SIN(G72/E72*F72*2)*(1-erfzR(1/E72*F72^0.5,G72*F72^0.5)))/E72/G72)),1-((1/E72+G72)*EXP((1/E72+G72)^2*F72)*ERFC((1/E72+G72)*F72^0.5)-(1/E72-G72)*EXP((1/E72-G72)^2*F72)*ERFC((1/E72-G72)*F72^0.5))/2/G72)","v":0.23331951487847136}]
[174,7.11,6.71617,{"$f":"B73*'PRC model'!$B$35+'PRC model'!$C$35","v":5.7970750787256851},1.9229521230142177,{"$f":"'PRC model'!$A$35*t*86400/10^D73/Lo^2","v":5.3755610235753801E-2},0.499598487723873,{"$f":"IF(E73>1,1-(EXP((1/E73^2-G73^2)*F73)*((COS(G73/E73*F73*2)*(1-erfzR(1/E73*F73^0.5,G73*F73^0.5))-SIN(G73/E73*F73*2)*(-erfzI(1/E73*F73^0.5,G73*F73^0.5)))+(COS(G73/E73*F73*2)*(-erfzI(1/E73*F73^0.5,G73*F73^0.5))+SIN(G73/E73*F73*2)*(1-erfzR(1/E73*F73^0.5,G73*F73^0.5)))/E73/G73)),1-((1/E73+G73)*EXP((1/E73+G73)^2*F73)*ERFC((1/E73+G73)*F73^0.5)-(1/E73-G73)*EXP((1/E73-G73)^2*F73)*ERFC((1/E73-G73)*F73^0.5))/2/G73)","v":0.24261612463954851}]
[177,7.08,6.687759999999999,{"$f":"B74*'PRC model'!$B$35+'PRC model'!$C$35","v":5.7435642219679632},2.0373672850913089,{"$f":"'PRC model'!$A$35*t*86400/10^D74/Lo^2","v":6.0804350404852422E-2},0.49991589516348539,{"$f":"IF(E74>1,1-(EXP((1/E74^2-G74^2)*F74)*((COS(G74/E74*F74*2)*(1-erfzR(1/E74*F74^0.5,G74*F74^0.5))-SIN(G74/E74*F74*2)*(-erfzI(1/E74*F74^0.5,G74*F74^0.5)))+(COS(G74/E74*F74*2)*(-erfzI(1/E74*F74^0.5,G74*F74^0.5))+SIN(G74/E74*F74*2)*(1-erfzR(1/E74*F74^0.5,G74*F74^0.5)))/E74/G74)),1-((1/E74+G74)*EXP((1/E74+G74)^2*F74)*ERFC((1/E74+G74)*F74^0.5)-(1/E74-G74)*EXP((1/E74-G74)^2*F74)*ERFC((1/E74-G74)*F74^0.5))/2/G74)","v":0.24458982963870013}]
[171,7.11,6.71617,{"$f":"B75*'PRC model'!$B$35+'PRC model'!$C$35","v":5.7970750787256851},1.9229521230142177,{"$f":"'PRC model'!$A$35*t*86400/10^D75/Lo^2","v":5.3755610235753801E-2},0.499598487723873,{"$f":"IF(E75>1,1-(EXP((1/E75^2-G75^2)*F75)*((COS(G75/E75*F75*2)*(1-erfzR(1/E75*F75^0.5,G75*F75^0.5))-SIN(G75/E75*F75*2)*(-erfzI(1/E75*F75^0.5,G75*F75^0.5)))+(COS(G75/E75*F75*2)*(-erfzI(1/E75*F75^0.5,G75*F75^0.5))+SIN(G75/E75*F75*2)*(1-erfzR(1/E75*F75^0.5,G75*F75^0.5)))/E75/G75)),1-((1/E75+G75)*EXP((1/E75+G75)^2*F75)*ERFC((1/E75+G75)*F75^0.5)-(1/E75-G75)*EXP((1/E75-G75)^2*F75)*ERFC((1/E75-G75)*F75^0.5))/2/G75)","v":0.24261612463954851}]
[156,7.18,6.7824599999999986,{"$f":"B76*'PRC model'!$B$35+'PRC model'!$C$35","v":5.9219337444937015},1.6803502142515352,{"$f":"'PRC model'!$A$35*t*86400/10^D76/Lo^2","v":4.0324141550384461E-2},0.49086996232982227,{"$f":"IF(E76>1,1-(EXP((1/E76^2-G76^2)*F76)*((COS(G76/E76*F76*2)*(1-erfzR(1/E76*F76^0.5,G76*F76^0.5))-SIN(G76/E76*F76*2)*(-erfzI(1/E76*F76^0.5,G76*F76^0.5)))+(COS(G76/E76*F76*2)*(-erfzI(1/E76*F76^0.5,G76*F76^0.5))+SIN(G76/E76*F76*2)*(1-erfzR(1/E76*F76^0.5,G76*F76^0.5)))/E76/G76)),1-((1/E76+G76)*EXP((1/E76+G76)^2*F76)*ERFC((1/E76+G76)*F76^0.5)-(1/E76-G76)*EXP((1/E76-G76)^2*F76)*ERFC((1/E76-G76)*F76^0.5))/2/G76)","v":0.23831061055196956}]
[157,7.18,6.7824599999999986,{"$f":"B77*'PRC model'!$B$35+'PRC model'!$C$35","v":5.9219337444937015},1.6803502142515352,{"$f":"'PRC model'!$A$35*t*86400/10^D77/Lo^2","v":4.0324141550384461E-2},0.49086996232982227,{"$f":"IF(E77>1,1-(EXP((1/E77^2-G77^2)*F77)*((COS(G77/E77*F77*2)*(1-erfzR(1/E77*F77^0.5,G77*F77^0.5))-SIN(G77/E77*F77*2)*(-erfzI(1/E77*F77^0.5,G77*F77^0.5)))+(COS(G77/E77*F77*2)*(-erfzI(1/E77*F77^0.5,G77*F77^0.5))+SIN(G77/E77*F77*2)*(1-erfzR(1/E77*F77^0.5,G77*F77^0.5)))/E77/G77)),1-((1/E77+G77)*EXP((1/E77+G77)^2*F77)*ERFC((1/E77+G77)*F77^0.5)-(1/E77-G77)*EXP((1/E77-G77)^2*F77)*ERFC((1/E77-G77)*F77^0.5))/2/G77)","v":0.23831061055196956}]
[173,7.02,6.6309399999999989,{"$f":"B78*'PRC model'!$B$35+'PRC model'!$C$35","v":5.6365425084525196},2.2870256831603841,{"$f":"'PRC model'!$A$35*t*86400/10^D78/Lo^2","v":7.77958385976011E-2},0.4960467002705542,{"$f":"IF(E78>1,1-(EXP((1/E78^2-G78^2)*F78)*((COS(G78/E78*F78*2)*(1-erfzR(1/E78*F78^0.5,G78*F78^0.5))-SIN(G78/E78*F78*2)*(-erfzI(1/E78*F78^0.5,G78*F78^0.5)))+(COS(G78/E78*F78*2)*(-erfzI(1/E78*F78^0.5,G78*F78^0.5))+SIN(G78/E78*F78*2)*(1-erfzR(1/E78*F78^0.5,G78*F78^0.5)))/E78/G78)),1-((1/E78+G78)*EXP((1/E78+G78)^2*F78)*ERFC((1/E78+G78)*F78^0.5)-(1/E78-G78)*EXP((1/E78-G78)^2*F78)*ERFC((1/E78-G78)*F78^0.5))/2/G78)","v":0.24879415328113419}]
[172,7.33,6.9245099999999997,{"$f":"B79*'PRC model'!$B$35+'PRC model'!$C$35","v":6.1894880282823124},1.2586225889073104,{"$f":"'PRC model'!$A$35*t*86400/10^D79/Lo^2","v":2.1777641627867321E-2},0.40405241374488904,{"$f":"IF(E79>1,1-(EXP((1/E79^2-G79^2)*F79)*((COS(G79/E79*F79*2)*(1-erfzR(1/E79*F79^0.5,G79*F79^0.5))-SIN(G79/E79*F79*2)*(-erfzI(1/E79*F79^0.5,G79*F79^0.5)))+(COS(G79/E79*F79*2)*(-erfzI(1/E79*F79^0.5,G79*F79^0.5))+SIN(G79/E79*F79*2)*(1-erfzR(1/E79*F79^0.5,G79*F79^0.5)))/E79/G79)),1-((1/E79+G79)*EXP((1/E79+G79)^2*F79)*ERFC((1/E79+G79)*F79^0.5)-(1/E79-G79)*EXP((1/E79-G79)^2*F79)*ERFC((1/E79-G79)*F79^0.5))/2/G79)","v":0.23028615239037376}]
[180,7.36,6.9529199999999998,{"$f":"B80*'PRC model'!$B$35+'PRC model'!$C$35","v":6.2429988850400342},1.1879404352487584,{"$f":"'PRC model'!$A$35*t*86400/10^D80/Lo^2","v":1.9253070009085015E-2},0.36493494247787844,{"$f":"IF(E80>1,1-(EXP((1/E80^2-G80^2)*F80)*((COS(G80/E80*F80*2)*(1-erfzR(1/E80*F80^0.5,G80*F80^0.5))-SIN(G80/E80*F80*2)*(-erfzI(1/E80*F80^0.5,G80*F80^0.5)))+(COS(G80/E80*F80*2)*(-erfzI(1/E80*F80^0.5,G80*F80^0.5))+SIN(G80/E80*F80*2)*(1-erfzR(1/E80*F80^0.5,G80*F80^0.5)))/E80/G80)),1-((1/E80+G80)*EXP((1/E80+G80)^2*F80)*ERFC((1/E80+G80)*F80^0.5)-(1/E80-G80)*EXP((1/E80-G80)^2*F80)*ERFC((1/E80-G80)*F80^0.5))/2/G80)","v":0.22884762841863271}]
[193,7.52,7.1044399999999985,{"$f":"B81*'PRC model'!$B$35+'PRC model'!$C$35","v":6.5283901210812161},0.87281746750210443,{"$f":"'PRC model'!$A$35*t*86400/10^D81/Lo^2","v":9.979499344965571E-3},0.40859241962749615,{"$f":"IF(E81>1,1-(EXP((1/E81^2-G81^2)*F81)*((COS(G81/E81*F81*2)*(1-erfzR(1/E81*F81^0.5,G81*F81^0.5))-SIN(G81/E81*F81*2)*(-erfzI(1/E81*F81^0.5,G81*F81^0.5)))+(COS(G81/E81*F81*2)*(-erfzI(1/E81*F81^0.5,G81*F81^0.5))+SIN(G81/E81*F81*2)*(1-erfzR(1/E81*F81^0.5,G81*F81^0.5)))/E81/G81)),1-((1/E81+G81)*EXP((1/E81+G81)^2*F81)*ERFC((1/E81+G81)*F81^0.5)-(1/E81-G81)*EXP((1/E81-G81)^2*F81)*ERFC((1/E81-G81)*F81^0.5))/2/G81)","v":0.22192248944775661}]
[191,7.55,7.1328499999999995,{"$f":"B82*'PRC model'!$B$35+'PRC model'!$C$35","v":6.5819009778389379},0.82380148852829038,{"$f":"'PRC model'!$A$35*t*86400/10^D82/Lo^2","v":8.8226265647781427E-3},0.50954030796854533,{"$f":"IF(E82>1,1-(EXP((1/E82^2-G82^2)*F82)*((COS(G82/E82*F82*2)*(1-erfzR(1/E82*F82^0.5,G82*F82^0.5))-SIN(G82/E82*F82*2)*(-erfzI(1/E82*F82^0.5,G82*F82^0.5)))+(COS(G82/E82*F82*2)*(-erfzI(1/E82*F82^0.5,G82*F82^0.5))+SIN(G82/E82*F82*2)*(1-erfzR(1/E82*F82^0.5,G82*F82^0.5)))/E82/G82)),1-((1/E82+G82)*EXP((1/E82+G82)^2*F82)*ERFC((1/E82+G82)*F82^0.5)-(1/E82-G82)*EXP((1/E82-G82)^2*F82)*ERFC((1/E82-G82)*F82^0.5))/2/G82)","v":0.22074501069914798}]
[170,7.27,6.8676899999999987,{"$f":"B83*'PRC model'!$B$35+'PRC model'!$C$35","v":6.0824663147668669},1.4128538370575787,{"$f":"'PRC model'!$A$35*t*86400/10^D83/Lo^2","v":2.7863300599997306E-2},0.45477954959629258,{"$f":"IF(E83>1,1-(EXP((1/E83^2-G83^2)*F83)*((COS(G83/E83*F83*2)*(1-erfzR(1/E83*F83^0.5,G83*F83^0.5))-SIN(G83/E83*F83*2)*(-erfzI(1/E83*F83^0.5,G83*F83^0.5)))+(COS(G83/E83*F83*2)*(-erfzI(1/E83*F83^0.5,G83*F83^0.5))+SIN(G83/E83*F83*2)*(1-erfzR(1/E83*F83^0.5,G83*F83^0.5)))/E83/G83)),1-((1/E83+G83)*EXP((1/E83+G83)^2*F83)*ERFC((1/E83+G83)*F83^0.5)-(1/E83-G83)*EXP((1/E83-G83)^2*F83)*ERFC((1/E83-G83)*F83^0.5))/2/G83)","v":0.23331951487847136}]
[190,7.46,7.0476199999999993,{"$f":"B84*'PRC model'!$B$35+'PRC model'!$C$35","v":6.4213684075657724},0.97977226761980496,{"$f":"'PRC model'!$A$35*t*86400/10^D84/Lo^2","v":1.276822324647104E-2},0.14516050050236046,{"$f":"IF(E84>1,1-(EXP((1/E84^2-G84^2)*F84)*((COS(G84/E84*F84*2)*(1-erfzR(1/E84*F84^0.5,G84*F84^0.5))-SIN(G84/E84*F84*2)*(-erfzI(1/E84*F84^0.5,G84*F84^0.5)))+(COS(G84/E84*F84*2)*(-erfzI(1/E84*F84^0.5,G84*F84^0.5))+SIN(G84/E84*F84*2)*(1-erfzR(1/E84*F84^0.5,G84*F84^0.5)))/E84/G84)),1-((1/E84+G84)*EXP((1/E84+G84)^2*F84)*ERFC((1/E84+G84)*F84^0.5)-(1/E84-G84)*EXP((1/E84-G84)^2*F84)*ERFC((1/E84-G84)*F84^0.5))/2/G84)","v":0.22438438348445888}]
[198,7.62,7.199139999999999,{"$f":"B85*'PRC model'!$B$35+'PRC model'!$C$35","v":6.7067596436069561},0.7198697207184751,{"$f":"'PRC model'!$A$35*t*86400/10^D85/Lo^2","v":6.6181900062901589E-3},0.7352349112817278,{"$f":"IF(E85>1,1-(EXP((1/E85^2-G85^2)*F85)*((COS(G85/E85*F85*2)*(1-erfzR(1/E85*F85^0.5,G85*F85^0.5))-SIN(G85/E85*F85*2)*(-erfzI(1/E85*F85^0.5,G85*F85^0.5)))+(COS(G85/E85*F85*2)*(-erfzI(1/E85*F85^0.5,G85*F85^0.5))+SIN(G85/E85*F85*2)*(1-erfzR(1/E85*F85^0.5,G85*F85^0.5)))/E85/G85)),1-((1/E85+G85)*EXP((1/E85+G85)^2*F85)*ERFC((1/E85+G85)*F85^0.5)-(1/E85-G85)*EXP((1/E85-G85)^2*F85)*ERFC((1/E85-G85)*F85^0.5))/2/G85)","v":0.21812223406696185}]
[203,7.65,7.2275499999999999,{"$f":"B86*'PRC model'!$B$35+'PRC model'!$C$35","v":6.7602705003646779},0.67944303311378751,{"$f":"'PRC model'!$A$35*t*86400/10^D86/Lo^2","v":5.8509767816860578E-3},0.83329650486872875,{"$f":"IF(E86>1,1-(EXP((1/E86^2-G86^2)*F86)*((COS(G86/E86*F86*2)*(1-erfzR(1/E86*F86^0.5,G86*F86^0.5))-SIN(G86/E86*F86*2)*(-erfzI(1/E86*F86^0.5,G86*F86^0.5)))+(COS(G86/E86*F86*2)*(-erfzI(1/E86*F86^0.5,G86*F86^0.5))+SIN(G86/E86*F86*2)*(1-erfzR(1/E86*F86^0.5,G86*F86^0.5)))/E86/G86)),1-((1/E86+G86)*EXP((1/E86+G86)^2*F86)*ERFC((1/E86+G86)*F86^0.5)-(1/E86-G86)*EXP((1/E86-G86)^2*F86)*ERFC((1/E86-G86)*F86^0.5))/2/G86)","v":0.21704721238240676}]
[196,7.65,7.2275499999999999,{"$f":"B87*'PRC model'!$B$35+'PRC model'!$C$35","v":6.7602705003646779},0.67944303311378751,{"$f":"'PRC model'!$A$35*t*86400/10^D87/Lo^2","v":5.8509767816860578E-3},0.83329650486872875,{"$f":"IF(E87>1,1-(EXP((1/E87^2-G87^2)*F87)*((COS(G87/E87*F87*2)*(1-erfzR(1/E87*F87^0.5,G87*F87^0.5))-SIN(G87/E87*F87*2)*(-erfzI(1/E87*F87^0.5,G87*F87^0.5)))+(COS(G87/E87*F87*2)*(-erfzI(1/E87*F87^0.5,G87*F87^0.5))+SIN(G87/E87*F87*2)*(1-erfzR(1/E87*F87^0.5,G87*F87^0.5)))/E87/G87)),1-((1/E87+G87)*EXP((1/E87+G87)^2*F87)*ERFC((1/E87+G87)*F87^0.5)-(1/E87-G87)*EXP((1/E87-G87)^2*F87)*ERFC((1/E87-G87)*F87^0.5))/2/G87)","v":0.21704721238240676}]
[195,7.56,7.1423199999999989,{"$f":"B88*'PRC model'!$B$35+'PRC model'!$C$35","v":6.5997379300915107},0.80808234816574098,{"$f":"'PRC model'!$A$35*t*86400/10^D88/Lo^2","v":8.4676119078565017E-3},0.54212800262580707,{"$f":"IF(E88>1,1-(EXP((1/E88^2-G88^2)*F88)*((COS(G88/E88*F88*2)*(1-erfzR(1/E88*F88^0.5,G88*F88^0.5))-SIN(G88/E88*F88*2)*(-erfzI(1/E88*F88^0.5,G88*F88^0.5)))+(COS(G88/E88*F88*2)*(-erfzI(1/E88*F88^0.5,G88*F88^0.5))+SIN(G88/E88*F88*2)*(1-erfzR(1/E88*F88^0.5,G88*F88^0.5)))/E88/G88)),1-((1/E88+G88)*EXP((1/E88+G88)^2*F88)*ERFC((1/E88+G88)*F88^0.5)-(1/E88-G88)*EXP((1/E88-G88)^2*F88)*ERFC((1/E88-G88)*F88^0.5))/2/G88)","v":0.22035992577178742}]
[194,7.8,7.3695999999999993,{"$f":"B89*'PRC model'!$B$35+'PRC model'!$C$35","v":7.027824784153287},0.50891911822894609,{"$f":"'PRC model'!$A$35*t*86400/10^D89/Lo^2","v":3.1599054716470966E-3},1.3769803648726668,{"$f":"IF(E89>1,1-(EXP((1/E89^2-G89^2)*F89)*((COS(G89/E89*F89*2)*(1-erfzR(1/E89*F89^0.5,G89*F89^0.5))-SIN(G89/E89*F89*2)*(-erfzI(1/E89*F89^0.5,G89*F89^0.5)))+(COS(G89/E89*F89*2)*(-erfzI(1/E89*F89^0.5,G89*F89^0.5))+SIN(G89/E89*F89*2)*(1-erfzR(1/E89*F89^0.5,G89*F89^0.5)))/E89/G89)),1-((1/E89+G89)*EXP((1/E89+G89)^2*F89)*ERFC((1/E89+G89)*F89^0.5)-(1/E89-G89)*EXP((1/E89-G89)^2*F89)*ERFC((1/E89-G89)*F89^0.5))/2/G89)","v":0.21204714457918861}]
[209,8.18,7.7294599999999987,{"$f":"B90*'PRC model'!$B$35+'PRC model'!$C$35","v":7.7056289697510962},0.24473978852561065,{"$f":"'PRC model'!$A$35*t*86400/10^D90/Lo^2","v":6.6354427324850918E-4},3.5509431754554166,{"$f":"IF(E90>1,1-(EXP((1/E90^2-G90^2)*F90)*((COS(G90/E90*F90*2)*(1-erfzR(1/E90*F90^0.5,G90*F90^0.5))-SIN(G90/E90*F90*2)*(-erfzI(1/E90*F90^0.5,G90*F90^0.5)))+(COS(G90/E90*F90*2)*(-erfzI(1/E90*F90^0.5,G90*F90^0.5))+SIN(G90/E90*F90*2)*(1-erfzR(1/E90*F90^0.5,G90*F90^0.5)))/E90/G90)),1-((1/E90+G90)*EXP((1/E90+G90)^2*F90)*ERFC((1/E90+G90)*F90^0.5)-(1/E90-G90)*EXP((1/E90-G90)^2*F90)*ERFC((1/E90-G90)*F90^0.5))/2/G90)","v":0.20136652536714084}]

{"sheet":"fitted_RD","index":3,"n_rows":3,"n_cols":21,"rows_kept":3,"cut":false,"hidden":false,"merged":[]}
[null,"PRC#"]
[null,{"$f":"'PRC model'!B12","v":1},{"$f":"'PRC model'!C12","v":2},{"$f":"'PRC model'!D12","v":3},{"$f":"'PRC model'!E12","v":4},{"$f":"'PRC model'!F12","v":5},{"$f":"'PRC model'!G12","v":6},{"$f":"'PRC model'!H12","v":""},{"$f":"'PRC model'!I12","v":""},{"$f":"'PRC model'!J12","v":""},{"$f":"'PRC model'!K12","v":""},{"$f":"'PRC model'!L12","v":""},{"$f":"'PRC model'!M12","v":""},{"$f":"'PRC model'!N12","v":""},{"$f":"'PRC model'!O12","v":""},{"$f":"'PRC model'!P12","v":""},{"$f":"'PRC model'!Q12","v":""},{"$f":"'PRC model'!R12","v":""},{"$f":"'PRC model'!S12","v":""},{"$f":"'PRC model'!T12","v":""},{"$f":"'PRC model'!U12","v":""}]
["RD(cm^2/s)",-0.70102999566397994,-0.3612426144941856,-6.1242614494185624E-2,0.53875738550581453,9.8970004336020032E-2,1.6387573855058146,2.9000000000000021,-2.4999999999999991,-2.399999999999999,-2.0602126188302043,-1.4999999999999989]

{"sheet":"rec_fitted_plot","index":4,"n_rows":90,"n_cols":5,"rows_kept":90,"cut":false,"hidden":false,"merged":[]}
[]
["Compound","logKow","logKpw","logRD","fss"]
[1,4.46,4.2066199999999991,{"$f":"B3*'PRC model'!$B$31+'PRC model'!$C$31","v":-2.1236153587722226},{"$f":"1-EXP((10^D3)*t*86400/((Lo^2-Li^2)/2/Lo)^2/(10^C3)^2)*ERFC((10^D3) ^ 0.5*(t*86400)^ 0.5/((Lo^2-Li^2)/2/Lo)/(10^C3))","v":0.79929493552134145}]
[4,4.6500000000000004,4.3865499999999997,{"$f":"B4*'PRC model'!$B$31+'PRC model'!$C$31","v":-1.907930250632317},0.76786728482770827]
[10,4.84,4.5664799999999994,{"$f":"B5*'PRC model'!$B$31+'PRC model'!$C$31","v":-1.6922451424924123},0.73301716038259024]
[9,5.0599999999999996,4.7748199999999992,{"$f":"B6*'PRC model'!$B$31+'PRC model'!$C$31","v":-1.442504490961996},0.68864510465098638]
[7,5.07,4.7842899999999995,{"$f":"B7*'PRC model'!$B$31+'PRC model'!$C$31","v":-1.4311526431651584},0.68653365161791502]
[6,5.0599999999999996,4.7748199999999992,{"$f":"B8*'PRC model'!$B$31+'PRC model'!$C$31","v":-1.442504490961996},0.68864510465098638]
[8,5.07,4.7842899999999995,{"$f":"B9*'PRC model'!$B$31+'PRC model'!$C$31","v":-1.4311526431651584},0.68653365161791502]
[5,4.97,4.689589999999999,{"$f":"B10*'PRC model'!$B$31+'PRC model'!$C$31","v":-1.54467112113353},0.70729004123559425]
[19,5.0199999999999996,4.7369399999999988,{"$f":"B11*'PRC model'!$B$31+'PRC model'!$C$31","v":-1.4879118821493442},0.69701244259409711]
[18,5.24,4.9452799999999995,{"$f":"B12*'PRC model'!$B$31+'PRC model'!$C$31","v":-1.238171230618927},0.64952325376948172]
[17,5.25,4.9547499999999998,{"$f":"B13*'PRC model'!$B$31+'PRC model'!$C$31","v":-1.2268193828220904},0.64728527444765294]
[27,5.44,5.1346799999999995,{"$f":"B14*'PRC model'!$B$31+'PRC model'!$C$31","v":-1.0111342746821848},0.60369819653013945]
[24,5.35,5.0494499999999993,{"$f":"B15*'PRC model'!$B$31+'PRC model'!$C$31","v":-1.1133009048537197},0.62458033958481107]
[32,5.44,5.1346799999999995,{"$f":"B16*'PRC model'!$B$31+'PRC model'!$C$31","v":-1.0111342746821848},0.60369819653013945]
[16,5.16,4.8695199999999996,{"$f":"B17*'PRC model'!$B$31+'PRC model'!$C$31","v":-1.3289860129936244},0.66719279964459355]
[26,5.66,5.3430199999999992,{"$f":"B18*'PRC model'!$B$31+'PRC model'!$C$31","v":-0.7613936231517684},0.55137915587992303]
[25,5.67,5.3524899999999995,{"$f":"B19*'PRC model'!$B$31+'PRC model'!$C$31","v":-0.75004177535493177},0.54897231321209083]
[31,5.67,5.3524899999999995,{"$f":"B20*'PRC model'!$B$31+'PRC model'!$C$31","v":-0.75004177535493177},0.54897231321209083]
[28,5.67,5.3524899999999995,{"$f":"B21*'PRC model'!$B$31+'PRC model'!$C$31","v":-0.75004177535493177},0.54897231321209083]
[20,5.57,5.25779,{"$f":"B22*'PRC model'!$B$31+'PRC model'!$C$31","v":-0.86356025332330244},0.57295155972664458]
[22,5.58,5.2672599999999994,{"$f":"B23*'PRC model'!$B$31+'PRC model'!$C$31","v":-0.85220840552646493},0.57056399117501311]
[52,5.84,5.5134799999999995,{"$f":"B24*'PRC model'!$B$31+'PRC model'!$C$31","v":-0.5570603628087003},0.50791891916279397]
[47,5.85,5.5229499999999989,{"$f":"B25*'PRC model'!$B$31+'PRC model'!$C$31","v":-0.54570851501186368},0.50550282294733462]
[44,5.75,5.4282499999999994,{"$f":"B26*'PRC model'!$B$31+'PRC model'!$C$31","v":-0.65922699298023435},0.52967227117505211]
[42,5.76,5.4377199999999988,{"$f":"B27*'PRC model'!$B$31+'PRC model'!$C$31","v":-0.64787514518339773},0.52725591751429612]
[71,5.98,5.6460599999999994,{"$f":"B28*'PRC model'!$B$31+'PRC model'!$C$31","v":-0.39813449365298048},0.47419327170082626]
[41,5.69,5.3714300000000001,{"$f":"B29*'PRC model'!$B$31+'PRC model'!$C$31","v":-0.72733807976125675},0.54415412732180513]
[103,6.22,5.8733399999999989,{"$f":"B30*'PRC model'!$B$31+'PRC model'!$C$31","v":-0.12569014652888999},0.4175094323420605]
[40,5.66,5.3430199999999992,{"$f":"B31*'PRC model'!$B$31+'PRC model'!$C$31","v":-0.7613936231517684},0.55137915587992303]
[74,6.2,5.8543999999999992,{"$f":"B32*'PRC model'!$B$31+'PRC model'!$C$31","v":-0.14839384212256412},0.42215040331203979]
[70,6.2,5.8543999999999992,{"$f":"B33*'PRC model'!$B$31+'PRC model'!$C$31","v":-0.14839384212256412},0.42215040331203979]
[66,6.2,5.8543999999999992,{"$f":"B34*'PRC model'!$B$31+'PRC model'!$C$31","v":-0.14839384212256412},0.42215040331203979]
[95,6.13,5.7881099999999996,{"$f":"B35*'PRC model'!$B$31+'PRC model'!$C$31","v":-0.22785677670042404},{"$f":"1-EXP((10^D35)*t*86400/((Lo^2-Li^2)/2/Lo)^2/(10^C35)^2)*ERFC((10^D35) ^ 0.5*(t*86400)^ 0.5/((Lo^2-Li^2)/2/Lo)/(10^C35))","v":0.43852805473845269}]
[93,6.04,5.7028799999999995,{"$f":"B36*'PRC model'!$B$31+'PRC model'!$C$31","v":-0.33002340687195808},0.45984892653791665]
[56,6.11,5.7691699999999999,{"$f":"B37*'PRC model'!$B$31+'PRC model'!$C$31","v":-0.25056047229409728},0.44324251016790872]
[60,6.11,5.7691699999999999,{"$f":"B38*'PRC model'!$B$31+'PRC model'!$C$31","v":-0.25056047229409728},0.44324251016790872]
[92,6.35,5.9964499999999994,{"$f":"B39*'PRC model'!$B$31+'PRC model'!$C$31","v":2.1883874829992322E-2},0.38782455875258415]
[84,6.04,5.7028799999999995,{"$f":"B40*'PRC model'!$B$31+'PRC model'!$C$31","v":-0.33002340687195808},0.45984892653791665]
[101,6.38,6.0248599999999994,{"$f":"B41*'PRC model'!$B$31+'PRC model'!$C$31","v":5.5939418220503967E-2},0.38110506676133982]
[99,6.39,6.0343299999999989,{"$f":"B42*'PRC model'!$B$31+'PRC model'!$C$31","v":6.729126601734059E-2},0.37887705673563976]
[119,6.58,6.2142599999999995,{"$f":"B43*'PRC model'!$B$31+'PRC model'!$C$31","v":0.28297637415724708},0.3377710118246674]
[83,6.26,5.9112199999999993,{"$f":"B44*'PRC model'!$B$31+'PRC model'!$C$31","v":-8.0282755341541723E-2},0.40828354295070379]
[87,6.29,5.9396299999999993,{"$f":"B45*'PRC model'!$B$31+'PRC model'!$C$31","v":-4.6227211951030078E-2},0.40141602151908473]
[81,6.36,6.0059199999999997,{"$f":"B46*'PRC model'!$B$31+'PRC model'!$C$31","v":3.3235722626830722E-2},0.38557889474617935]
[136,6.22,5.8733399999999989,{"$f":"B47*'PRC model'!$B$31+'PRC model'!$C$31","v":-0.12569014652888999},0.4175094323420605]
[110,6.48,6.1195599999999999,{"$f":"B48*'PRC model'!$B$31+'PRC model'!$C$31","v":0.16945789618887552},0.35910529183566353]
[77,6.36,6.0059199999999997,{"$f":"B49*'PRC model'!$B$31+'PRC model'!$C$31","v":3.3235722626830722E-2},0.38557889474617935]
[82,6.2,5.8543999999999992,{"$f":"B50*'PRC model'!$B$31+'PRC model'!$C$31","v":-0.14839384212256412},0.42215040331203979]
[151,6.64,6.2710799999999987,{"$f":"B51*'PRC model'!$B$31+'PRC model'!$C$31","v":0.35108746093826859},0.32531488404267084]
[135,6.64,6.2710799999999987,{"$f":"B52*'PRC model'!$B$31+'PRC model'!$C$31","v":0.35108746093826859},0.32531488404267084]
[144,6.67,6.2994899999999996,{"$f":"B53*'PRC model'!$B$31+'PRC model'!$C$31","v":0.38514300432878024},0.31918813076741914]
[107,6.71,6.3373699999999991,{"$f":"B54*'PRC model'!$B$31+'PRC model'!$C$31","v":0.43055039551612939},0.31112694617414083]
[123,6.74,6.3657799999999991,{"$f":"B55*'PRC model'!$B$31+'PRC model'!$C$31","v":0.46460593890664104},0.30516335843894016]
[149,6.67,6.2994899999999996,{"$f":"B56*'PRC model'!$B$31+'PRC model'!$C$31","v":0.38514300432878024},0.31918813076741914]
[118,6.74,6.3657799999999991,{"$f":"B57*'PRC model'!$B$31+'PRC model'!$C$31","v":0.46460593890664104},0.30516335843894016]
[134,6.55,6.1858499999999994,{"$f":"B58*'PRC model'!$B$31+'PRC model'!$C$31","v":0.24892083076673543},0.34409769086444064]
[146,6.89,6.5078299999999993,{"$f":"B59*'PRC model'!$B$31+'PRC model'!$C$31","v":0.63488365585919659},0.27643753677846028]
[153,6.92,6.5362399999999994,{"$f":"B60*'PRC model'!$B$31+'PRC model'!$C$31","v":0.66893919924970824},0.27091604987475493]
[132,6.58,6.2142599999999995,{"$f":"B61*'PRC model'!$B$31+'PRC model'!$C$31","v":0.28297637415724708},0.3377710118246674]
[105,6.65,6.2805499999999999,{"$f":"B62*'PRC model'!$B$31+'PRC model'!$C$31","v":0.36243930873510699},0.32326501853466671]
[141,6.82,6.4415399999999998,{"$f":"B63*'PRC model'!$B$31+'PRC model'!$C$31","v":0.55542072128133757},0.28961329070933761]
[179,6.73,6.3563099999999997,{"$f":"B64*'PRC model'!$B$31+'PRC model'!$C$31","v":0.45325409110980353},0.30714330571756265]
[163,6.99,6.6025299999999998,{"$f":"B65*'PRC model'!$B$31+'PRC model'!$C$31","v":0.74840213382756904},0.25832860485359832]
[138,6.83,6.4510099999999992,{"$f":"B66*'PRC model'!$B$31+'PRC model'!$C$31","v":0.56677256907817508},0.2877061917297864]
[158,7.02,6.6309399999999989,{"$f":"B67*'PRC model'!$B$31+'PRC model'!$C$31","v":0.78245767721807979},{"$f":"1-EXP((10^D67)*t*86400/((Lo^2-Li^2)/2/Lo)^2/(10^C67)^2)*ERFC((10^D67) ^ 0.5*(t*86400)^ 0.5/((Lo^2-Li^2)/2/Lo)/(10^C67))","v":0.25306177452818768}]
[178,7.14,6.7445799999999991,{"$f":"B68*'PRC model'!$B$31+'PRC model'!$C$31","v":0.91867985078012548},0.23276690818301826]
[187,7.17,6.7729899999999992,{"$f":"B69*'PRC model'!$B$31+'PRC model'!$C$31","v":0.95273539417063713},0.22788677514319733]
[183,7.2,6.8013999999999992,{"$f":"B70*'PRC model'!$B$31+'PRC model'!$C$31","v":0.98679093756114877},0.22308404295572526]
[128,6.74,6.3657799999999991,{"$f":"B71*'PRC model'!$B$31+'PRC model'!$C$31","v":0.46460593890664104},0.30516335843894016]
[167,7.27,6.8676899999999987,{"$f":"B72*'PRC model'!$B$31+'PRC model'!$C$31","v":1.0662538721390069},0.21217789311840651]
[174,7.11,6.71617,{"$f":"B73*'PRC model'!$B$31+'PRC model'!$C$31","v":0.88462430738961384},0.23772450422339664]
[177,7.08,6.687759999999999,{"$f":"B74*'PRC model'!$B$31+'PRC model'!$C$31","v":0.8505687639991022},0.2427595651854082]
[171,7.11,6.71617,{"$f":"B75*'PRC model'!$B$31+'PRC model'!$C$31","v":0.88462430738961384},0.23772450422339664]
[156,7.18,6.7824599999999986,{"$f":"B76*'PRC model'!$B$31+'PRC model'!$C$31","v":0.96408724196747375},0.22627726907857304]
[157,7.18,6.7824599999999986,{"$f":"B77*'PRC model'!$B$31+'PRC model'!$C$31","v":0.96408724196747375},0.22627726907857304]
[173,7.02,6.6309399999999989,{"$f":"B78*'PRC model'!$B$31+'PRC model'!$C$31","v":0.78245767721807979},0.25306177452818768]
[172,7.33,6.9245099999999997,{"$f":"B79*'PRC model'!$B$31+'PRC model'!$C$31","v":1.1343649589200302},0.20316257762647305]
[180,7.36,6.9529199999999998,{"$f":"B80*'PRC model'!$B$31+'PRC model'!$C$31","v":1.1684205023105418},0.19876931475439508]
[193,7.52,7.1044399999999985,{"$f":"B81*'PRC model'!$B$31+'PRC model'!$C$31","v":1.3500500670599349},0.17660669925754524]
[191,7.55,7.1328499999999995,{"$f":"B82*'PRC model'!$B$31+'PRC model'!$C$31","v":1.3841056104504466},0.17268498114214792]
[170,7.27,6.8676899999999987,{"$f":"B83*'PRC model'!$B$31+'PRC model'!$C$31","v":1.0662538721390069},0.21217789311840651]
[190,7.46,7.0476199999999993,{"$f":"B84*'PRC model'!$B$31+'PRC model'!$C$31","v":1.2819389802789134},0.18466974755468191]
[198,7.62,7.199139999999999,{"$f":"B85*'PRC model'!$B$31+'PRC model'!$C$31","v":1.4635685450283065},0.16381464357572673]
[203,7.65,7.2275499999999999,{"$f":"B86*'PRC model'!$B$31+'PRC model'!$C$31","v":1.4976240884188181},0.1601315918085181]
[196,7.65,7.2275499999999999,{"$f":"B87*'PRC model'!$B$31+'PRC model'!$C$31","v":1.4976240884188181},0.1601315918085181]
[195,7.56,7.1423199999999989,{"$f":"B88*'PRC model'!$B$31+'PRC model'!$C$31","v":1.3954574582472832},0.17139385790951966]
[194,7.8,7.3695999999999993,{"$f":"B89*'PRC model'!$B$31+'PRC model'!$C$31","v":1.6679018053713746},0.14275252929963755]
[209,8.18,7.7294599999999987,{"$f":"B90*'PRC model'!$B$31+'PRC model'!$C$31","v":2.0992720216511858},0.10588242004482962]

{"sheet":"fitted_ke","index":5,"n_rows":3,"n_cols":21,"rows_kept":3,"cut":false,"hidden":false,"merged":[]}
[null,"PRC#"]
[null,{"$f":"'PRC model'!B12","v":1},{"$f":"'PRC model'!C12","v":2},{"$f":"'PRC model'!D12","v":3},{"$f":"'PRC model'!E12","v":4},{"$f":"'PRC model'!F12","v":5},{"$f":"'PRC model'!G12","v":6},{"$f":"'PRC model'!H12","v":""},{"$f":"'PRC model'!I12","v":""},{"$f":"'PRC model'!J12","v":""},{"$f":"'PRC model'!K12","v":""},{"$f":"'PRC model'!L12","v":""},{"$f":"'PRC model'!M12","v":""},{"$f":"'PRC model'!N12","v":""},{"$f":"'PRC model'!O12","v":""},{"$f":"'PRC model'!P12","v":""},{"$f":"'PRC model'!Q12","v":""},{"$f":"'PRC model'!R12","v":""},{"$f":"'PRC model'!S12","v":""},{"$f":"'PRC model'!T12","v":""},{"$f":"'PRC model'!U12","v":""}]
["pke[/day]",-1.566676269220433,-1.5638251092030633,-1.8382538061706724,-1.9618086670875006,-2.2500478909468731,-1.9177997335777546,-2.0488730739585925,-1.4765493565922347,-1.7666606158234142,-2.0450218020229918,-2.3491525897382357]

{"sheet":"kinetic_fitted_plot","index":6,"n_rows":90,"n_cols":4,"rows_kept":90,"cut":false,"hidden":false,"merged":[]}
[]
["Compound","logKow","logke","fss"]
[1,4.46,{"$f":"B3*'PRC model'!$B$27+'PRC model'!$C$27","v":-1.2004684180420655},{"$f":"1-EXP(10^C3*t*-1)","v":0.84905376037249747}]
[4,4.6500000000000004,{"$f":"B4*'PRC model'!$B$27+'PRC model'!$C$27","v":-1.2609393481001736},0.80699913757633623]
[10,4.84,{"$f":"B5*'PRC model'!$B$27+'PRC model'!$C$27","v":-1.3214102781582815},0.76098646426702277]
[9,5.0599999999999996,{"$f":"B6*'PRC model'!$B$27+'PRC model'!$C$27","v":-1.3914292498045118},0.70421588039012817]
[7,5.07,{"$f":"B7*'PRC model'!$B$27+'PRC model'!$C$27","v":-1.394611930333886},0.70157336196692566]
[6,5.0599999999999996,{"$f":"B8*'PRC model'!$B$27+'PRC model'!$C$27","v":-1.3914292498045118},0.70421588039012817]
[8,5.07,{"$f":"B9*'PRC model'!$B$27+'PRC model'!$C$27","v":-1.394611930333886},0.70157336196692566]
[5,4.97,{"$f":"B10*'PRC model'!$B$27+'PRC model'!$C$27","v":-1.3627851250401448},0.72778858570157534]
[19,5.0199999999999996,{"$f":"B11*'PRC model'!$B$27+'PRC model'!$C$27","v":-1.3786985276870152},0.7147420819908098]
[18,5.24,{"$f":"B12*'PRC model'!$B$27+'PRC model'!$C$27","v":-1.4487174993332459},0.65616320818756713]
[17,5.25,{"$f":"B13*'PRC model'!$B$27+'PRC model'!$C$27","v":-1.4519001798626199},0.65347248975052374]
[27,5.44,{"$f":"B14*'PRC model'!$B$27+'PRC model'!$C$27","v":-1.512371109920728},0.60229343225956999]
[24,5.35,{"$f":"B15*'PRC model'!$B$27+'PRC model'!$C$27","v":-1.4837269851563608},0.62652523312345465]
[32,5.44,{"$f":"B16*'PRC model'!$B$27+'PRC model'!$C$27","v":-1.512371109920728},0.60229343225956999]
[16,5.16,{"$f":"B17*'PRC model'!$B$27+'PRC model'!$C$27","v":-1.4232560550982529},0.67762793939989918]
[26,5.66,{"$f":"B18*'PRC model'!$B$27+'PRC model'!$C$27","v":-1.5823900815669583},0.54376612936975999]
[25,5.67,{"$f":"B19*'PRC model'!$B$27+'PRC model'!$C$27","v":-1.5855727620963322},0.54114443598681161]
[31,5.67,{"$f":"B20*'PRC model'!$B$27+'PRC model'!$C$27","v":-1.5855727620963322},0.54114443598681161]
[28,5.67,{"$f":"B21*'PRC model'!$B$27+'PRC model'!$C$27","v":-1.5855727620963322},0.54114443598681161]
[20,5.57,{"$f":"B22*'PRC model'!$B$27+'PRC model'!$C$27","v":-1.5537459568025913},0.56753477063698288]
[22,5.58,{"$f":"B23*'PRC model'!$B$27+'PRC model'!$C$27","v":-1.5569286373319653},0.56487970899034523]
[52,5.84,{"$f":"B24*'PRC model'!$B$27+'PRC model'!$C$27","v":-1.6396783310956919},0.49730392567243709]
[47,5.85,{"$f":"B25*'PRC model'!$B$27+'PRC model'!$C$27","v":-1.6428610116250659},0.4947731263124171]
[44,5.75,{"$f":"B26*'PRC model'!$B$27+'PRC model'!$C$27","v":-1.611034206331325},0.52033201204525503]
[42,5.76,{"$f":"B27*'PRC model'!$B$27+'PRC model'!$C$27","v":-1.614216886860699},0.5177520608259043]
[71,5.98,{"$f":"B28*'PRC model'!$B$27+'PRC model'!$C$27","v":-1.6842358585069297},0.46243479668121856]
[41,5.69,{"$f":"B29*'PRC model'!$B$27+'PRC model'!$C$27","v":-1.5919381231550807},0.53591387767757848]
[103,6.22,{"$f":"B30*'PRC model'!$B$27+'PRC model'!$C$27","v":-1.7606201912119079},0.40583384923808818]
[40,5.66,{"$f":"B31*'PRC model'!$B$27+'PRC model'!$C$27","v":-1.5823900815669583},0.54376612936975999]
[74,6.2,{"$f":"B32*'PRC model'!$B$27+'PRC model'!$C$27","v":-1.7542548301531597},0.41038337622223797]
[70,6.2,{"$f":"B33*'PRC model'!$B$27+'PRC model'!$C$27","v":-1.7542548301531597},0.41038337622223797]
[66,6.2,{"$f":"B34*'PRC model'!$B$27+'PRC model'!$C$27","v":-1.7542548301531597},0.41038337622223797]
[95,6.13,{"$f":"B35*'PRC model'!$B$27+'PRC model'!$C$27","v":-1.731976066447541},{"$f":"1-EXP(10^C35*t*-1)","v":0.42655321222987863}]
[93,6.04,{"$f":"B36*'PRC model'!$B$27+'PRC model'!$C$27","v":-1.703331941683174},0.44788776149787846]
[56,6.11,{"$f":"B37*'PRC model'!$B$27+'PRC model'!$C$27","v":-1.725610705388793},0.43124223067261935]
[60,6.11,{"$f":"B38*'PRC model'!$B$27+'PRC model'!$C$27","v":-1.725610705388793},0.43124223067261935]
[92,6.35,{"$f":"B39*'PRC model'!$B$27+'PRC model'!$C$27","v":-1.801995038093771},0.37704985551674097]
[84,6.04,{"$f":"B40*'PRC model'!$B$27+'PRC model'!$C$27","v":-1.703331941683174},0.44788776149787846]
[101,6.38,{"$f":"B41*'PRC model'!$B$27+'PRC model'!$C$27","v":-1.8115430796818934},0.37060547799063348]
[99,6.39,{"$f":"B42*'PRC model'!$B$27+'PRC model'!$C$27","v":-1.8147257602112674},0.36847413276399843]
[119,6.58,{"$f":"B43*'PRC model'!$B$27+'PRC model'!$C$27","v":-1.8751966902693757},0.32959635091414263]
[83,6.26,{"$f":"B44*'PRC model'!$B$27+'PRC model'!$C$27","v":-1.7733509133294043},0.39683063336742064]
[87,6.29,{"$f":"B45*'PRC model'!$B$27+'PRC model'!$C$27","v":-1.7828989549175267},0.3901631226175144]
[81,6.36,{"$f":"B46*'PRC model'!$B$27+'PRC model'!$C$27","v":-1.8051777186231455},0.37489336028778897]
[136,6.22,{"$f":"B47*'PRC model'!$B$27+'PRC model'!$C$27","v":-1.7606201912119079},0.40583384923808818]
[110,6.48,{"$f":"B48*'PRC model'!$B$27+'PRC model'!$C$27","v":-1.843369884975635},0.34967315749720074]
[77,6.36,{"$f":"B49*'PRC model'!$B$27+'PRC model'!$C$27","v":-1.8051777186231455},0.37489336028778897]
[82,6.2,{"$f":"B50*'PRC model'!$B$27+'PRC model'!$C$27","v":-1.7542548301531597},0.41038337622223797]
[151,6.64,{"$f":"B51*'PRC model'!$B$27+'PRC model'!$C$27","v":-1.8942927734456201},0.31796450819221977]
[135,6.64,{"$f":"B52*'PRC model'!$B$27+'PRC model'!$C$27","v":-1.8942927734456201},0.31796450819221977]
[144,6.67,{"$f":"B53*'PRC model'!$B$27+'PRC model'!$C$27","v":-1.9038408150337425},0.31226538058204745]
[107,6.71,{"$f":"B54*'PRC model'!$B$27+'PRC model'!$C$27","v":-1.9165715371512388},0.30478763545619181]
[123,6.74,{"$f":"B55*'PRC model'!$B$27+'PRC model'!$C$27","v":-1.9261195787393617},0.29927004259758239]
[149,6.67,{"$f":"B56*'PRC model'!$B$27+'PRC model'!$C$27","v":-1.9038408150337425},0.31226538058204745]
[118,6.74,{"$f":"B57*'PRC model'!$B$27+'PRC model'!$C$27","v":-1.9261195787393617},0.29927004259758239]
[134,6.55,{"$f":"B58*'PRC model'!$B$27+'PRC model'!$C$27","v":-1.8656486486812534},0.33552894957036694]
[146,6.89,{"$f":"B59*'PRC model'!$B$27+'PRC model'!$C$27","v":-1.9738597866799727},0.27284201578624001]
[153,6.92,{"$f":"B60*'PRC model'!$B$27+'PRC model'!$C$27","v":-1.9834078282680951},0.26778656031416481]
[132,6.58,{"$f":"B61*'PRC model'!$B$27+'PRC model'!$C$27","v":-1.8751966902693757},0.32959635091414263]
[105,6.65,{"$f":"B62*'PRC model'!$B$27+'PRC model'!$C$27","v":-1.8974754539749945},0.31605614644277491]
[141,6.82,{"$f":"B63*'PRC model'!$B$27+'PRC model'!$C$27","v":-1.9515810229743544},0.28493538649597971]
[179,6.73,{"$f":"B64*'PRC model'!$B$27+'PRC model'!$C$27","v":-1.9229368982099873},0.301100609143239]
[163,6.99,{"$f":"B65*'PRC model'!$B$27+'PRC model'!$C$27","v":-2.0056865919737139},0.25628504825006715]
[138,6.83,{"$f":"B66*'PRC model'!$B$27+'PRC model'!$C$27","v":-1.9547637035037284},0.28318216918157146]
[158,7.02,{"$f":"B67*'PRC model'!$B$27+'PRC model'!$C$27","v":-2.0152346335618363},{"$f":"1-EXP(10^C67*t*-1)","v":0.25148102841662112}]
[178,7.14,{"$f":"B68*'PRC model'!$B$27+'PRC model'!$C$27","v":-2.0534267999143254},0.23300412731871545]
[187,7.17,{"$f":"B69*'PRC model'!$B$27+'PRC model'!$C$27","v":-2.0629748415024478},0.22856696410996014]
[183,7.2,{"$f":"B70*'PRC model'!$B$27+'PRC model'!$C$27","v":-2.0725228830905702},0.22420145092861243]
[128,6.74,{"$f":"B71*'PRC model'!$B$27+'PRC model'!$C$27","v":-1.9261195787393617},0.29927004259758239]
[167,7.27,{"$f":"B72*'PRC model'!$B$27+'PRC model'!$C$27","v":-2.094801646796189},0.21429035168073918]
[174,7.11,{"$f":"B73*'PRC model'!$B$27+'PRC model'!$C$27","v":-2.0438787583262035},0.23751354457165286]
[177,7.08,{"$f":"B74*'PRC model'!$B$27+'PRC model'!$C$27","v":-2.0343307167380811},0.24209579832745987]
[171,7.11,{"$f":"B75*'PRC model'!$B$27+'PRC model'!$C$27","v":-2.0438787583262035},0.23751354457165286]
[156,7.18,{"$f":"B76*'PRC model'!$B$27+'PRC model'!$C$27","v":-2.0661575220318218},0.22710386235642788]
[157,7.18,{"$f":"B77*'PRC model'!$B$27+'PRC model'!$C$27","v":-2.0661575220318218},0.22710386235642788]
[173,7.02,{"$f":"B78*'PRC model'!$B$27+'PRC model'!$C$27","v":-2.0152346335618363},0.25148102841662112]
[172,7.33,{"$f":"B79*'PRC model'!$B$27+'PRC model'!$C$27","v":-2.1138977299724337},0.20609658935009167]
[180,7.36,{"$f":"B80*'PRC model'!$B$27+'PRC model'!$C$27","v":-2.1234457715605561},0.20210223900822299]
[193,7.52,{"$f":"B81*'PRC model'!$B$27+'PRC model'!$C$27","v":-2.1743686600305412},0.18191976591156533]
[191,7.55,{"$f":"B82*'PRC model'!$B$27+'PRC model'!$C$27","v":-2.1839167016186636},0.17833994175913126]
[170,7.27,{"$f":"B83*'PRC model'!$B$27+'PRC model'!$C$27","v":-2.094801646796189},0.21429035168073918]
[190,7.46,{"$f":"B84*'PRC model'!$B$27+'PRC model'!$C$27","v":-2.1552725768542969},0.18927053887974377]
[198,7.62,{"$f":"B85*'PRC model'!$B$27+'PRC model'!$C$27","v":-2.2061954653242828},0.17022946462255206]
[203,7.65,{"$f":"B86*'PRC model'!$B$27+'PRC model'!$C$27","v":-2.2157435069124052},0.16685558212949203]
[196,7.65,{"$f":"B87*'PRC model'!$B$27+'PRC model'!$C$27","v":-2.2157435069124052},0.16685558212949203]
[195,7.56,{"$f":"B88*'PRC model'!$B$27+'PRC model'!$C$27","v":-2.187099382148038},0.17716063557516881]
[194,7.8,{"$f":"B89*'PRC model'!$B$27+'PRC model'!$C$27","v":-2.2634837148530162},0.15087179855909749]
[209,8.18,{"$f":"B90*'PRC model'!$B$27+'PRC model'!$C$27","v":-2.3844255749692325},0.11643717780428031]

{"sheet":"Kow_fitting","index":7,"n_rows":62,"n_cols":4,"rows_kept":62,"cut":false,"hidden":false,"merged":[]}
["log(Kow)","log(ke)","log(RD)","log(R )"]
[4,{"$f":"'PRC model'!$B$27*A2+'PRC model'!$C$27","v":-1.0540651136908568},{"$f":"'PRC model'!$B$31*A2+'PRC model'!$C$31","v":-2.6458003574267304},{"$f":"'PRC model'!$B$35*A2+'PRC model'!$C$35","v":0.24978292817519065}]
[{"$f":"A2+0.1","v":4.0999999999999996},{"$f":"'PRC model'!$B$27*A3+'PRC model'!$C$27","v":-1.0858919189845977},{"$f":"'PRC model'!$B$31*A3+'PRC model'!$C$31","v":-2.5322818794583597},{"$f":"'PRC model'!$B$35*A3+'PRC model'!$C$35","v":0.42815245070092978}]
[{"$f":"A3+0.1","v":4.1999999999999993},{"$f":"'PRC model'!$B$27*A4+'PRC model'!$C$27","v":-1.1177187242783386},{"$f":"'PRC model'!$B$31*A4+'PRC model'!$C$31","v":-2.418763401489989},{"$f":"'PRC model'!$B$35*A4+'PRC model'!$C$35","v":0.60652197322666801}]
[4.2999999999999989,{"$f":"'PRC model'!$B$27*A5+'PRC model'!$C$27","v":-1.1495455295720796},{"$f":"'PRC model'!$B$31*A5+'PRC model'!$C$31","v":-2.3052449235216184},{"$f":"'PRC model'!$B$35*A5+'PRC model'!$C$35","v":0.78489149575240713}]
[4.3999999999999986,{"$f":"'PRC model'!$B$27*A6+'PRC model'!$C$27","v":-1.1813723348658205},{"$f":"'PRC model'!$B$31*A6+'PRC model'!$C$31","v":-2.1917264455532468},{"$f":"'PRC model'!$B$35*A6+'PRC model'!$C$35","v":0.96326101827814536}]
[4.4999999999999982,{"$f":"'PRC model'!$B$27*A7+'PRC model'!$C$27","v":-1.2131991401595614},{"$f":"'PRC model'!$B$31*A7+'PRC model'!$C$31","v":-2.0782079675848761},{"$f":"'PRC model'!$B$35*A7+'PRC model'!$C$35","v":1.1416305408038845}]
[4.5999999999999979,{"$f":"'PRC model'!$B$27*A8+'PRC model'!$C$27","v":-1.2450259454533024},{"$f":"'PRC model'!$B$31*A8+'PRC model'!$C$31","v":-1.9646894896165055},{"$f":"'PRC model'!$B$35*A8+'PRC model'!$C$35","v":1.3200000633296227}]
[4.6999999999999975,{"$f":"'PRC model'!$B$27*A9+'PRC model'!$C$27","v":-1.2768527507470433},{"$f":"'PRC model'!$B$31*A9+'PRC model'!$C$31","v":-1.8511710116481348},{"$f":"'PRC model'!$B$35*A9+'PRC model'!$C$35","v":1.498369585855361}]
[4.7999999999999972,{"$f":"'PRC model'!$B$27*A10+'PRC model'!$C$27","v":-1.3086795560407842},{"$f":"'PRC model'!$B$31*A10+'PRC model'!$C$31","v":-1.7376525336797641},{"$f":"'PRC model'!$B$35*A10+'PRC model'!$C$35","v":1.676739108381101}]
[4.8999999999999968,{"$f":"'PRC model'!$B$27*A11+'PRC model'!$C$27","v":-1.3405063613345252},{"$f":"'PRC model'!$B$31*A11+'PRC model'!$C$31","v":-1.6241340557113935},{"$f":"'PRC model'!$B$35*A11+'PRC model'!$C$35","v":1.8551086309068392}]
[4.9999999999999964,{"$f":"'PRC model'!$B$27*A12+'PRC model'!$C$27","v":-1.3723331666282661},{"$f":"'PRC model'!$B$31*A12+'PRC model'!$C$31","v":-1.5106155777430228},{"$f":"'PRC model'!$B$35*A12+'PRC model'!$C$35","v":2.0334781534325774}]
[5.0999999999999961,{"$f":"'PRC model'!$B$27*A13+'PRC model'!$C$27","v":-1.404159971922007},{"$f":"'PRC model'!$B$31*A13+'PRC model'!$C$31","v":-1.3970970997746512},{"$f":"'PRC model'!$B$35*A13+'PRC model'!$C$35","v":2.2118476759583174}]
[5.1999999999999957,{"$f":"'PRC model'!$B$27*A14+'PRC model'!$C$27","v":-1.435986777215748},{"$f":"'PRC model'!$B$31*A14+'PRC model'!$C$31","v":-1.2835786218062806},{"$f":"'PRC model'!$B$35*A14+'PRC model'!$C$35","v":2.3902171984840557}]
[5.2999999999999954,{"$f":"'PRC model'!$B$27*A15+'PRC model'!$C$27","v":-1.4678135825094889},{"$f":"'PRC model'!$B$31*A15+'PRC model'!$C$31","v":-1.1700601438379099},{"$f":"'PRC model'!$B$35*A15+'PRC model'!$C$35","v":2.5685867210097939}]
[5.399999999999995,{"$f":"'PRC model'!$B$27*A16+'PRC model'!$C$27","v":-1.4996403878032298},{"$f":"'PRC model'!$B$31*A16+'PRC model'!$C$31","v":-1.0565416658695392},{"$f":"'PRC model'!$B$35*A16+'PRC model'!$C$35","v":2.7469562435355321}]
[5.4999999999999947,{"$f":"'PRC model'!$B$27*A17+'PRC model'!$C$27","v":-1.5314671930969708},{"$f":"'PRC model'!$B$31*A17+'PRC model'!$C$31","v":-0.94302318790116857},{"$f":"'PRC model'!$B$35*A17+'PRC model'!$C$35","v":2.9253257660612721}]
[5.5999999999999943,{"$f":"'PRC model'!$B$27*A18+'PRC model'!$C$27","v":-1.5632939983907117},{"$f":"'PRC model'!$B$31*A18+'PRC model'!$C$31","v":-0.8295047099327979},{"$f":"'PRC model'!$B$35*A18+'PRC model'!$C$35","v":3.1036952885870104}]
[5.699999999999994,{"$f":"'PRC model'!$B$27*A19+'PRC model'!$C$27","v":-1.5951208036844526},{"$f":"'PRC model'!$B$31*A19+'PRC model'!$C$31","v":-0.71598623196442723},{"$f":"'PRC model'!$B$35*A19+'PRC model'!$C$35","v":3.2820648111127486}]
[5.7999999999999936,{"$f":"'PRC model'!$B$27*A20+'PRC model'!$C$27","v":-1.6269476089781936},{"$f":"'PRC model'!$B$31*A20+'PRC model'!$C$31","v":-0.60246775399605568},{"$f":"'PRC model'!$B$35*A20+'PRC model'!$C$35","v":3.4604343336384886}]
[5.8999999999999932,{"$f":"'PRC model'!$B$27*A21+'PRC model'!$C$27","v":-1.6587744142719345},{"$f":"'PRC model'!$B$31*A21+'PRC model'!$C$31","v":-0.48894927602768501},{"$f":"'PRC model'!$B$35*A21+'PRC model'!$C$35","v":3.6388038561642269}]
[5.9999999999999929,{"$f":"'PRC model'!$B$27*A22+'PRC model'!$C$27","v":-1.6906012195656754},{"$f":"'PRC model'!$B$31*A22+'PRC model'!$C$31","v":-0.37543079805931434},{"$f":"'PRC model'!$B$35*A22+'PRC model'!$C$35","v":3.8171733786899651}]
[6.0999999999999925,{"$f":"'PRC model'!$B$27*A23+'PRC model'!$C$27","v":-1.7224280248594164},{"$f":"'PRC model'!$B$31*A23+'PRC model'!$C$31","v":-0.26191232009094367},{"$f":"'PRC model'!$B$35*A23+'PRC model'!$C$35","v":3.9955429012157033}]
[6.1999999999999922,{"$f":"'PRC model'!$B$27*A24+'PRC model'!$C$27","v":-1.7542548301531573},{"$f":"'PRC model'!$B$31*A24+'PRC model'!$C$31","v":-0.14839384212257301},{"$f":"'PRC model'!$B$35*A24+'PRC model'!$C$35","v":4.1739124237414433}]
[6.2999999999999918,{"$f":"'PRC model'!$B$27*A25+'PRC model'!$C$27","v":-1.786081635446898},{"$f":"'PRC model'!$B$31*A25+'PRC model'!$C$31","v":-3.4875364154202337E-2},{"$f":"'PRC model'!$B$35*A25+'PRC model'!$C$35","v":4.3522819462671816}]
[6.3999999999999915,{"$f":"'PRC model'!$B$27*A26+'PRC model'!$C$27","v":-1.8179084407406392},{"$f":"'PRC model'!$B$31*A26+'PRC model'!$C$31","v":7.8643113814169219E-2},{"$f":"'PRC model'!$B$35*A26+'PRC model'!$C$35","v":4.5306514687929198}]
[6.4999999999999911,{"$f":"'PRC model'!$B$27*A27+'PRC model'!$C$27","v":-1.8497352460343799},{"$f":"'PRC model'!$B$31*A27+'PRC model'!$C$31","v":0.19216159178253989},{"$f":"'PRC model'!$B$35*A27+'PRC model'!$C$35","v":4.7090209913186598}]
[6.5999999999999908,{"$f":"'PRC model'!$B$27*A28+'PRC model'!$C$27","v":-1.881562051328121},{"$f":"'PRC model'!$B$31*A28+'PRC model'!$C$31","v":0.30568006975091055},{"$f":"'PRC model'!$B$35*A28+'PRC model'!$C$35","v":4.887390513844398}]
[6.6999999999999904,{"$f":"'PRC model'!$B$27*A29+'PRC model'!$C$27","v":-1.9133888566218618},{"$f":"'PRC model'!$B$31*A29+'PRC model'!$C$31","v":0.41919854771928122},{"$f":"'PRC model'!$B$35*A29+'PRC model'!$C$35","v":5.0657600363701363}]
[6.7999999999999901,{"$f":"'PRC model'!$B$27*A30+'PRC model'!$C$27","v":-1.9452156619156029},{"$f":"'PRC model'!$B$31*A30+'PRC model'!$C$31","v":0.53271702568765189},{"$f":"'PRC model'!$B$35*A30+'PRC model'!$C$35","v":5.2441295588958745}]
[6.8999999999999897,{"$f":"'PRC model'!$B$27*A31+'PRC model'!$C$27","v":-1.9770424672093436},{"$f":"'PRC model'!$B$31*A31+'PRC model'!$C$31","v":0.64623550365602256},{"$f":"'PRC model'!$B$35*A31+'PRC model'!$C$35","v":5.4224990814216145}]
[6.9999999999999893,{"$f":"'PRC model'!$B$27*A32+'PRC model'!$C$27","v":-2.0088692725030848},{"$f":"'PRC model'!$B$31*A32+'PRC model'!$C$31","v":0.75975398162439323},{"$f":"'PRC model'!$B$35*A32+'PRC model'!$C$35","v":5.6008686039473528}]
[7.099999999999989,{"$f":"'PRC model'!$B$27*A33+'PRC model'!$C$27","v":-2.0406960777968255},{"$f":"'PRC model'!$B$31*A33+'PRC model'!$C$31","v":0.87327245959276478},{"$f":"'PRC model'!$B$35*A33+'PRC model'!$C$35","v":5.779238126473091}]
[7.1999999999999886,{"$f":"'PRC model'!$B$27*A34+'PRC model'!$C$27","v":-2.0725228830905666},{"$f":"'PRC model'!$B$31*A34+'PRC model'!$C$31","v":0.98679093756113456},{"$f":"'PRC model'!$B$35*A34+'PRC model'!$C$35","v":5.9576076489988292}]
[7.2999999999999883,{"$f":"'PRC model'!$B$27*A35+'PRC model'!$C$27","v":-2.1043496883843074},{"$f":"'PRC model'!$B$31*A35+'PRC model'!$C$31","v":1.1003094155295061},{"$f":"'PRC model'!$B$35*A35+'PRC model'!$C$35","v":6.1359771715245692}]
[7.3999999999999879,{"$f":"'PRC model'!$B$27*A36+'PRC model'!$C$27","v":-2.1361764936780485},{"$f":"'PRC model'!$B$31*A36+'PRC model'!$C$31","v":1.2138278934978759},{"$f":"'PRC model'!$B$35*A36+'PRC model'!$C$35","v":6.3143466940503075}]
[7.4999999999999876,{"$f":"'PRC model'!$B$27*A37+'PRC model'!$C$27","v":-2.1680032989717892},{"$f":"'PRC model'!$B$31*A37+'PRC model'!$C$31","v":1.3273463714662475},{"$f":"'PRC model'!$B$35*A37+'PRC model'!$C$35","v":6.4927162165760457}]
[7.5999999999999872,{"$f":"'PRC model'!$B$27*A38+'PRC model'!$C$27","v":-2.1998301042655304},{"$f":"'PRC model'!$B$31*A38+'PRC model'!$C$31","v":1.440864849434619},{"$f":"'PRC model'!$B$35*A38+'PRC model'!$C$35","v":6.6710857391017857}]
[7.6999999999999869,{"$f":"'PRC model'!$B$27*A39+'PRC model'!$C$27","v":-2.2316569095592711},{"$f":"'PRC model'!$B$31*A39+'PRC model'!$C$31","v":1.5543833274029888},{"$f":"'PRC model'!$B$35*A39+'PRC model'!$C$35","v":6.8494552616275239}]
[7.7999999999999865,{"$f":"'PRC model'!$B$27*A40+'PRC model'!$C$27","v":-2.2634837148530123},{"$f":"'PRC model'!$B$31*A40+'PRC model'!$C$31","v":1.6679018053713603},{"$f":"'PRC model'!$B$35*A40+'PRC model'!$C$35","v":7.0278247841532622}]
[7.8999999999999861,{"$f":"'PRC model'!$B$27*A41+'PRC model'!$C$27","v":-2.295310520146753},{"$f":"'PRC model'!$B$31*A41+'PRC model'!$C$31","v":1.7814202833397301},{"$f":"'PRC model'!$B$35*A41+'PRC model'!$C$35","v":7.2061943066790004}]
[7.9999999999999858,{"$f":"'PRC model'!$B$27*A42+'PRC model'!$C$27","v":-2.3271373254404941},{"$f":"'PRC model'!$B$31*A42+'PRC model'!$C$31","v":1.8949387613081017},{"$f":"'PRC model'!$B$35*A42+'PRC model'!$C$35","v":7.3845638292047404}]
[8.0999999999999854,{"$f":"'PRC model'!$B$27*A43+'PRC model'!$C$27","v":-2.3589641307342348},{"$f":"'PRC model'!$B$31*A43+'PRC model'!$C$31","v":2.0084572392764715},{"$f":"'PRC model'!$B$35*A43+'PRC model'!$C$35","v":7.5629333517304786}]
[8.1999999999999851,{"$f":"'PRC model'!$B$27*A44+'PRC model'!$C$27","v":-2.390790936027976},{"$f":"'PRC model'!$B$31*A44+'PRC model'!$C$31","v":2.121975717244843},{"$f":"'PRC model'!$B$35*A44+'PRC model'!$C$35","v":7.7413028742562169}]
[8.2999999999999847,{"$f":"'PRC model'!$B$27*A45+'PRC model'!$C$27","v":-2.4226177413217167},{"$f":"'PRC model'!$B$31*A45+'PRC model'!$C$31","v":2.2354941952132146},{"$f":"'PRC model'!$B$35*A45+'PRC model'!$C$35","v":7.9196723967819569}]
[8.3999999999999844,{"$f":"'PRC model'!$B$27*A46+'PRC model'!$C$27","v":-2.4544445466154579},{"$f":"'PRC model'!$B$31*A46+'PRC model'!$C$31","v":2.3490126731815844},{"$f":"'PRC model'!$B$35*A46+'PRC model'!$C$35","v":8.0980419193076951}]
[8.499999999999984,{"$f":"'PRC model'!$B$27*A47+'PRC model'!$C$27","v":-2.4862713519091986},{"$f":"'PRC model'!$B$31*A47+'PRC model'!$C$31","v":2.4625311511499559},{"$f":"'PRC model'!$B$35*A47+'PRC model'!$C$35","v":8.2764114418334334}]
[8.5999999999999837,{"$f":"'PRC model'!$B$27*A48+'PRC model'!$C$27","v":-2.5180981572029397},{"$f":"'PRC model'!$B$31*A48+'PRC model'!$C$31","v":2.5760496291183257},{"$f":"'PRC model'!$B$35*A48+'PRC model'!$C$35","v":8.4547809643591716}]
[8.6999999999999833,{"$f":"'PRC model'!$B$27*A49+'PRC model'!$C$27","v":-2.5499249624966804},{"$f":"'PRC model'!$B$31*A49+'PRC model'!$C$31","v":2.6895681070866972},{"$f":"'PRC model'!$B$35*A49+'PRC model'!$C$35","v":8.6331504868849116}]
[8.7999999999999829,{"$f":"'PRC model'!$B$27*A50+'PRC model'!$C$27","v":-2.5817517677904216},{"$f":"'PRC model'!$B$31*A50+'PRC model'!$C$31","v":2.8030865850550688},{"$f":"'PRC model'!$B$35*A50+'PRC model'!$C$35","v":8.8115200094106498}]
[8.8999999999999826,{"$f":"'PRC model'!$B$27*A51+'PRC model'!$C$27","v":-2.6135785730841623},{"$f":"'PRC model'!$B$31*A51+'PRC model'!$C$31","v":2.9166050630234386},{"$f":"'PRC model'!$B$35*A51+'PRC model'!$C$35","v":8.9898895319363881}]
[8.9999999999999822,{"$f":"'PRC model'!$B$27*A52+'PRC model'!$C$27","v":-2.6454053783779035},{"$f":"'PRC model'!$B$31*A52+'PRC model'!$C$31","v":3.0301235409918101},{"$f":"'PRC model'!$B$35*A52+'PRC model'!$C$35","v":9.1682590544621281}]
[9.0999999999999819,{"$f":"'PRC model'!$B$27*A53+'PRC model'!$C$27","v":-2.6772321836716442},{"$f":"'PRC model'!$B$31*A53+'PRC model'!$C$31","v":3.1436420189601799},{"$f":"'PRC model'!$B$35*A53+'PRC model'!$C$35","v":9.3466285769878663}]
[9.1999999999999815,{"$f":"'PRC model'!$B$27*A54+'PRC model'!$C$27","v":-2.7090589889653853},{"$f":"'PRC model'!$B$31*A54+'PRC model'!$C$31","v":3.2571604969285515},{"$f":"'PRC model'!$B$35*A54+'PRC model'!$C$35","v":9.5249980995136045}]
[9.2999999999999812,{"$f":"'PRC model'!$B$27*A55+'PRC model'!$C$27","v":-2.740885794259126},{"$f":"'PRC model'!$B$31*A55+'PRC model'!$C$31","v":3.3706789748969213},{"$f":"'PRC model'!$B$35*A55+'PRC model'!$C$35","v":9.7033676220393428}]
[9.3999999999999808,{"$f":"'PRC model'!$B$27*A56+'PRC model'!$C$27","v":-2.7727125995528672},{"$f":"'PRC model'!$B$31*A56+'PRC model'!$C$31","v":3.4841974528652928},{"$f":"'PRC model'!$B$35*A56+'PRC model'!$C$35","v":9.881737144565081}]
[9.4999999999999805,{"$f":"'PRC model'!$B$27*A57+'PRC model'!$C$27","v":-2.8045394048466079},{"$f":"'PRC model'!$B$31*A57+'PRC model'!$C$31","v":3.5977159308336644},{"$f":"'PRC model'!$B$35*A57+'PRC model'!$C$35","v":10.060106667090819}]
[9.5999999999999801,{"$f":"'PRC model'!$B$27*A58+'PRC model'!$C$27","v":-2.8363662101403491},{"$f":"'PRC model'!$B$31*A58+'PRC model'!$C$31","v":3.7112344088020341},{"$f":"'PRC model'!$B$35*A58+'PRC model'!$C$35","v":10.238476189616561}]
[9.6999999999999797,{"$f":"'PRC model'!$B$27*A59+'PRC model'!$C$27","v":-2.8681930154340898},{"$f":"'PRC model'!$B$31*A59+'PRC model'!$C$31","v":3.8247528867704057},{"$f":"'PRC model'!$B$35*A59+'PRC model'!$C$35","v":10.416845712142299}]
[9.7999999999999794,{"$f":"'PRC model'!$B$27*A60+'PRC model'!$C$27","v":-2.9000198207278309},{"$f":"'PRC model'!$B$31*A60+'PRC model'!$C$31","v":3.9382713647387755},{"$f":"'PRC model'!$B$35*A60+'PRC model'!$C$35","v":10.595215234668037}]
[9.899999999999979,{"$f":"'PRC model'!$B$27*A61+'PRC model'!$C$27","v":-2.9318466260215716},{"$f":"'PRC model'!$B$31*A61+'PRC model'!$C$31","v":4.051789842707147},{"$f":"'PRC model'!$B$35*A61+'PRC model'!$C$35","v":10.773584757193776}]
[9.9999999999999787,{"$f":"'PRC model'!$B$27*A62+'PRC model'!$C$27","v":-2.9636734313153128},{"$f":"'PRC model'!$B$31*A62+'PRC model'!$C$31","v":4.1653083206755168},{"$f":"'PRC model'!$B$35*A62+'PRC model'!$C$35","v":10.951954279719514}]